BEGIN:VCALENDAR
VERSION:2.0
PRODID:-//Consorci de les Gavarres - ECPv6.15.20//NONSGML v1.0//EN
CALSCALE:GREGORIAN
METHOD:PUBLISH
X-WR-CALNAME:Consorci de les Gavarres
X-ORIGINAL-URL:https://www.gavarres.cat
X-WR-CALDESC:Esdeveniments per Consorci de les Gavarres
REFRESH-INTERVAL;VALUE=DURATION:PT1H
X-Robots-Tag:noindex
X-PUBLISHED-TTL:PT1H
BEGIN:VTIMEZONE
TZID:Europe/Madrid
BEGIN:DAYLIGHT
TZOFFSETFROM:+0100
TZOFFSETTO:+0200
TZNAME:CEST
DTSTART:20250330T010000
END:DAYLIGHT
BEGIN:STANDARD
TZOFFSETFROM:+0200
TZOFFSETTO:+0100
TZNAME:CET
DTSTART:20251026T010000
END:STANDARD
BEGIN:DAYLIGHT
TZOFFSETFROM:+0100
TZOFFSETTO:+0200
TZNAME:CEST
DTSTART:20260329T010000
END:DAYLIGHT
BEGIN:STANDARD
TZOFFSETFROM:+0200
TZOFFSETTO:+0100
TZNAME:CET
DTSTART:20261025T010000
END:STANDARD
BEGIN:DAYLIGHT
TZOFFSETFROM:+0100
TZOFFSETTO:+0200
TZNAME:CEST
DTSTART:20270328T010000
END:DAYLIGHT
BEGIN:STANDARD
TZOFFSETFROM:+0200
TZOFFSETTO:+0100
TZNAME:CET
DTSTART:20271031T010000
END:STANDARD
END:VTIMEZONE
BEGIN:VEVENT
DTSTART;TZID=Europe/Madrid:20260307T090000
DTEND;TZID=Europe/Madrid:20260307T120000
DTSTAMP:20260424T195547
CREATED:20260227T124055Z
LAST-MODIFIED:20260302T084724Z
UID:3499-1772874000-1772884800@www.gavarres.cat
SUMMARY:Descobrim els prats d'Esclet 07/03
DESCRIPTION:El dissabte 7 de març us proposem una sortida un xic diferent. Tot i que l’objectiu és el mateix\, conèixer territori i divulgar-ne els seus valors\, ens allunyarem un xic de les Gavarres per anar a Esclet. \nEl pla d’Esclet conserva un dels darrers prats de dall litorals de Catalunya\, uns hàbitats seminaturals de gran valor ecològic i patrimonial\, estretament dependents de les dinàmiques d’inundació naturals i de pràctiques agrícoles ancestrals com el dall i la pastura extensiva\, avui gairebé desaparegudes a la terra baixa. Aquests prats són molt més que camps d’herba: acullen una elevada diversitat de flora i fauna\, amb presència d’espècies rares i amenaçades\, i constitueixen un element clau del patrimoni natural\, històric i paisatgístic de la plana selvatana. Amb Miguel Ángel Fuentes d’Econodes iniciarem un recorregut a les 9h del matí a l’ermita de Sant Vicenç d’Esclet\, que recorrerà els prats de dall i els recs i rieres que vertebren aquest singular paisatge (la Cagarella\, la Verneda i la Gotarra). Porteu calçat i roba còmode per fer una passejada de tres hores\, també us recomanem que porteu el menjar i el beure que considereu. \nL’activitat és gratuïta però cal inscriure’s al formulari de sota.
URL:https://www.gavarres.cat/event/descobrim-els-prats-desclet-07-03/
CATEGORIES:Activitat familiar,Sortida d'observació
ATTACH;FMTTYPE=image/jpeg:https://www.gavarres.cat/wp-content/uploads/2026/02/Post_Esclet.jpg
END:VEVENT
BEGIN:VEVENT
DTSTART;TZID=Europe/Madrid:20260313T090000
DTEND;TZID=Europe/Madrid:20260313T133000
DTSTAMP:20260424T195547
CREATED:20260311T112529Z
LAST-MODIFIED:20260311T115844Z
UID:3530-1773392400-1773408600@www.gavarres.cat
SUMMARY:Cork Works: usos del suro en construcció
DESCRIPTION:El divendres 13 de març organitzem conjuntament amb la Fundació ICSuro i GRETA una jornada amb professionals i experts del món de la construcció per explorar i valorar el paper i l’ús del suro en la construcció contemporània. La jornada abordarà els usos arquitectònics d’aquest material i les seves aplicacions actuals. Entre la tradició i l’eficiència contemporània. \nAmb exemples concrets i una demostració real d’aplicació de morters amb suro\, els participants podran conèixer de manera completa i pràctica totes les possibilitats que ofereixen. Podeu formalitzar la vostra inscripció al següent link a la Generalitat de Catalunya. La jornada s’iniciarà a les 9h del matí a l’Auditori de l’IRTA a Monells. Programa:\n\n9h Benvinguda i presentació de la jornada\n9.15h Ponències introductòries: La sureda\, habitat representatiu de Les Gavarres a càrrec de Quim Gubau (Consorci de les Gavarres)\, Aplicacions del suro en arquitectura a càrrec de Maria Verdum (Fundació ICSuro) i Arquitectura tradicional i ús de materials naturals a càrrec de Martí Ferrer (GRETA).\n10h La modernitat sostenible. Quan el low-tech va ser hig-tech\n10.45h Casos d’èxit: Barnacork\, Com-Cal i Kliu Cork.\n11:45h Pausa\n12.30h Visita comentada a La Pera. Explicació i demostració d’aplicació de morters (calç amb suro i terra amb suro) a càrrec d’Olga Muñoz i Josep Mª Teixidor.\n13.30h Fi de la jornada
URL:https://www.gavarres.cat/event/cork-works-usos-del-suro-en-construccio/
CATEGORIES:Xerrada
ATTACH;FMTTYPE=image/jpeg:https://www.gavarres.cat/wp-content/uploads/2026/03/Jornada-PATT.jpg
END:VEVENT
BEGIN:VEVENT
DTSTART;TZID=Europe/Madrid:20260322T100000
DTEND;TZID=Europe/Madrid:20260322T130000
DTSTAMP:20260424T195547
CREATED:20260305T103946Z
LAST-MODIFIED:20260306T125946Z
UID:3512-1774173600-1774184400@www.gavarres.cat
SUMMARY:Conviure amb el foc a Sant Sadurní de l'Heura 22/03
DESCRIPTION:El foc és un element natural més que hauríem de tenir en conta que forma part dels nostres boscos. La natura ho té ben present i es prepara per si un dia passa; cada espècies té les seves estratègies i us proposem una passejada per parlar-ne\, veure-les in situ i explicar com des de la gestió forestal podem ajudar a fer més resilients els nostres boscos. Qui ens vulgui acompanyar el punt de trobada és al pàrquing davant de la Concòrdia a Sant Sadurní de l’Heura\, el proper diumenge 22 de març. Ens trobarem allà a les 9h i de la mà de Joan Feliu de Gisfera farem una passejada per una zona que es va cremar al 2016. Trobarem traces d’aquest foc? Tu el recordes? Els bombers van fer un vídeo de la seva actuació que podeu trobar al youtube. \nL’activitat és gratuïta però cal inscriure’s al formulari que trobareu a sota. \n 
URL:https://www.gavarres.cat/event/conviure-amb-el-foc-a-sant-sadurni-de-lheura-22-03/
CATEGORIES:Activitat familiar,Sortida d'observació
ATTACH;FMTTYPE=image/jpeg:https://www.gavarres.cat/wp-content/uploads/2026/03/Post_ConviureFoc_CMStS-1.jpg
END:VEVENT
BEGIN:VEVENT
DTSTART;TZID=Europe/Madrid:20260328T100000
DTEND;TZID=Europe/Madrid:20260328T130000
DTSTAMP:20260424T195547
CREATED:20260311T120154Z
LAST-MODIFIED:20260327T101718Z
UID:3521-1774692000-1774702800@www.gavarres.cat
SUMMARY:Petits Exploradors de les Gavarres a Madremanya 28/03
DESCRIPTION:L’activitat dels “Petits Exploradors” va passant pels diferents pobles de les Gavarres i el proper dissabte 28 de març l’organitzem a Madremanya. En Joan Feliu\, de Gisfera\, convidarà els participants a despertar la mirada curiosa i a descobrir els petits indicis que deixen els habitants més discrets del bosc. Durant una caminada per l’entorn gavarrenc del municipi\, en Joan ens mostrarà com identificar les petjades i altres senyals dels animals que viuen en aquests boscos\, explicant com són\, de què s’alimenten\, quins hàbits tenen i com es desenvolupen. D’aquesta manera donem a conèixer de forma educativa i didàctica animals com el teixó\, la geneta\, l’esquirol\, el conill\, etc. alguns són autèntics desconeguts per la mainada. En acabar l’activitat\, segur que us sentireu com veritables exploradors de les Gavarres. \nEl punt de trobada és el CIR de Madremanya a les 10h!
URL:https://www.gavarres.cat/event/petits-exploradors-de-les-gavarres-a-madremanya-28-03/
CATEGORIES:Activitat familiar,Sortida d'observació
ATTACH;FMTTYPE=image/jpeg:https://www.gavarres.cat/wp-content/uploads/2026/03/Post_PetitsExploradors_Madremanya-1.jpg
END:VEVENT
END:VCALENDAR