BEGIN:VCALENDAR
VERSION:2.0
PRODID:-//Consorci de les Gavarres - ECPv6.15.20//NONSGML v1.0//EN
CALSCALE:GREGORIAN
METHOD:PUBLISH
X-WR-CALNAME:Consorci de les Gavarres
X-ORIGINAL-URL:https://www.gavarres.cat
X-WR-CALDESC:Esdeveniments per Consorci de les Gavarres
REFRESH-INTERVAL;VALUE=DURATION:PT1H
X-Robots-Tag:noindex
X-PUBLISHED-TTL:PT1H
BEGIN:VTIMEZONE
TZID:Europe/Madrid
BEGIN:DAYLIGHT
TZOFFSETFROM:+0100
TZOFFSETTO:+0200
TZNAME:CEST
DTSTART:20240331T010000
END:DAYLIGHT
BEGIN:STANDARD
TZOFFSETFROM:+0200
TZOFFSETTO:+0100
TZNAME:CET
DTSTART:20241027T010000
END:STANDARD
BEGIN:DAYLIGHT
TZOFFSETFROM:+0100
TZOFFSETTO:+0200
TZNAME:CEST
DTSTART:20250330T010000
END:DAYLIGHT
BEGIN:STANDARD
TZOFFSETFROM:+0200
TZOFFSETTO:+0100
TZNAME:CET
DTSTART:20251026T010000
END:STANDARD
BEGIN:DAYLIGHT
TZOFFSETFROM:+0100
TZOFFSETTO:+0200
TZNAME:CEST
DTSTART:20260329T010000
END:DAYLIGHT
BEGIN:STANDARD
TZOFFSETFROM:+0200
TZOFFSETTO:+0100
TZNAME:CET
DTSTART:20261025T010000
END:STANDARD
END:VTIMEZONE
BEGIN:VEVENT
DTSTART;TZID=Europe/Madrid:20250504T100000
DTEND;TZID=Europe/Madrid:20250504T130000
DTSTAMP:20260419T180444
CREATED:20250423T082728Z
LAST-MODIFIED:20250428T065826Z
UID:2745-1746352800-1746363600@www.gavarres.cat
SUMMARY:Petits exploradors de les Gavarres (Cassà) 04/05
DESCRIPTION:El diumenge 4 de maig proposem als més petits una activitat per explorar i descobrir la fauna que tenen al costat de casa. És important conèixer i valorar els animals del nostre territori tot i que aquests no ens ho posa fàcil\, la majoria de les espècies de Gavarres són nocturnes. El dia 4 ens dedicarem a buscar els seus rastres: caus\, excrements\, petjades\, etc. i saber-los identificar. Com són\, què mengen\, quin és el seu paper dins l’ecosistema seran algunes de les coses que podrem aprendre tot explorant la natura. \nEl punt de trobada és a Can Vilallonga a les 10h del matí i l’activitat durarà unes dues hores. Porteu calçat i roba còmode així com protecció solar. Porteu aigua i alguna cosa de menjar -si ho considereu. \nL’activitat és gratuïta però cal apuntar-se al formulari adjunt.
URL:https://www.gavarres.cat/event/petits-exploradors-de-les-gavarres-cassa-04-05/
LOCATION:Girona
CATEGORIES:Activitat familiar
ATTACH;FMTTYPE=image/jpeg:https://www.gavarres.cat/wp-content/uploads/2025/04/WhatsApp-Image-2025-04-06-at-12.26.55-RETALL.jpg
END:VEVENT
BEGIN:VEVENT
DTSTART;TZID=Europe/Madrid:20250510T160000
DTEND;TZID=Europe/Madrid:20250510T170000
DTSTAMP:20260419T180444
CREATED:20250505T081056Z
LAST-MODIFIED:20250509T093946Z
UID:2787-1746892800-1746896400@www.gavarres.cat
SUMMARY:Artesania de la Terra: històries de terrissers a la vora del foc
DESCRIPTION:Durant el mes de maig ens endinsarem en la terrissa de Quart. Ens hi acompanyeu?! \nEl proper dissabte 10 de maig\, els terrissers ens explicaran històries a la vora del foc\, durant la cuita de terrissaque es durà a terme al forn de llenya del Museu de la Terrissa en el marc de la Festa del Fang. En Narcís Soler\, arqueòleg i prehistoriador expert en terrissa\, posarà veu a les millors anècdotes i curiositats del món terrisser. \nHorari: de 16.00h a 17.00h \nPreu: gratuït \nPunt de trobada:\nMuseu de la Terrissa de Quart\nCarrer del Tren\, 58 – 17242 Quart \n✅ Activitat gratuïta i sense inscripció
URL:https://www.gavarres.cat/event/artesania-de-la-terra-10/
LOCATION:Museu de la Terrissa de Quart\, Carrer Tren\, 58\, Quart\, Girona\, 17242\, Espanya
ATTACH;FMTTYPE=image/jpeg:https://www.gavarres.cat/wp-content/uploads/2025/05/Copia-de-ARTESANIA-DE-LA-TERRA_TERRISSA-1.jpg
END:VEVENT
BEGIN:VEVENT
DTSTART;TZID=Europe/Madrid:20250517T110000
DTEND;TZID=Europe/Madrid:20250517T133000
DTSTAMP:20260419T180444
CREATED:20250505T082548Z
LAST-MODIFIED:20250516T124118Z
UID:2791-1747479600-1747488600@www.gavarres.cat
SUMMARY:Artesania de la Terra: visita guiada al Museu de la Terrissa i degustació de vins naturals
DESCRIPTION:Aquest mes de maig us proposem endinsar-vos al món dels terrissers! \nDissabte 17 de maig\, gaudirem d’una visita guiada al Museu e la Terrissa acompanyats per un terrisser i tastarem vins naturals madurats amb cossis de ceràmica negra de Quart de la mà seu productor. \nHorari: de 11.00h a 13.30h \nPreu: 8€/adult (3€ de descompte amb el carnet Q-Art Som Cultura!) \nPunt de trobada:\nMuseu de la Terrissa de Quart\nCarrer del Tren\, 58 – 17242 Quart \nInscripcions tancades
URL:https://www.gavarres.cat/event/artesania-de-la-terra-17/
LOCATION:Museu de la Terrissa de Quart\, Carrer Tren\, 58\, Quart\, Girona\, 17242\, Espanya
ATTACH;FMTTYPE=image/jpeg:https://www.gavarres.cat/wp-content/uploads/2025/05/Copia-de-ARTESANIA-DE-LA-TERRA_TERRISSA-1.jpg
END:VEVENT
BEGIN:VEVENT
DTSTART;TZID=Europe/Madrid:20250518T100000
DTEND;TZID=Europe/Madrid:20250518T130000
DTSTAMP:20260419T180444
CREATED:20250430T055718Z
LAST-MODIFIED:20250514T100236Z
UID:2768-1747562400-1747573200@www.gavarres.cat
SUMMARY:NOVA DATA! Què ens expliquen els ocells? 18/05
DESCRIPTION:El proper diumenge 18 de maig us proposem una activitat per conèixer de bon a prop els ocells que ens envolten i que sense adonar-nos-en en sentim el cant a cada excursió que fem. Per poder-los veure comptarem amb l’anellador Miguel Ángel Fuentes que ens introduirà en el món de les aus. Quines viuen amb nosaltres tot l’any i quines només en visiten a la primavera-estiu? Què s’estudia dels ocells? Quines mesures agafen i quina informació els hi aporta? Aquestes respostes les podreu conèixer el dia 18. \nL’activitat és gratuïta i durarà unes tres hores porteu calçat\, roba còmode\, protecció solar i el menjar i beure que considereu. \nPer assistir us heu d’inscriure al formulari adjunt i ens trobarem tots plegats a les 10h al cementiri de Llambilles.
URL:https://www.gavarres.cat/event/que-ens-expliquen-els-ocells-10-05/
LOCATION:Girona
CATEGORIES:Activitat familiar,Sortida d'observació
ATTACH;FMTTYPE=image/jpeg:https://www.gavarres.cat/wp-content/uploads/2025/04/ocells.jpg
END:VEVENT
BEGIN:VEVENT
DTSTART;TZID=Europe/Madrid:20250524T100000
DTEND;TZID=Europe/Madrid:20250524T130000
DTSTAMP:20260419T180444
CREATED:20250505T084542Z
LAST-MODIFIED:20250521T064209Z
UID:2799-1748080800-1748091600@www.gavarres.cat
SUMMARY:Artesania de la terra: taller de motlles
DESCRIPTION:Aquest mes us proposem endinsar-vos al món dels terrissers! \nDissabte 24 de maig\, els petits de la casa descobriran la tècnica d’emmollat i aprendran com reproduir peces de ceràmica tantes vegades com vulguin. \nHorari: de 11.00h a 13.00h \nPreu: gratuït \nPunt de trobada:\nMuseu de la Terrissa de Quart\nCarrer del Tren\, 58 – 17242 Quart \nInscripcions:\n– A través del formulari que trobareu al final de la pàgina. Si us plau\, concreteu quants assistents seran adults i quants infants. Recordeu que els infants hauran d’anar acompanyats d’un adult.\n– Enviant un correu a amarin@gavarres.cat
URL:https://www.gavarres.cat/event/artesania-de-la-terra-24/
LOCATION:Museu de la Terrissa de Quart\, Carrer Tren\, 58\, Quart\, Girona\, 17242\, Espanya
ATTACH;FMTTYPE=image/jpeg:https://www.gavarres.cat/wp-content/uploads/2025/05/Copia-de-ARTESANIA-DE-LA-TERRA_TERRISSA-1.jpg
END:VEVENT
BEGIN:VEVENT
DTSTART;TZID=Europe/Madrid:20250524T170000
DTEND;TZID=Europe/Madrid:20250524T210000
DTSTAMP:20260419T180444
CREATED:20250519T114749Z
LAST-MODIFIED:20250521T060634Z
UID:2844-1748106000-1748120400@www.gavarres.cat
SUMMARY:Corriols\, racons de l'Empordà. El riu Daró 24/05. ACT.PLENA!
DESCRIPTION:L’associació Jovent Ecologista Empordanès ha organitzat una descoberta del riu Daró per conèixer les seves poblacions d’amfibis i peixos autòctons. La sortida anirà a càrrec de Miquel Tortós-Sala i en Quim Carol. El punt de trobada és a les 17h de la tarda a La Palanca de Cruïlles\, cal portar aigua\, calçat còmode/botes impermeables i un lot/frontal. \nL’activitat és gratuïta i només cal apuntar-se a jovent.e.empordanes@gmail.com o bé al 666825958. \nACTIVITAT PLENA
URL:https://www.gavarres.cat/event/corriols-racons-de-lemporda-el-riu-daro-24-05/
LOCATION:Girona
CATEGORIES:Sortida d'observació
ATTACH;FMTTYPE=image/jpeg:https://www.gavarres.cat/wp-content/uploads/2025/05/WhatsApp-Image-2025-05-15-at-12.25.45.jpeg
END:VEVENT
BEGIN:VEVENT
DTSTART;TZID=Europe/Madrid:20250524T190000
DTEND;TZID=Europe/Madrid:20250524T200000
DTSTAMP:20260419T180444
CREATED:20250514T133618Z
LAST-MODIFIED:20250514T133618Z
UID:2836-1748113200-1748116800@www.gavarres.cat
SUMMARY:Concert de música clàssica a càrrec de la violoncelista Clara Pouvreau emmarcat dins del nou cicle de música de Quart Sons de les Gavarres.
DESCRIPTION:Sons de les Gavarres és un conjunt de concerts en espais patrimonials que pretén establir un diàleg únic entre la música i el territori. La iniciativa neix amb l’objectiu de posar en relleu el patrimoni arquitectònic i històric del municipi\, tot acostant diferents gèneres musicals a la ciutadania. \nEl concert de Clara Pouvreau es durà a terme a l’Església de Sant Mateu de Montnegre amb “SOLO” CELLO. \n\nPreu:\n\nEntrada al concert: 8€ (3€ amb el carnet Q-ART\, Som Cultura!)\nPaquet d’entrada als 4 concerts: 30€ (10€ amb el carnet Q-ART\, Som Cultura!)\n\n\n\n\nCompra d’entrades:\n\nEntrada al concert: aquí\nEntrada amb descompte\, presencialment a l’Oficina d’Atenció a la Ciutadania (OAC) de l’Ajuntament de Quart a l’Estació Jove\, de dilluns a divendres\, de 8.00 a 14.00 hores\, i dimarts de 16.00 a 19.00 hores\, mostrant el carnet Q-ART\, Som Cultura!.\nPaquet d’entrada als 4 concerts: aquí\nPaquet d’entrada als 4 concerts amb descompte\, presencialment a l’Oficina d’Atenció a la Ciutadania (OAC) de l’Ajuntament de Quart a l’Estació Jove\, de dilluns a divendres\, de 8.00 a 14.00 hores\, i dimarts de 16.00 a 19.00 hores\, mostrant el carnet Q-ART\, Som Cultura!.
URL:https://www.gavarres.cat/event/concert-de-musica-classica-a-carrec-de-la-violoncelista-clara-pouvreau-emmarcat-dins-del-nou-cicle-de-musica-de-quart-sons-de-les-gavarres/
LOCATION:Esglesia de Sant Mateu Montnegre de Quart
ATTACH;FMTTYPE=image/jpeg:https://www.gavarres.cat/wp-content/uploads/2025/05/Unknown-1.jpeg
END:VEVENT
BEGIN:VEVENT
DTSTART;TZID=Europe/Madrid:20250525T110000
DTEND;TZID=Europe/Madrid:20250525T123000
DTSTAMP:20260419T180444
CREATED:20250512T060015Z
LAST-MODIFIED:20250521T122550Z
UID:2807-1748170800-1748176200@www.gavarres.cat
SUMMARY:Ioga a Torrent 25/05
DESCRIPTION:El diumenge 25 de maig us proposem una manera diferent d’acostar-vos a la natura. En aquest cas no hem programat una passejada o un taller\, sinó una classe de ioga. És una evidència que el contacte amb la natura ens ajuda en el nostre benestar emocional i ens sembla una bona manera de fer-ho practicant ioga\, no caldrà ser un expert\, només caldrà portar una màrfega i aigua. \nEl punt de trobada serà l’ermita de Sant Llop a Torrent. La classe anirà a càrrec de l’espai Mirra i durarà de les 11:00 a les 12:30h. L’activitat és gratuïta però les places són limitades\, cal inscriure’s al formulari de sota.
URL:https://www.gavarres.cat/event/ioga-a-torrent-25-05/
LOCATION:Girona
CATEGORIES:Activitat esportiva
ATTACH;FMTTYPE=image/jpeg:https://www.gavarres.cat/wp-content/uploads/2025/05/ioga.jpg
END:VEVENT
BEGIN:VEVENT
DTSTART;TZID=Europe/Madrid:20250531T093000
DTEND;TZID=Europe/Madrid:20250531T110000
DTSTAMP:20260419T180444
CREATED:20250331T055149Z
LAST-MODIFIED:20250529T114425Z
UID:2654-1748683800-1748689200@www.gavarres.cat
SUMMARY:Els tres senglars i el gran incendi forestal a les Gavarres 31/05
DESCRIPTION:El dissabte 31 de maig en el marc de la Fira del Tap a Cassà de la Selva us proposem una activitat familiar per conèixer el bosc mediterrani que ens envolta. Si voleu passar un matí divertit i aprenent veniu a la Can Vilallonga (Cassà) a les 9.30h del matí. Allà un membre de Gisfera ens explicarà una versió del conte tradicional dels Tres Porquets titulat “Els Tres Senglars i el gran incendi forestal”. A través de diferents dinàmiques de joc coneixerem com la vegetació s’adapta a les condicions climàtiques i als incendis forestals\, també parlarem de com la gestió forestal pot ajudar per tal de reduir el risc de grans incendis forestals i afectacions a les zones habitades. \nL’activitat és gratuïta\, només cal que us inscriviu al formulari de sota.
URL:https://www.gavarres.cat/event/els-tres-porquets-i-el-gran-incendi-forestal-a-les-gavarres-13-04/
LOCATION:Girona
CATEGORIES:Activitat familiar
ATTACH;FMTTYPE=image/jpeg:https://www.gavarres.cat/wp-content/uploads/2025/03/3Porquets.jpg
END:VEVENT
BEGIN:VEVENT
DTSTART;TZID=Europe/Madrid:20250531T210000
DTEND;TZID=Europe/Madrid:20250531T220000
DTSTAMP:20260419T180444
CREATED:20250514T133425Z
LAST-MODIFIED:20250514T133425Z
UID:2832-1748725200-1748728800@www.gavarres.cat
SUMMARY:Concert de jazz a càrrec de la formació Wax & Boogie emmarcat dins del nou cicle de música de Quart Sons de les Gavarres.
DESCRIPTION:Sons de les Gavarres és un conjunt de concerts en espais patrimonials que pretén establir un diàleg únic entre la música i el territori. La iniciativa neix amb l’objectiu de posar en relleu el patrimoni arquitectònic i històric del municipi\, tot acostant diferents gèneres musicals a la ciutadania. \nEl concert de Wax & Boogie es durà a terme a l’esplanada de l’Església de Santa Margarida de Quart. \nHi haurà servei de food-trucks i restauració. A més\, en acabar el concert\, hi haurà una sessió de DJ’s! \n\nPreu:\n\nEntrada al concert + una beguda (refresc\, aigua o cervesa): 10€ (5€ amb el carnet Q-ART\, Som Cultura!)\n\n\nCompra d’entrades:\n\nEntrada al concert amb una beguda: aquí\nEntrada amb descompte\, presencialment a l’Oficina d’Atenció a la Ciutadania (OAC) de l’Ajuntament de Quart a l’Estació Jove\, de dilluns a divendres\, de 8.00 a 14.00 hores\, i dimarts de 16.00 a 19.00 hores\, mostrant el carnet Q-ART\, Som Cultura!.
URL:https://www.gavarres.cat/event/concert-de-jazz-a-carrec-de-la-formacio-wax-boogie-emmarcat-dins-del-nou-cicle-de-musica-de-quart-sons-de-les-gavarres/
LOCATION:Exterior de l’antiga rectoria de Quart
ATTACH;FMTTYPE=image/jpeg:https://www.gavarres.cat/wp-content/uploads/2025/05/Unknown-1.jpeg
END:VEVENT
END:VCALENDAR