BEGIN:VCALENDAR
VERSION:2.0
PRODID:-//Consorci de les Gavarres - ECPv6.15.20//NONSGML v1.0//EN
CALSCALE:GREGORIAN
METHOD:PUBLISH
X-WR-CALNAME:Consorci de les Gavarres
X-ORIGINAL-URL:https://www.gavarres.cat
X-WR-CALDESC:Esdeveniments per Consorci de les Gavarres
REFRESH-INTERVAL;VALUE=DURATION:PT1H
X-Robots-Tag:noindex
X-PUBLISHED-TTL:PT1H
BEGIN:VTIMEZONE
TZID:Europe/Madrid
BEGIN:DAYLIGHT
TZOFFSETFROM:+0100
TZOFFSETTO:+0200
TZNAME:CEST
DTSTART:20240331T010000
END:DAYLIGHT
BEGIN:STANDARD
TZOFFSETFROM:+0200
TZOFFSETTO:+0100
TZNAME:CET
DTSTART:20241027T010000
END:STANDARD
BEGIN:DAYLIGHT
TZOFFSETFROM:+0100
TZOFFSETTO:+0200
TZNAME:CEST
DTSTART:20250330T010000
END:DAYLIGHT
BEGIN:STANDARD
TZOFFSETFROM:+0200
TZOFFSETTO:+0100
TZNAME:CET
DTSTART:20251026T010000
END:STANDARD
BEGIN:DAYLIGHT
TZOFFSETFROM:+0100
TZOFFSETTO:+0200
TZNAME:CEST
DTSTART:20260329T010000
END:DAYLIGHT
BEGIN:STANDARD
TZOFFSETFROM:+0200
TZOFFSETTO:+0100
TZNAME:CET
DTSTART:20261025T010000
END:STANDARD
END:VTIMEZONE
BEGIN:VEVENT
DTSTART;TZID=Europe/Madrid:20250405T100000
DTEND;TZID=Europe/Madrid:20250405T130000
DTSTAMP:20260419T163052
CREATED:20250325T064342Z
LAST-MODIFIED:20250326T084943Z
UID:2634-1743847200-1743858000@www.gavarres.cat
SUMMARY:Ruta megalítica a Romanyà de la Selva (Gavarres) 05/04
DESCRIPTION:El dissabte 5 d’abril us proposem una passejada per Romanyà de la Selva amb en Xavier Niell d’Atzagaia per parlar dels testimonis més antics del poblament a les Gavarres. El punt de trobada és a les 10h a l’aparcament del dolmen de la Cova d’en Daina. A més d’aquest element declarat Bé Cultural d’Interès Nacional (BCIN) veurem el suro del Xato\, les Pedres Grosses\, la Font del Prat\, el Menhir de la Murtra i el Cementiri de Romanyà\, on està enterrada l’escriptora Mercè Rodoreda. Tot plegat amb la companyia i guiatge de l’arqueòleg Xavier Niell. \nPels més petits i no tan petits acabarem amb una demostració de com s’obtenia el foc a l’època neolítica i de la cultura material d’aquesta època. Així\, a més d’haver vist com s’enterraven en aquesta època podrem copsar com vivien. Cal dir que a Gavarres s’han localitzat moltes tombes d’aquest moment històric però els poblats continuen sent un misteri. \nCal portar calçat i roba còmode\, així com el menjar i el beure que es consideri necessari. L’activitat és gratuïta però cal apuntar-se al formulari de sota. Aquesta activitat compta amb la col·laboració de l’Ajuntament de Santa Cristina.
URL:https://www.gavarres.cat/event/ruta-megalitica-a-romanya-de-la-selva-gavarres-05-04/
LOCATION:Girona
CATEGORIES:Activitat familiar,Ruta
ATTACH;FMTTYPE=image/jpeg:https://www.gavarres.cat/wp-content/uploads/2025/03/pano-2-cova-Daina.jpg
END:VEVENT
BEGIN:VEVENT
DTSTART;TZID=Europe/Madrid:20250406T100000
DTEND;TZID=Europe/Madrid:20250406T130000
DTSTAMP:20260419T163052
CREATED:20250325T085819Z
LAST-MODIFIED:20250401T064349Z
UID:2643-1743933600-1743944400@www.gavarres.cat
SUMMARY:Petits exploradors a Juià (06/04)
DESCRIPTION:El diumenge 6 d’abril proposem una activitat per fer d’exploradors i descobrir quines traces deixen els animals que viuen al nostre entorn. Aquests són petits\, nocturns i fugissers així que haurem d’estar ben atents i atentes a trobar petjades\, restes de menjar\, caus\, excrements\, etc. És important conèixer i valorar la biodiversitat\, des de ben petits i ser conscients de la riquesa que representa. Aquesta activitat serà un bon moment per introduir a l’imaginari de les nenes i els nens animals com el teixó\, la geneta\, el porc senglar\, etc. Sinó a través de les pantalles els hi arriba molta informació d’animals d’altres països però no dels nostres veïns. Quants sabrien dibuixar un pingüí o una girafa però no un teixó. \nAixí doncs\, diumenge 6 agafeu aigua\, esmorzar\, roba i calçat còmode i veniu a passar una estona a la Gavarres. Aquesta activitat va a càrrec de Gisfera i compte amb la col·laboració de l’Ajuntament de Juià\, el punt de trobada és a les 10h del matí al cementiri del poble. \nL’activitat és gratuïta però cal apuntar-se al formulari adjunt.
URL:https://www.gavarres.cat/event/petits-exploradors-a-juia-06-04/
LOCATION:Girona
CATEGORIES:Activitat familiar,Sortida d'observació
ATTACH;FMTTYPE=image/jpeg:https://www.gavarres.cat/wp-content/uploads/2025/03/PetitsExploradors_ratllat.jpeg
END:VEVENT
BEGIN:VEVENT
DTSTART;TZID=Europe/Madrid:20250426T100000
DTEND;TZID=Europe/Madrid:20250426T130000
DTSTAMP:20260419T163052
CREATED:20250414T051915Z
LAST-MODIFIED:20250416T173244Z
UID:2685-1745661600-1745672400@www.gavarres.cat
SUMMARY:Flora silvestre a Sant Sadurní de l'Heura 26/04
DESCRIPTION:El dissabte 26 d’abril organitzem una sortida per gaudir de la primavera i dels canvis que viu la natura. Descobreix la riquesa de la flora mediterrània en una sortida única a Sant Sadurní de l’Heura. Aquesta ruta ens portarà per indrets emblemàtics com el riu Daró i el Molí d’en Frigola\, tot explorant la transició entre paisatges agrícoles i forestals al cor de les Gavarres. Aprendrem a identificar plantes autòctones i els seus usos\, mentre gaudim d’un entorn natural ple d’història i biodiversitat. Una experiència ideal per connectar amb la natura i descobrir els secrets de la vegetació mediterrània! L’activitat a càrrec de la Mònica López\, del grup de Natura Sterna\, durarà unes tres hores i és gratuïta. Per venir només us heu d’apuntar al formulari adjunt. \nEl punt de trobada és a les 10h del matí a davant del restaurant de Can Met Viu.  Porteu calçat i roba còmode així com el menjar i el beure que considereu. Penseu també en protecció solar i una gorra.
URL:https://www.gavarres.cat/event/flora-silvestre-a-sant-sadurni-de-lheura-26-05/
LOCATION:Girona
CATEGORIES:Sortida d'observació
ATTACH;FMTTYPE=image/jpeg:https://www.gavarres.cat/wp-content/uploads/2025/04/flora.jpg
END:VEVENT
BEGIN:VEVENT
DTSTART;TZID=Europe/Madrid:20250427T100000
DTEND;TZID=Europe/Madrid:20250427T130000
DTSTAMP:20260419T163052
CREATED:20250414T060446Z
LAST-MODIFIED:20250423T072432Z
UID:2704-1745748000-1745758800@www.gavarres.cat
SUMMARY:El bosc reneix... a les Gavarres 27/04
DESCRIPTION:Sabeu què passa després d’un incendi? Doncs que el bosc desplega totes les estratègies de supervivència que té i poc a poc va tornant a la seva essència. Si les voleu conèixer\, si voleu veure com la vida s’obre camí us proposem una activitat d’observació d’un bosc que es va cremar al 2022. La Laura Guerrero de Gisfera ens acompanyarà i guiarà en una passejada d’unes tres hores per recórrer la zona del Mas Nou i poder observar i valorar com el bosc reneix i es sobreposa al gris de les cendres. \nEl punt de trobada és en aquest punt del carrer El Mirador  de Castell d’Aro a les 10h del matí. L’activitat és gratuïta i durarà unes tres hores. Cal apuntar-se en el formulari adjunt. El dia de la visita recomanem que porteu protecció solar\, el menjar i el beure que considereu i roba i calçat còmodes.
URL:https://www.gavarres.cat/event/el-bosc-reneix-a-les-gavarres-27-04/
LOCATION:Girona
CATEGORIES:Activitat familiar,Sortida d'observació
ATTACH;FMTTYPE=image/jpeg:https://www.gavarres.cat/wp-content/uploads/2025/04/El-bosc-reneix.jpeg
END:VEVENT
END:VCALENDAR