BEGIN:VCALENDAR
VERSION:2.0
PRODID:-//Consorci de les Gavarres - ECPv6.15.20//NONSGML v1.0//EN
CALSCALE:GREGORIAN
METHOD:PUBLISH
X-ORIGINAL-URL:https://www.gavarres.cat
X-WR-CALDESC:Esdeveniments per Consorci de les Gavarres
REFRESH-INTERVAL;VALUE=DURATION:PT1H
X-Robots-Tag:noindex
X-PUBLISHED-TTL:PT1H
BEGIN:VTIMEZONE
TZID:Europe/Madrid
BEGIN:DAYLIGHT
TZOFFSETFROM:+0100
TZOFFSETTO:+0200
TZNAME:CEST
DTSTART:20240331T010000
END:DAYLIGHT
BEGIN:STANDARD
TZOFFSETFROM:+0200
TZOFFSETTO:+0100
TZNAME:CET
DTSTART:20241027T010000
END:STANDARD
BEGIN:DAYLIGHT
TZOFFSETFROM:+0100
TZOFFSETTO:+0200
TZNAME:CEST
DTSTART:20250330T010000
END:DAYLIGHT
BEGIN:STANDARD
TZOFFSETFROM:+0200
TZOFFSETTO:+0100
TZNAME:CET
DTSTART:20251026T010000
END:STANDARD
BEGIN:DAYLIGHT
TZOFFSETFROM:+0100
TZOFFSETTO:+0200
TZNAME:CEST
DTSTART:20260329T010000
END:DAYLIGHT
BEGIN:STANDARD
TZOFFSETFROM:+0200
TZOFFSETTO:+0100
TZNAME:CET
DTSTART:20261025T010000
END:STANDARD
END:VTIMEZONE
BEGIN:VEVENT
DTSTART;TZID=Europe/Madrid:20250302T110000
DTEND;TZID=Europe/Madrid:20250302T160000
DTSTAMP:20260419T180815
CREATED:20250211T111124Z
LAST-MODIFIED:20250211T122630Z
UID:2599-1740913200-1740931200@www.gavarres.cat
SUMMARY:14ena senglanada de Cruïlles 2/03
DESCRIPTION:El diumenge 2 de març tindrà lloc a Cruïlles la 14ena edició de la popular senglanada. Actes que s’han previst al pavelló de Cruïlles: \n11h Xerrada col·loqui amb el títol “El senglar al massís de les Gavarres: conflicte o oportunitat”? Conduïda per Pep Nogué amb la participació de Quim Matas (cuiner)\, Juan Zandio (Lantxaga)\, Jordi Feliu (caçador)\, Marta Garrón (IRTA) i Josep Albertich Terradellas (forestal). \n11h Tast de vins naturals de les Gavarres \n12h Vermut musical amb “The Best of” \n14h Senglanada! \nPreu menú adult: 18 € / menú infantil: 12 € \nCartell de la senglanada
URL:https://www.gavarres.cat/event/14ena-senglanada-de-cruilles-2-03/
LOCATION:Girona
CATEGORIES:Activitat familiar,Celebració
ATTACH;FMTTYPE=image/jpeg:https://www.gavarres.cat/wp-content/uploads/2025/02/detall-cartell.jpg
END:VEVENT
BEGIN:VEVENT
DTSTART;TZID=Europe/Madrid:20250322T120000
DTEND;TZID=Europe/Madrid:20250322T130000
DTSTAMP:20260419T180815
CREATED:20250224T121023Z
LAST-MODIFIED:20250224T122254Z
UID:2615-1742644800-1742648400@www.gavarres.cat
SUMMARY:Llegendes de les Gavarres a Quart 22/03
DESCRIPTION:Us proposem una activitat per escoltar tres llegendes al voltant del llop de les Gavarres en família. L’Olga Cercós ens explicarà tres llegendes del llibre “El poble dels Centfocs” de l’editorial Sidillà. En aquest llibre en trobareu moltes més però l’Olga n’enllaça tres per endinsar als més petits en l’imaginari de les històries que s’explicaven a les Gavarres. Escoltarem llegendes de personatges fantàstics i animals que\, temps era temps\, habitaven les Gavarres. Descobrirem per què alguns indrets de les Gavarres es diuen com es diuen i riurem amb la història d’en Pere\, un músic que en va veure de tots colors mentre caminava per les Gavarres. \nEl lloc on ho farem és a la Biblioteca Miquel Pairolí de Quart\, que acull el Centre de Documentació Assumpta Fabré Dachs el dissabte 22 de març a les 12h. L’activitat és gratuïta però cal inscriure’s al formulari adjunt. \nSi no podeu venir us deixem un enllaç del youtube on l’Olga explica les llegendes: clica aquí.
URL:https://www.gavarres.cat/event/llegendes-de-les-gavarres-a-quart-22-03/
LOCATION:Girona
CATEGORIES:Activitat familiar
ATTACH;FMTTYPE=image/jpeg:https://www.gavarres.cat/wp-content/uploads/2025/02/Llegendes.jpg
ORGANIZER;CN="Consorci de les Gavarres":MAILTO:mpiferrer@gavarres.cat
END:VEVENT
END:VCALENDAR