BEGIN:VCALENDAR
VERSION:2.0
PRODID:-//Consorci de les Gavarres - ECPv6.15.20//NONSGML v1.0//EN
CALSCALE:GREGORIAN
METHOD:PUBLISH
X-ORIGINAL-URL:https://www.gavarres.cat
X-WR-CALDESC:Esdeveniments per Consorci de les Gavarres
REFRESH-INTERVAL;VALUE=DURATION:PT1H
X-Robots-Tag:noindex
X-PUBLISHED-TTL:PT1H
BEGIN:VTIMEZONE
TZID:Europe/Madrid
BEGIN:DAYLIGHT
TZOFFSETFROM:+0100
TZOFFSETTO:+0200
TZNAME:CEST
DTSTART:20230326T010000
END:DAYLIGHT
BEGIN:STANDARD
TZOFFSETFROM:+0200
TZOFFSETTO:+0100
TZNAME:CET
DTSTART:20231029T010000
END:STANDARD
BEGIN:DAYLIGHT
TZOFFSETFROM:+0100
TZOFFSETTO:+0200
TZNAME:CEST
DTSTART:20240331T010000
END:DAYLIGHT
BEGIN:STANDARD
TZOFFSETFROM:+0200
TZOFFSETTO:+0100
TZNAME:CET
DTSTART:20241027T010000
END:STANDARD
BEGIN:DAYLIGHT
TZOFFSETFROM:+0100
TZOFFSETTO:+0200
TZNAME:CEST
DTSTART:20250330T010000
END:DAYLIGHT
BEGIN:STANDARD
TZOFFSETFROM:+0200
TZOFFSETTO:+0100
TZNAME:CET
DTSTART:20251026T010000
END:STANDARD
END:VTIMEZONE
BEGIN:VEVENT
DTSTART;TZID=Europe/Madrid:20240302T080000
DTEND;TZID=Europe/Madrid:20240302T120000
DTSTAMP:20260420T121451
CREATED:20240221T082821Z
LAST-MODIFIED:20240223T113813Z
UID:1536-1709366400-1709380800@www.gavarres.cat
SUMMARY:Coneguem la tècnica del fotoparany 02/03
DESCRIPTION:El dissabte 2 de març comencem les activitats de descoberta dels valors de les Gavarres del 2024. La primera que us proposem anirà a càrrec d’Eva Solanes\, naturalista i fotògrafa de natura sobre la tècnica del fotoparany\, utilitzada per tal d’estudiar la fauna de les Gavarres. La nostra fauna és difícil d’observar\, quan anem pel bosc no acostumem a trobar-nos les genetes o teixons que l’habiten i l’única manera que tenen els biòlegs d’observar-los és amb el fototrampeig. La fauna de les Gavarres és nocturna\, petita i fugissera així que esperem poder-vos-hi apropar un xic amb aquesta activitat. \nEl punt de trobada és a les 9h a la Torre Desvern a Celrà. Aquí teniu l’enllaç al google maps. Durarà unes tres hores així que contem acabar a la 13h\, porteu el menjar i el beure que considereu.  \nL’activitat és gratuïta però cal apuntar-se al formulari que trobareu a continuació. \nSi voleu saber-ne més al youtube del Consorci trobareu un vídeo sobre mamífers.
URL:https://www.gavarres.cat/event/coneguem-la-tecnica-del-fotoparany-02-03/
LOCATION:Girona
CATEGORIES:Activitat familiar
ATTACH;FMTTYPE=image/jpeg:https://www.gavarres.cat/wp-content/uploads/2024/02/PORTADA-TRAMPEIG.jpg
ORGANIZER;CN="Consorci de les Gavarres":MAILTO:mpiferrer@gavarres.cat
END:VEVENT
BEGIN:VEVENT
DTSTART;TZID=Europe/Madrid:20240317T100000
DTEND;TZID=Europe/Madrid:20240317T160000
DTSTAMP:20260420T121451
CREATED:20240314T072124Z
LAST-MODIFIED:20240314T072136Z
UID:1571-1710669600-1710691200@www.gavarres.cat
SUMMARY:Senglanada de Cruïlles
DESCRIPTION:Les activitats començaran amb una xerrada i tastet i la projecció del vídeo ‘Els mamífers de les Gavarres’ a càrrec del Consorci de les Gavarres. \n\n\nSeguidament vermut musical amb Keko Domènech i Toni Molina i un dinar popular. \nEs tiquets es poden adquirir al Bar Ester de Cruïlles i a la Siglantana de la Bisbal. El menú adult costa 18 euros i inclou un tastet d’arròs de senglar\, un plat de senglar o botifarra i grana de postres\, pa\, vi i aigua. El menú infantil (12 euros) va dirigit als menors de 10 anys i inclou salsitxes amb arròs blanc i grana de postres\, pa i aigua. \nCal portar plats i coberts. \n 
URL:https://www.gavarres.cat/event/senglanada-de-cruilles/
LOCATION:Girona
CATEGORIES:Activitat familiar,Celebració
ATTACH;FMTTYPE=image/jpeg:https://www.gavarres.cat/wp-content/uploads/2024/03/Unknown-6.jpeg
END:VEVENT
END:VCALENDAR