BEGIN:VCALENDAR
VERSION:2.0
PRODID:-//Consorci de les Gavarres - ECPv6.15.20//NONSGML v1.0//EN
CALSCALE:GREGORIAN
METHOD:PUBLISH
X-ORIGINAL-URL:https://www.gavarres.cat
X-WR-CALDESC:Esdeveniments per Consorci de les Gavarres
REFRESH-INTERVAL;VALUE=DURATION:PT1H
X-Robots-Tag:noindex
X-PUBLISHED-TTL:PT1H
BEGIN:VTIMEZONE
TZID:Europe/Madrid
BEGIN:DAYLIGHT
TZOFFSETFROM:+0100
TZOFFSETTO:+0200
TZNAME:CEST
DTSTART:20230326T010000
END:DAYLIGHT
BEGIN:STANDARD
TZOFFSETFROM:+0200
TZOFFSETTO:+0100
TZNAME:CET
DTSTART:20231029T010000
END:STANDARD
BEGIN:DAYLIGHT
TZOFFSETFROM:+0100
TZOFFSETTO:+0200
TZNAME:CEST
DTSTART:20240331T010000
END:DAYLIGHT
BEGIN:STANDARD
TZOFFSETFROM:+0200
TZOFFSETTO:+0100
TZNAME:CET
DTSTART:20241027T010000
END:STANDARD
BEGIN:DAYLIGHT
TZOFFSETFROM:+0100
TZOFFSETTO:+0200
TZNAME:CEST
DTSTART:20250330T010000
END:DAYLIGHT
BEGIN:STANDARD
TZOFFSETFROM:+0200
TZOFFSETTO:+0100
TZNAME:CET
DTSTART:20251026T010000
END:STANDARD
END:VTIMEZONE
BEGIN:VEVENT
DTSTART;TZID=Europe/Madrid:20240203T090000
DTEND;TZID=Europe/Madrid:20240203T120000
DTSTAMP:20260420T133657
CREATED:20240129T084203Z
LAST-MODIFIED:20240129T104953Z
UID:1453-1706950800-1706961600@www.gavarres.cat
SUMMARY:Coneguem els ocells de Sant Martí Vell (Gavarres)
DESCRIPTION:Aquest dissabte 3 us proposem una sessió d’anellament científic d’ocells\, a càrrec d’Enric Fàbregas\, per descobrir quins ocells viuen en el nostre entorn durant l’hivern. Aprofitarem les captures per conèixer els ocells de primera mà i estudiar-ne la seva biologia i ecologia. També passejarem per l’entorn tot reconeixent els cants de les aus i diferenciar-ne les espècies. \nAl final de l’activitat s’obsequiarà a les famílies amb una caixa niu per mallerengues. \nL’activitat constarà d’unes tres hores de les 10h a la 13h i el punt de trobada serà el parc infantil de Sant Martí Vell. Enllaç del punt al google maps.
URL:https://www.gavarres.cat/event/coneguem-els-ocells-de-sant-marti-vell-gavarres/
CATEGORIES:Activitat familiar
ATTACH;FMTTYPE=image/jpeg:https://www.gavarres.cat/wp-content/uploads/2024/01/Anellament-Gavarres-Xarxes.jpg
ORGANIZER;CN="Consorci de les Gavarres":MAILTO:mpiferrer@gavarres.cat
END:VEVENT
END:VCALENDAR