BEGIN:VCALENDAR
VERSION:2.0
PRODID:-//Consorci de les Gavarres - ECPv6.15.20//NONSGML v1.0//EN
CALSCALE:GREGORIAN
METHOD:PUBLISH
X-ORIGINAL-URL:https://www.gavarres.cat
X-WR-CALDESC:Esdeveniments per Consorci de les Gavarres
REFRESH-INTERVAL;VALUE=DURATION:PT1H
X-Robots-Tag:noindex
X-PUBLISHED-TTL:PT1H
BEGIN:VTIMEZONE
TZID:Europe/Madrid
BEGIN:DAYLIGHT
TZOFFSETFROM:+0100
TZOFFSETTO:+0200
TZNAME:CEST
DTSTART:20230326T010000
END:DAYLIGHT
BEGIN:STANDARD
TZOFFSETFROM:+0200
TZOFFSETTO:+0100
TZNAME:CET
DTSTART:20231029T010000
END:STANDARD
BEGIN:DAYLIGHT
TZOFFSETFROM:+0100
TZOFFSETTO:+0200
TZNAME:CEST
DTSTART:20240331T010000
END:DAYLIGHT
BEGIN:STANDARD
TZOFFSETFROM:+0200
TZOFFSETTO:+0100
TZNAME:CET
DTSTART:20241027T010000
END:STANDARD
BEGIN:DAYLIGHT
TZOFFSETFROM:+0100
TZOFFSETTO:+0200
TZNAME:CEST
DTSTART:20250330T010000
END:DAYLIGHT
BEGIN:STANDARD
TZOFFSETFROM:+0200
TZOFFSETTO:+0100
TZNAME:CET
DTSTART:20251026T010000
END:STANDARD
END:VTIMEZONE
BEGIN:VEVENT
DTSTART;TZID=Europe/Madrid:20240126T180000
DTEND;TZID=Europe/Madrid:20240126T190000
DTSTAMP:20260420T150324
CREATED:20240122T151134Z
LAST-MODIFIED:20240122T151733Z
UID:1413-1706292000-1706295600@www.gavarres.cat
SUMMARY:Conferència "Boscos del segle XXI. D'on venim\, cap on anem"
DESCRIPTION:En el marc de la inauguració de l’exposició “Art de Bosc” es durà a terme la conferència “Boscos del segle XXI. D’on venim\, cap on anem” a càrrec de Martí Boada\, Dr en Ciències Ambientals (UAB). \nL’exposició es podrà visitar fins al 9 de febrer\, de dilluns a divendres\, de 9 a 14 i durant els actes que es realitzin a Can Trinxeria de Cassà de la Selva.
URL:https://www.gavarres.cat/event/conferencia-boscos-del-segle-xxi-don-venim-cap-on-anem/
CATEGORIES:Exposició,Xerrada
ATTACH;FMTTYPE=image/jpeg:https://www.gavarres.cat/wp-content/uploads/2024/01/Unknown-3.jpeg
END:VEVENT
BEGIN:VEVENT
DTSTART;TZID=Europe/Madrid:20240127T170000
DTEND;TZID=Europe/Madrid:20240127T170000
DTSTAMP:20260420T150324
CREATED:20240118T190518Z
LAST-MODIFIED:20240118T191031Z
UID:1406-1706374800-1706374800@www.gavarres.cat
SUMMARY:Visita guiada “Els paisatges del suro”
DESCRIPTION:Visita guiada a les noves sales del Museu del Suro i projecció del documental sobre la història de l’antiga fàbrica “Miquel Vincke & Meyer\, una història excepcional”. \n· Últim dissabte de mes\, entrada gratuïta al Museu amb la visita guiada inclosa.\n· Apte per a tots els públics. Cal reserva prèvia\, aforament limitat. \nMés info i reserves al 972307825 i a www.museudelsuro.cat
URL:https://www.gavarres.cat/event/visita-guiada-els-paisatges-del-suro-palafrugell-gavarres/
CATEGORIES:Exposició
ATTACH;FMTTYPE=image/jpeg:https://www.gavarres.cat/wp-content/uploads/2024/01/DSC_0021-1024x683-1.jpg
END:VEVENT
END:VCALENDAR