BEGIN:VCALENDAR
VERSION:2.0
PRODID:-//Consorci de les Gavarres - ECPv6.15.20//NONSGML v1.0//EN
CALSCALE:GREGORIAN
METHOD:PUBLISH
X-ORIGINAL-URL:https://www.gavarres.cat
X-WR-CALDESC:Esdeveniments per Consorci de les Gavarres
REFRESH-INTERVAL;VALUE=DURATION:PT1H
X-Robots-Tag:noindex
X-PUBLISHED-TTL:PT1H
BEGIN:VTIMEZONE
TZID:Europe/Madrid
BEGIN:DAYLIGHT
TZOFFSETFROM:+0100
TZOFFSETTO:+0200
TZNAME:CEST
DTSTART:20220327T010000
END:DAYLIGHT
BEGIN:STANDARD
TZOFFSETFROM:+0200
TZOFFSETTO:+0100
TZNAME:CET
DTSTART:20221030T010000
END:STANDARD
BEGIN:DAYLIGHT
TZOFFSETFROM:+0100
TZOFFSETTO:+0200
TZNAME:CEST
DTSTART:20230326T010000
END:DAYLIGHT
BEGIN:STANDARD
TZOFFSETFROM:+0200
TZOFFSETTO:+0100
TZNAME:CET
DTSTART:20231029T010000
END:STANDARD
BEGIN:DAYLIGHT
TZOFFSETFROM:+0100
TZOFFSETTO:+0200
TZNAME:CEST
DTSTART:20240331T010000
END:DAYLIGHT
BEGIN:STANDARD
TZOFFSETFROM:+0200
TZOFFSETTO:+0100
TZNAME:CET
DTSTART:20241027T010000
END:STANDARD
END:VTIMEZONE
BEGIN:VEVENT
DTSTART;TZID=Europe/Madrid:20231111T110000
DTEND;TZID=Europe/Madrid:20231111T123000
DTSTAMP:20260420T175345
CREATED:20231023T095424Z
LAST-MODIFIED:20231026T100636Z
UID:1156-1699700400-1699705800@www.gavarres.cat
SUMMARY:Entrega Premis Les Gavarres 2023 11/11
DESCRIPTION:El proper dissabte 11 de novembre a les 12h celebrarem l’acte d’entrega dels Premis Les Gavarres 2023 a l’Església de Santa Maria de Fonteta. L’acte consistirà en la presentació dels resultats de la campanya d’excavació duta a terme al Dolmen dels Revolts de Torrent\, a càrrec de Xavier Niell de Baula Arqueologia\, director de la intervenció; l’entrega del XXXIIIè guardó Joan Xirgo i del XXVIIè Cirera d’Arboç\, com a cloenda projectarem un vídeo resum del 5è Festival d’Art i Gavarres. \nUs hi esperem a tots!
URL:https://www.gavarres.cat/event/entrega-premis-les-gavarres-2023/
LOCATION:Església de Santa Maria de Fonteta\, Carrer de la Constitució\, 1\, Fonteta
ATTACH;FMTTYPE=image/jpeg:https://www.gavarres.cat/wp-content/uploads/2023/10/Post-mur-1080X1350px.jpg
ORGANIZER;CN="Consorci de les Gavarres":MAILTO:mpiferrer@gavarres.cat
END:VEVENT
BEGIN:VEVENT
DTSTART;TZID=Europe/Madrid:20231112T080000
DTEND;TZID=Europe/Madrid:20231112T120000
DTSTAMP:20260420T175345
CREATED:20231023T094028Z
LAST-MODIFIED:20231025T100731Z
UID:1150-1699776000-1699790400@www.gavarres.cat
SUMMARY:Sortida megalítica 12/11
DESCRIPTION:El diumenge 12 de novembre us convidem a una matinal prehistòrica al voltant del patrimoni megalític de Calonge. El punt de trobada és a la Font del Campament a Calonge a les 9.00h del matí. Enllaç al google maps. L’activitat durà 3 hores i cal que porteu calçat i roba còmode així com el menjar i beure que considereu. \nLa ruta serà exigent així que cal tenir un mínim de bona forma física. Ens guiarà en Xavier Niell d’Atzagaia. \nL’activitat és gratuïta però la inscripció és obligatòria ja que les places són limitades. \nPer qualsevol dubte ens podeu trucar al 972643695 \nPunt de trobada: \nFont del Campament\nLat: 41.860718323363336 – Lon:3.033562043054007342.2669774
URL:https://www.gavarres.cat/event/sortida-megalitica-12-11/
ATTACH;FMTTYPE=image/jpeg:https://www.gavarres.cat/wp-content/uploads/2023/10/Cova-de-lAbella.jpg
ORGANIZER;CN="Consorci de les Gavarres":MAILTO:mpiferrer@gavarres.cat
END:VEVENT
END:VCALENDAR