BEGIN:VCALENDAR
VERSION:2.0
PRODID:-//Consorci de les Gavarres - ECPv6.15.20//NONSGML v1.0//EN
CALSCALE:GREGORIAN
METHOD:PUBLISH
X-WR-CALNAME:Consorci de les Gavarres
X-ORIGINAL-URL:https://www.gavarres.cat
X-WR-CALDESC:Esdeveniments per Consorci de les Gavarres
REFRESH-INTERVAL;VALUE=DURATION:PT1H
X-Robots-Tag:noindex
X-PUBLISHED-TTL:PT1H
BEGIN:VTIMEZONE
TZID:Europe/Madrid
BEGIN:DAYLIGHT
TZOFFSETFROM:+0100
TZOFFSETTO:+0200
TZNAME:CEST
DTSTART:20240331T010000
END:DAYLIGHT
BEGIN:STANDARD
TZOFFSETFROM:+0200
TZOFFSETTO:+0100
TZNAME:CET
DTSTART:20241027T010000
END:STANDARD
BEGIN:DAYLIGHT
TZOFFSETFROM:+0100
TZOFFSETTO:+0200
TZNAME:CEST
DTSTART:20250330T010000
END:DAYLIGHT
BEGIN:STANDARD
TZOFFSETFROM:+0200
TZOFFSETTO:+0100
TZNAME:CET
DTSTART:20251026T010000
END:STANDARD
BEGIN:DAYLIGHT
TZOFFSETFROM:+0100
TZOFFSETTO:+0200
TZNAME:CEST
DTSTART:20260329T010000
END:DAYLIGHT
BEGIN:STANDARD
TZOFFSETFROM:+0200
TZOFFSETTO:+0100
TZNAME:CET
DTSTART:20261025T010000
END:STANDARD
END:VTIMEZONE
BEGIN:VEVENT
DTSTART;VALUE=DATE:20251108
DTEND;VALUE=DATE:20251109
DTSTAMP:20260425T023309
CREATED:20250929T113913Z
LAST-MODIFIED:20251016T080208Z
UID:3181-1762560000-1762646399@www.gavarres.cat
SUMMARY:Romanyam\, 1r Mercat Gastronòmic i Artesanal de Les Gavarres
DESCRIPTION:Arriba Romanyam! El Primer Mercat Gastronòmic i Artesanal de Les Gavarres \n📍 Romanyà de la Selva\n📅 Dissabte 8 de novembre\n🕘 De 9h a 19h \nConsulteu el programa complet \nRomanyam és una fira-mercat que celebra la riquesa gastronòmica\, artesanal i cultural de Les Gavarres. Durant tota una jornada podreu conèixer productors locals\, degustar la gastronomia tradicional i gaudir d’activitats per a tota la família. \n🛍️ Mercat de productors locals \nAl mercat de productors locals hi trobareu l’autenticitat de les Gavarres: vins\, formatges\, mels\, olis i artesania\, entre d’altres productes de proximitat. Una oportunitat única per descobrir\, tastar i emportar-vos a casa l’essència més genuïna de l’Espai Natural. \n🍷 Espai gastronòmic. \nA l’espai gastronòmic hi podreu degustar diferents propostes de cuina tradicional. Amb la participació de restauradors de Santa Cristina d’Aro i Llagostera\, el bon menjar està assegurat! \n🌿Activitat familiars \n\nConcurs de pintura ràpida amb exposició i venda d’obres.\nSortida naturalista a l’entorn de Romanyà. Inscripcions.\nTaller sobre megalitisme a la Cova d’en Daina. Inscripcions.\nTaller de vermut aromàtic amb Emporarom. Inscripcions. \nConcert de tarda amb Fenya Rai!\n\n✊🏼Commemoració del Manifest de Romanyà\nCelebrem els 50 anys del Manifest de les Gavarres\, amb la participació d’alguns dels seus promotors. Un homenatge a la lluita per la protecció del nostre patrimoni natural. \nNo us ho perdeu!\nRomanyam és molt més que un mercat: és una experiència que connecta territori\, tradició i comunitat. Us hi esperem!
URL:https://www.gavarres.cat/event/romanyam/
LOCATION:Romanyà de la Selva
CATEGORIES:Activitat familiar,Celebració,Sortida d'observació
ATTACH;FMTTYPE=image/jpeg:https://www.gavarres.cat/wp-content/uploads/2025/09/1080x1350_Romanyam_03.jpg
ORGANIZER;CN="Consorci de les Gavarres":MAILTO:mpiferrer@gavarres.cat
END:VEVENT
BEGIN:VEVENT
DTSTART;TZID=Europe/Madrid:20251130T100000
DTEND;TZID=Europe/Madrid:20251130T130000
DTSTAMP:20260425T023309
CREATED:20251118T124308Z
LAST-MODIFIED:20251118T125807Z
UID:3347-1764496800-1764507600@www.gavarres.cat
SUMMARY:Els bolets de les Gavarres. Sortida naturalista 30/11
DESCRIPTION:Aquest diumenge 30 de novembre s’organitza una sortida per aprendre a identificar bolets. La trobada comença a les 10 del matí a la urbanització Mas Cubell de Cassà. Enllaç al punt de google maps. Des d’allà\, es comparteixen cotxes per arribar al punt d’inici del recorregut\, ja que el lloc escollit per a l’activitat és una zona boscosa amb poc espai per aparcar. \nDurant la sortida s’aprenen les bones pràctiques per observar i collir bolets: quins estris cal utilitzar\, com reconèixer els exemplars\, les particularitats de cada espècie i com deixar-hi el mínim impacte possible. \nEs recorda que no cal portar cistell. L’objectiu d’aquesta sortida no és identificar bolets comestibles\, sinó oferir una visió científica i descobrir la gran diversitat d’espècies que tenim a les Gavarres. L’objectiu de la caminada és posar el focus en aquells bolets que sovint passen desapercebuts.
URL:https://www.gavarres.cat/event/els-bolets-de-les-gavarres-sortida-naturalista-30-11/
CATEGORIES:Activitat familiar,Sortida d'observació
ATTACH;FMTTYPE=image/jpeg:https://www.gavarres.cat/wp-content/uploads/2025/11/Post_tardor_bolets.jpg
END:VEVENT
END:VCALENDAR