BEGIN:VCALENDAR
VERSION:2.0
PRODID:-//Consorci de les Gavarres - ECPv6.15.20//NONSGML v1.0//EN
CALSCALE:GREGORIAN
METHOD:PUBLISH
X-WR-CALNAME:Consorci de les Gavarres
X-ORIGINAL-URL:https://www.gavarres.cat
X-WR-CALDESC:Esdeveniments per Consorci de les Gavarres
REFRESH-INTERVAL;VALUE=DURATION:PT1H
X-Robots-Tag:noindex
X-PUBLISHED-TTL:PT1H
BEGIN:VTIMEZONE
TZID:Europe/Madrid
BEGIN:DAYLIGHT
TZOFFSETFROM:+0100
TZOFFSETTO:+0200
TZNAME:CEST
DTSTART:20240331T010000
END:DAYLIGHT
BEGIN:STANDARD
TZOFFSETFROM:+0200
TZOFFSETTO:+0100
TZNAME:CET
DTSTART:20241027T010000
END:STANDARD
BEGIN:DAYLIGHT
TZOFFSETFROM:+0100
TZOFFSETTO:+0200
TZNAME:CEST
DTSTART:20250330T010000
END:DAYLIGHT
BEGIN:STANDARD
TZOFFSETFROM:+0200
TZOFFSETTO:+0100
TZNAME:CET
DTSTART:20251026T010000
END:STANDARD
BEGIN:DAYLIGHT
TZOFFSETFROM:+0100
TZOFFSETTO:+0200
TZNAME:CEST
DTSTART:20260329T010000
END:DAYLIGHT
BEGIN:STANDARD
TZOFFSETFROM:+0200
TZOFFSETTO:+0100
TZNAME:CET
DTSTART:20261025T010000
END:STANDARD
END:VTIMEZONE
BEGIN:VEVENT
DTSTART;TZID=Europe/Madrid:20251004T100000
DTEND;TZID=Europe/Madrid:20251004T130000
DTSTAMP:20260425T040116
CREATED:20250924T052625Z
LAST-MODIFIED:20250924T072919Z
UID:3169-1759572000-1759582800@www.gavarres.cat
SUMMARY:Petits exploradors a Palafrugell 04/10
DESCRIPTION:El dissabte 4 d’octubre hem preparat una activitat matinal pensant en l’esperit aventurer dels més petits. Així doncs\, us proposem un matí de dissabte diferent envoltats de natura i de totes les bones sensacions que aporta el bosc per desconnectar del ritme de la setmana. Quins animals viuen als nostres boscos? Quins rastres deixen? Els sabríeu trobar i identificar? amb l’ajuda d’en Joan Feliu de Gisfera després d’aquest dissabte segur que si. Passarem unes tres hores al bosc gaudint de la natura i coneixent qui hi viu. El punt de trobada és l’Església de Sant Fruitós a Llofriu i des d’allà farem un recorregut per investigar quina fauna viu a prop nostra. L’activitat començarà a les 10h i acabarem a la 13h porteu el menjar i el beure que considereu. \nL’activitat és gratuïta però cal que us apunteu al formulari que trobareu a sota.
URL:https://www.gavarres.cat/event/petits-exploradors-a-palafrugell-04-10/
CATEGORIES:Activitat familiar,Sortida d'observació
ATTACH;FMTTYPE=image/jpeg:https://www.gavarres.cat/wp-content/uploads/2025/09/Post_PetitsExploradors_Palafrugell.jpg
END:VEVENT
BEGIN:VEVENT
DTSTART;TZID=Europe/Madrid:20251018T190000
DTEND;TZID=Europe/Madrid:20251018T220000
DTSTAMP:20260425T040116
CREATED:20251008T055731Z
LAST-MODIFIED:20251008T055731Z
UID:3214-1760814000-1760824800@www.gavarres.cat
SUMMARY:Espiem els amfibis de les Gavarres 18/10
DESCRIPTION:El dissabte 18 us proposem una activitat amb un horari ben diferent\, de 19h a 22h. Ho hem de fer si volem conèixer els petits animals nocturns que viuen en les bases i els cursos d’aigua de les Gavarres. El punt de trobada serà l’esplanada del principi de la Vall dels Molins. Punt al google maps. Des d’allà farem una passejada per escoltar els cants i saber-ne identificar les espècies\, alguns segur que ja us sonaran i formen part del vostre mapa sonor però ara sabrem quina espècie els fa i les seves característiques. L’activitat anirà a càrrec d’Emma Guinart de Naturamontfred\, és gratuïta i només cal inscriure’s al formulari que trobareu a sota. \nMaterial recomanat: frontal o llanterna\, roba d’abric\, aigua\, alguna cosa per picar.
URL:https://www.gavarres.cat/event/espiem-els-amfibis-de-les-gavarres-18-10/
CATEGORIES:Activitat familiar,Sortida d'observació
ATTACH;FMTTYPE=image/jpeg:https://www.gavarres.cat/wp-content/uploads/2025/10/Post_amfibis-2.jpg
END:VEVENT
END:VCALENDAR