BEGIN:VCALENDAR
VERSION:2.0
PRODID:-//Consorci de les Gavarres - ECPv6.15.20//NONSGML v1.0//EN
CALSCALE:GREGORIAN
METHOD:PUBLISH
X-WR-CALNAME:Consorci de les Gavarres
X-ORIGINAL-URL:https://www.gavarres.cat
X-WR-CALDESC:Esdeveniments per Consorci de les Gavarres
REFRESH-INTERVAL;VALUE=DURATION:PT1H
X-Robots-Tag:noindex
X-PUBLISHED-TTL:PT1H
BEGIN:VTIMEZONE
TZID:Europe/Madrid
BEGIN:DAYLIGHT
TZOFFSETFROM:+0100
TZOFFSETTO:+0200
TZNAME:CEST
DTSTART:20240331T010000
END:DAYLIGHT
BEGIN:STANDARD
TZOFFSETFROM:+0200
TZOFFSETTO:+0100
TZNAME:CET
DTSTART:20241027T010000
END:STANDARD
BEGIN:DAYLIGHT
TZOFFSETFROM:+0100
TZOFFSETTO:+0200
TZNAME:CEST
DTSTART:20250330T010000
END:DAYLIGHT
BEGIN:STANDARD
TZOFFSETFROM:+0200
TZOFFSETTO:+0100
TZNAME:CET
DTSTART:20251026T010000
END:STANDARD
BEGIN:DAYLIGHT
TZOFFSETFROM:+0100
TZOFFSETTO:+0200
TZNAME:CEST
DTSTART:20260329T010000
END:DAYLIGHT
BEGIN:STANDARD
TZOFFSETFROM:+0200
TZOFFSETTO:+0100
TZNAME:CET
DTSTART:20261025T010000
END:STANDARD
END:VTIMEZONE
BEGIN:VEVENT
DTSTART;TZID=Europe/Madrid:20250615T093000
DTEND;TZID=Europe/Madrid:20250615T123000
DTSTAMP:20260425T170610
CREATED:20250527T051451Z
LAST-MODIFIED:20250613T144438Z
UID:2860-1749979800-1749990600@www.gavarres.cat
SUMMARY:Descobrim les papallones de les Gavarres 15/06 CANVI DE DATA
DESCRIPTION:El proper diumenge 15 de juny us proposem una passejada amb la Rosa Matesanz del Grup de Natura Sterna per observar i parlar del món de les papallones. L’itinerari que es seguirà és la Ruta de les Fonts de Castell-Platja d’Aro\, una ruta circular que comença al nucli antic de Castell d’Aro i que ens descobreix les fonts d’aquests estreps de les Gavarres. La jornada sumarà patrimoni natural i patrimoni cultural ja que resseguirem els antics camins per on passaven els bosquetans i veurem les fonts que els abastien d’aigua. El punt de trobada serà la Plaça poeta Sitjà a les 9.30h\, l’activitat durarà unes tres hores. Porteu el menjar i l’aigua que considereu. \nL’activitat és gratuïta però les places són limitades\, cal que us inscriviu al formulari de sota. \n  \n.
URL:https://www.gavarres.cat/event/descobrim-les-papallones-de-les-gavarres-08-06/
CATEGORIES:Ruta,Sortida d'observació
ATTACH;FMTTYPE=image/jpeg:https://www.gavarres.cat/wp-content/uploads/2025/05/2023-06-03-12.20.03.jpg
END:VEVENT
END:VCALENDAR