BEGIN:VCALENDAR
VERSION:2.0
PRODID:-//Consorci de les Gavarres - ECPv6.15.20//NONSGML v1.0//EN
CALSCALE:GREGORIAN
METHOD:PUBLISH
X-ORIGINAL-URL:https://www.gavarres.cat
X-WR-CALDESC:Esdeveniments per Consorci de les Gavarres
REFRESH-INTERVAL;VALUE=DURATION:PT1H
X-Robots-Tag:noindex
X-PUBLISHED-TTL:PT1H
BEGIN:VTIMEZONE
TZID:Europe/Madrid
BEGIN:DAYLIGHT
TZOFFSETFROM:+0100
TZOFFSETTO:+0200
TZNAME:CEST
DTSTART:20250330T010000
END:DAYLIGHT
BEGIN:STANDARD
TZOFFSETFROM:+0200
TZOFFSETTO:+0100
TZNAME:CET
DTSTART:20251026T010000
END:STANDARD
BEGIN:DAYLIGHT
TZOFFSETFROM:+0100
TZOFFSETTO:+0200
TZNAME:CEST
DTSTART:20260329T010000
END:DAYLIGHT
BEGIN:STANDARD
TZOFFSETFROM:+0200
TZOFFSETTO:+0100
TZNAME:CET
DTSTART:20261025T010000
END:STANDARD
BEGIN:DAYLIGHT
TZOFFSETFROM:+0100
TZOFFSETTO:+0200
TZNAME:CEST
DTSTART:20270328T010000
END:DAYLIGHT
BEGIN:STANDARD
TZOFFSETFROM:+0200
TZOFFSETTO:+0100
TZNAME:CET
DTSTART:20271031T010000
END:STANDARD
END:VTIMEZONE
BEGIN:VEVENT
DTSTART;TZID=Europe/Madrid:20260125T100000
DTEND;TZID=Europe/Madrid:20260125T130000
DTSTAMP:20260424T232556
CREATED:20260113T090201Z
LAST-MODIFIED:20260114T065644Z
UID:3411-1769335200-1769346000@www.gavarres.cat
SUMMARY:Taller de caixes niu de ceràmica 25/01
DESCRIPTION:El diumenge 25 us proposem la primera activitat de l’any\, un taller de caixes niu de ceràmica de la mà del terrisser Josep Matés. El poble de Sant Martí Vell ens acollirà per fer l’activitat al Local Social de les 10h del matí fins a la 13h. El taller consisteix en fer nius d’ocell amb fang\, en Pep Matés ens proposarà dues formes i ens explicarà com aconseguir-les mitjançant els motllos que ell mateix portarà. Un cop el tinguem elaborat caldrà col·locar-li els detalls que el convertiran en un niu perfecte pels ocells del nostre entorn; entre aquests serà molt important l’entrada ja que de la seva mida dependrà quines espècies el podran habitar. És un taller per totes les edats per bé que els nens més petits necessitaran més ajuda de la família. No hi ha hora de finalitzar\, a mesura que aneu acabant podreu anar marxant. \nCal dir que el dia del taller no us emportareu el niu perquè caldrà coure’l. El nostre compromís és que en Pep se’ls emportarà els courà i després us  avisarem per venir-lo a buscar pel Consorci de les Gavarres o per l’Ajuntament de Sant Martí Vell\, segons ens indiqueu el dia del taller. \nL’activitat és gratuïta però cal inscriure’s al formulari de sota. Si trobeu el formulari ple truqueu-nos perquè depenent de l’edat dels inscrits podem oferir alguna plaça més.
URL:https://www.gavarres.cat/event/taller-de-caixes-niu-de-ceramica-25-01/
CATEGORIES:Activitat familiar,Taller
ATTACH;FMTTYPE=image/jpeg:https://www.gavarres.cat/wp-content/uploads/2026/01/Post_caixes-niu.jpg
END:VEVENT
END:VCALENDAR