BEGIN:VCALENDAR
VERSION:2.0
PRODID:-//Consorci de les Gavarres - ECPv6.15.20//NONSGML v1.0//EN
CALSCALE:GREGORIAN
METHOD:PUBLISH
X-WR-CALNAME:Consorci de les Gavarres
X-ORIGINAL-URL:https://www.gavarres.cat
X-WR-CALDESC:Esdeveniments per Consorci de les Gavarres
REFRESH-INTERVAL;VALUE=DURATION:PT1H
X-Robots-Tag:noindex
X-PUBLISHED-TTL:PT1H
BEGIN:VTIMEZONE
TZID:Europe/Madrid
BEGIN:DAYLIGHT
TZOFFSETFROM:+0100
TZOFFSETTO:+0200
TZNAME:CEST
DTSTART:20250330T010000
END:DAYLIGHT
BEGIN:STANDARD
TZOFFSETFROM:+0200
TZOFFSETTO:+0100
TZNAME:CET
DTSTART:20251026T010000
END:STANDARD
BEGIN:DAYLIGHT
TZOFFSETFROM:+0100
TZOFFSETTO:+0200
TZNAME:CEST
DTSTART:20260329T010000
END:DAYLIGHT
BEGIN:STANDARD
TZOFFSETFROM:+0200
TZOFFSETTO:+0100
TZNAME:CET
DTSTART:20261025T010000
END:STANDARD
BEGIN:DAYLIGHT
TZOFFSETFROM:+0100
TZOFFSETTO:+0200
TZNAME:CEST
DTSTART:20270328T010000
END:DAYLIGHT
BEGIN:STANDARD
TZOFFSETFROM:+0200
TZOFFSETTO:+0100
TZNAME:CET
DTSTART:20271031T010000
END:STANDARD
END:VTIMEZONE
BEGIN:VEVENT
DTSTART;TZID=Europe/Madrid:20260510T100000
DTEND;TZID=Europe/Madrid:20260510T130000
DTSTAMP:20260424T213133
CREATED:20260420T103213Z
LAST-MODIFIED:20260420T103337Z
UID:3639-1778407200-1778418000@www.gavarres.cat
SUMMARY:Els Tres senglars i el gran incendi forestal a Torrent 10/05
DESCRIPTION:Inspirant-se amb el conte dels tres porquets\, Maria Pipió ha escrit el conte “Els tres senglars i el gran incendi forestal”. Al voltant d’aquesta aventura l’empresa Gisfera ha elaborat jocs i material educatiu per treballar el tema del foc amb nens i nenes de 6 a 8 anys aproximadament. Aquesta activitat combina el joc\, amb un conte amb dosis de reflexió al voltant del foc. L’Antígona de Gisfera farà reflexionar els més petits sobre com ens podem protegir del foc i què em de fer des de la gestió forestal per fer més resilients els nostres boscos. \nL’activitat és gratuïta i dura unes tres hores\, porteu el menjar i el beure que considereu. Per assistir-hi cal que us apunteu en el formulari de sota i que vingueu a l’ermita de Sant Llop el diumenge 10 de maig a les 10h amb ganes de jugar i d’aprendre. \n 
URL:https://www.gavarres.cat/event/els-tres-senglars-i-el-gran-incendi-forestal-a-torrent-10-05/
CATEGORIES:Activitat familiar
ATTACH;FMTTYPE=image/jpeg:https://www.gavarres.cat/wp-content/uploads/2026/04/Post_Tres-Senglars_Torrent.jpg
END:VEVENT
BEGIN:VEVENT
DTSTART;TZID=Europe/Madrid:20260510T190000
DTEND;TZID=Europe/Madrid:20260510T200000
DTSTAMP:20260424T213133
CREATED:20260413T114148Z
LAST-MODIFIED:20260414T061545Z
UID:3602-1778439600-1778443200@www.gavarres.cat
SUMMARY:Sons de les Gavarres: Duo Reyner-Vila 10/05
DESCRIPTION:L’Ajuntament de Quart programa per segon any el cicle de concerts “Sons de les Gavarres” per donar a conèixer els espais patrimonials del municipi. El diumenge 10 de maig a les 19h a l’Església de Santa Margarida de Quart hi haurà el concert de del Duo Reyner-Vila\, mezzosoprano i guitarra. \nEn aquesta ocasió del Duo Reyner-Vila us oferiran una proposta musical que ens transporta de la sobrietat del renaixement\, a la màgia de l’òpera\, passant pel lirisme de la cançó italiana\, el romanticisme del lied i el caràcter popular de la cançó catalana\, de la mà de grans compositors per a guitarra com Mauro Giuliani\, Martín i Soler o Enric Morera.
URL:https://www.gavarres.cat/event/sons-de-les-gavarres-duo-reyner-vila-10-05/
ATTACH;FMTTYPE=image/jpeg:https://www.gavarres.cat/wp-content/uploads/2026/04/Sons-de-les-Gavarres-2026.jpg
END:VEVENT
END:VCALENDAR