BEGIN:VCALENDAR
VERSION:2.0
PRODID:-//Consorci de les Gavarres - ECPv6.15.20//NONSGML v1.0//EN
CALSCALE:GREGORIAN
METHOD:PUBLISH
X-WR-CALNAME:Consorci de les Gavarres
X-ORIGINAL-URL:https://www.gavarres.cat
X-WR-CALDESC:Esdeveniments per Consorci de les Gavarres
REFRESH-INTERVAL;VALUE=DURATION:PT1H
X-Robots-Tag:noindex
X-PUBLISHED-TTL:PT1H
BEGIN:VTIMEZONE
TZID:Europe/Madrid
BEGIN:DAYLIGHT
TZOFFSETFROM:+0100
TZOFFSETTO:+0200
TZNAME:CEST
DTSTART:20250330T010000
END:DAYLIGHT
BEGIN:STANDARD
TZOFFSETFROM:+0200
TZOFFSETTO:+0100
TZNAME:CET
DTSTART:20251026T010000
END:STANDARD
BEGIN:DAYLIGHT
TZOFFSETFROM:+0100
TZOFFSETTO:+0200
TZNAME:CEST
DTSTART:20260329T010000
END:DAYLIGHT
BEGIN:STANDARD
TZOFFSETFROM:+0200
TZOFFSETTO:+0100
TZNAME:CET
DTSTART:20261025T010000
END:STANDARD
BEGIN:DAYLIGHT
TZOFFSETFROM:+0100
TZOFFSETTO:+0200
TZNAME:CEST
DTSTART:20270328T010000
END:DAYLIGHT
BEGIN:STANDARD
TZOFFSETFROM:+0200
TZOFFSETTO:+0100
TZNAME:CET
DTSTART:20271031T010000
END:STANDARD
END:VTIMEZONE
BEGIN:VEVENT
DTSTART;TZID=Europe/Madrid:20260419T100000
DTEND;TZID=Europe/Madrid:20260419T130000
DTSTAMP:20260419T175033
CREATED:20260414T071232Z
LAST-MODIFIED:20260414T073429Z
UID:3578-1776592800-1776603600@www.gavarres.cat
SUMMARY:Festival d'aprenentatges Enforma't: els tres senglars i el gran incendi forestal 19/04
DESCRIPTION:El proper diumenge 19 d’abril vine a descobrir el conte de “Els tres senglars i el gran incendi forestal” en el marc de la fira Enforma’t organitzada per l’Ajuntament de Llagostera. Ens trobareu a les 10h a la Plaça Narcís Casas\, davant del poliesportiu. El Consorci hi col·labora amb aquesta activitat de Gisfera: “Els 3 senglars i el gran incendi forestal”\, aquesta està dissenyada per tal que els infants aprenguin de forma lúdica la importància del foc en el clima mediterrani\, però també les eines per fer una bona gestió i prevenció dels incendis forestals. \nPer fer-ho\, es donarà context als infants i les seves famílies a través d’un conte\, i a partir d’aquí es proposa que facin 1 (o si els ve de gust\, 2) jocs diferents: una oca “especial” on cada casella és de temàtica d’incendis\, i un altre en què caldrà que “dissenyin” un jardí ben previngut dels incendis tot col·locant els diferents elements que se’ls proposa damunt d’un jardí dibuixat. \nUna activitat pensada per petits i grans!
URL:https://www.gavarres.cat/event/festival-daprenentatges-enformat-els-tres-senglars-i-el-gran-incendi-forestal-19-04/
LOCATION:Girona
CATEGORIES:Activitat familiar
ATTACH;FMTTYPE=image/jpeg:https://www.gavarres.cat/wp-content/uploads/2026/04/Enformat2026.jpg
END:VEVENT
END:VCALENDAR