BEGIN:VCALENDAR
VERSION:2.0
PRODID:-//Consorci de les Gavarres - ECPv6.15.20//NONSGML v1.0//EN
CALSCALE:GREGORIAN
METHOD:PUBLISH
X-ORIGINAL-URL:https://www.gavarres.cat
X-WR-CALDESC:Esdeveniments per Consorci de les Gavarres
REFRESH-INTERVAL;VALUE=DURATION:PT1H
X-Robots-Tag:noindex
X-PUBLISHED-TTL:PT1H
BEGIN:VTIMEZONE
TZID:Europe/Madrid
BEGIN:DAYLIGHT
TZOFFSETFROM:+0100
TZOFFSETTO:+0200
TZNAME:CEST
DTSTART:20250330T010000
END:DAYLIGHT
BEGIN:STANDARD
TZOFFSETFROM:+0200
TZOFFSETTO:+0100
TZNAME:CET
DTSTART:20251026T010000
END:STANDARD
BEGIN:DAYLIGHT
TZOFFSETFROM:+0100
TZOFFSETTO:+0200
TZNAME:CEST
DTSTART:20260329T010000
END:DAYLIGHT
BEGIN:STANDARD
TZOFFSETFROM:+0200
TZOFFSETTO:+0100
TZNAME:CET
DTSTART:20261025T010000
END:STANDARD
BEGIN:DAYLIGHT
TZOFFSETFROM:+0100
TZOFFSETTO:+0200
TZNAME:CEST
DTSTART:20270328T010000
END:DAYLIGHT
BEGIN:STANDARD
TZOFFSETFROM:+0200
TZOFFSETTO:+0100
TZNAME:CET
DTSTART:20271031T010000
END:STANDARD
END:VTIMEZONE
BEGIN:VEVENT
DTSTART;TZID=Europe/Madrid:20260530T203000
DTEND;TZID=Europe/Madrid:20260530T203000
DTSTAMP:20260424T195012
CREATED:20260414T063451Z
LAST-MODIFIED:20260414T063451Z
UID:3613-1780173000-1780173000@www.gavarres.cat
SUMMARY:Sons de les Gavarres: Joana Dark + DJ Goliad Gigalibre 30/05
DESCRIPTION:L’Ajuntament de Quart programa per segon any el cicle de concerts “Sons de les Gavarres” per donar a conèixer els espais patrimonials del municipi. El dissabte 30 de maig hi hauran els concerts de Joana Dark a les 20.30h i del DJ Goliad Gigalibre a les 22.00h a l’exterior de la rectoria de Quart. \nJoana Dark és un projecte musical que neix amb la intenció de transportar al moment actual aquelles cançons que van deixar constància del costumisme i les tradicions del segle passat. Mitjançant la recuperació de textos antics es busca la reflexió sobre les arrels rurals dels nostres costums actuals\, així com l’anàlisi del present\, sempre des de la visió de la dona. Joana Dark vol experimentar amb aquestes melodies i acostar-les al públic\, fent una reinterpretació adaptada al context sonor contemporani\, amb un pes especial per a la música electrònica. Així mateix\, la veu esdevé l’eix principal de comunicació\, de la mateixa manera que ho era durant l’època de tradició oral. La reivindicació de l’apropiació de la veu\, concretament la veu femenina\, per a comunicar el seu pensament. \nDJ Goliad Gigalibre \nDesprés d’haver escalfat cabines emblemàtiques com l’Apolo\, Razzmatazz o la Jazz Cava—amb residències a espais referents com la VOL o El Pumarejo— Goliad Gigalibre punxa amb vinils des de l’Empordà\, on va començar fa 15 estius. \nDes de llavors\, Goliad explora el mediterrani com a punt de trobada dels sons del món. Les seves sessions combinen aquest esperit amb la recerca sobre la influència de la diàspora a la música de ball: combinacions sonores entre el ritme ètnic i el so elèctric\, des dels ritmes afro i dub fins al disco\, el balearic o el future jazz. \nIntuïció\, groove i canvis inesperats: un sentiment per la música com a celebració de la diversitat.
URL:https://www.gavarres.cat/event/sons-de-les-gavarres-joana-dark-dj-goliad-gigalibre-30-05/
ATTACH;FMTTYPE=image/jpeg:https://www.gavarres.cat/wp-content/uploads/2026/04/Sons-de-les-Gavarres-2026.jpg
END:VEVENT
END:VCALENDAR