BEGIN:VCALENDAR
VERSION:2.0
PRODID:-//Consorci de les Gavarres - ECPv6.15.20//NONSGML v1.0//EN
CALSCALE:GREGORIAN
METHOD:PUBLISH
X-WR-CALNAME:Consorci de les Gavarres
X-ORIGINAL-URL:https://www.gavarres.cat
X-WR-CALDESC:Esdeveniments per Consorci de les Gavarres
REFRESH-INTERVAL;VALUE=DURATION:PT1H
X-Robots-Tag:noindex
X-PUBLISHED-TTL:PT1H
BEGIN:VTIMEZONE
TZID:Europe/Madrid
BEGIN:DAYLIGHT
TZOFFSETFROM:+0100
TZOFFSETTO:+0200
TZNAME:CEST
DTSTART:20240331T010000
END:DAYLIGHT
BEGIN:STANDARD
TZOFFSETFROM:+0200
TZOFFSETTO:+0100
TZNAME:CET
DTSTART:20241027T010000
END:STANDARD
BEGIN:DAYLIGHT
TZOFFSETFROM:+0100
TZOFFSETTO:+0200
TZNAME:CEST
DTSTART:20250330T010000
END:DAYLIGHT
BEGIN:STANDARD
TZOFFSETFROM:+0200
TZOFFSETTO:+0100
TZNAME:CET
DTSTART:20251026T010000
END:STANDARD
BEGIN:DAYLIGHT
TZOFFSETFROM:+0100
TZOFFSETTO:+0200
TZNAME:CEST
DTSTART:20260329T010000
END:DAYLIGHT
BEGIN:STANDARD
TZOFFSETFROM:+0200
TZOFFSETTO:+0100
TZNAME:CET
DTSTART:20261025T010000
END:STANDARD
END:VTIMEZONE
BEGIN:VEVENT
DTSTART;TZID=Europe/Madrid:20251201T110000
DTEND;TZID=Europe/Madrid:20251201T130000
DTSTAMP:20260425T023116
CREATED:20251114T132504Z
LAST-MODIFIED:20251114T132504Z
UID:3340-1764586800-1764594000@www.gavarres.cat
SUMMARY:Fem xarxa: trobada entre productors locals i restauradors de les Gavarres i voltants
DESCRIPTION:🌱🤝 Fem Xarxa a les Gavarres! \nEts productor local o restaurador? Aquesta és la teva oportunitat per connectar\, compartir i sumar esforços! \n📅 Dilluns 1 de desembre\n⏰ 11h – 13h\n📍 Edifici A de l’IRTA \nEn aquesta jornada de networking volem fomentar la col·laboració intersectorial. És el moment de fer créixer una xarxa forta i compromesa amb el territori. 🌄✨ \n🔗 Inscripcions aquí.
URL:https://www.gavarres.cat/event/fem-xarxa-trobada-entre-productors-locals-i-restauradors-de-les-gavarres-i-voltants/
ATTACH;FMTTYPE=image/jpeg:https://www.gavarres.cat/wp-content/uploads/2025/11/FEM-XARXA-2.jpg
ORGANIZER;CN="Consorci de les Gavarres":MAILTO:mpiferrer@gavarres.cat
END:VEVENT
END:VCALENDAR