BEGIN:VCALENDAR
VERSION:2.0
PRODID:-//Consorci de les Gavarres - ECPv6.15.20//NONSGML v1.0//EN
CALSCALE:GREGORIAN
METHOD:PUBLISH
X-ORIGINAL-URL:https://www.gavarres.cat
X-WR-CALDESC:Esdeveniments per Consorci de les Gavarres
REFRESH-INTERVAL;VALUE=DURATION:PT1H
X-Robots-Tag:noindex
X-PUBLISHED-TTL:PT1H
BEGIN:VTIMEZONE
TZID:Europe/Madrid
BEGIN:DAYLIGHT
TZOFFSETFROM:+0100
TZOFFSETTO:+0200
TZNAME:CEST
DTSTART:20240331T010000
END:DAYLIGHT
BEGIN:STANDARD
TZOFFSETFROM:+0200
TZOFFSETTO:+0100
TZNAME:CET
DTSTART:20241027T010000
END:STANDARD
BEGIN:DAYLIGHT
TZOFFSETFROM:+0100
TZOFFSETTO:+0200
TZNAME:CEST
DTSTART:20250330T010000
END:DAYLIGHT
BEGIN:STANDARD
TZOFFSETFROM:+0200
TZOFFSETTO:+0100
TZNAME:CET
DTSTART:20251026T010000
END:STANDARD
BEGIN:DAYLIGHT
TZOFFSETFROM:+0100
TZOFFSETTO:+0200
TZNAME:CEST
DTSTART:20260329T010000
END:DAYLIGHT
BEGIN:STANDARD
TZOFFSETFROM:+0200
TZOFFSETTO:+0100
TZNAME:CET
DTSTART:20261025T010000
END:STANDARD
END:VTIMEZONE
BEGIN:VEVENT
DTSTART;TZID=Europe/Madrid:20251129T120000
DTEND;TZID=Europe/Madrid:20251129T133000
DTSTAMP:20260421T014259
CREATED:20251104T123327Z
LAST-MODIFIED:20251114T103916Z
UID:3301-1764417600-1764423000@www.gavarres.cat
SUMMARY:Gala d'entrega dels Premis Les Gavarres 29/11
DESCRIPTION:Els gavarrencs i gavarrenques us heu d’apuntar a l’agenda que el proper dissabte 29 de novembre celebrem els Premis Les Gavarres al Teatre Mundial de la Bisbal d’Empordà. A les 12h s’iniciarà l’acte amb la benvinguda de l’alcalde del poble que ens acull i seguidament farem la presentació del llibre Històries de les Gavarres de l’editorial Gavarres\, de la mà del seu mateix autor Josep Matas i Balaguer\, bisbalenc i gran coneixedor de les Gavarres. Tot seguit tindrem l’entrega dels Premis Joan Xirgo\, Assumpta Fabré Dachs i Cirera d’Arboç. Quan acabem esperem saludar-vos a tots durant el refrigeri cortesia de l’Ajuntament de la Bisbal.
URL:https://www.gavarres.cat/event/gala-dentrega-dels-premis-les-gavarres-29-11/
CATEGORIES:Celebració
ATTACH;FMTTYPE=image/jpeg:https://www.gavarres.cat/wp-content/uploads/2025/11/Post-1080X1350px.jpg
END:VEVENT
END:VCALENDAR