BEGIN:VCALENDAR
VERSION:2.0
PRODID:-//Consorci de les Gavarres - ECPv6.15.20//NONSGML v1.0//EN
CALSCALE:GREGORIAN
METHOD:PUBLISH
X-ORIGINAL-URL:https://www.gavarres.cat
X-WR-CALDESC:Esdeveniments per Consorci de les Gavarres
REFRESH-INTERVAL;VALUE=DURATION:PT1H
X-Robots-Tag:noindex
X-PUBLISHED-TTL:PT1H
BEGIN:VTIMEZONE
TZID:Europe/Madrid
BEGIN:DAYLIGHT
TZOFFSETFROM:+0100
TZOFFSETTO:+0200
TZNAME:CEST
DTSTART:20240331T010000
END:DAYLIGHT
BEGIN:STANDARD
TZOFFSETFROM:+0200
TZOFFSETTO:+0100
TZNAME:CET
DTSTART:20241027T010000
END:STANDARD
BEGIN:DAYLIGHT
TZOFFSETFROM:+0100
TZOFFSETTO:+0200
TZNAME:CEST
DTSTART:20250330T010000
END:DAYLIGHT
BEGIN:STANDARD
TZOFFSETFROM:+0200
TZOFFSETTO:+0100
TZNAME:CET
DTSTART:20251026T010000
END:STANDARD
BEGIN:DAYLIGHT
TZOFFSETFROM:+0100
TZOFFSETTO:+0200
TZNAME:CEST
DTSTART:20260329T010000
END:DAYLIGHT
BEGIN:STANDARD
TZOFFSETFROM:+0200
TZOFFSETTO:+0100
TZNAME:CET
DTSTART:20261025T010000
END:STANDARD
END:VTIMEZONE
BEGIN:VEVENT
DTSTART;TZID=Europe/Madrid:20251122T100000
DTEND;TZID=Europe/Madrid:20251122T130000
DTSTAMP:20260420T192222
CREATED:20251104T112952Z
LAST-MODIFIED:20251104T120919Z
UID:3293-1763805600-1763816400@www.gavarres.cat
SUMMARY:Conviure amb el foc a Romanyà 22/11
DESCRIPTION:Conviure amb el foc és una activitat educativa pensada per a famílies amb infants (a partir de 10 anys) i joves. Us convidem a descobrir\, de manera participativa i en plena natura\, com funciona l’ecologia del foc i com podem protegir els nostres boscos a través d’una sortida a l’Espai Natural de les Gavarres. El punt de trobada és el pàrquing del Dolmen de la Cova d’en Daina a les 10h. Us posareu a la pell de bombers\, agents rurals\, pagesos o científics per entendre millor els incendis forestals i com prevenir-los. Conviure amb el foc és una proposta enriquidora que connecta amb la realitat del territori i fomenta el respecte pel medi ambient d’una manera lúdica\, educativa i compromesa.
URL:https://www.gavarres.cat/event/conviure-amb-el-foc-a-romanya-22-11/
CATEGORIES:Activitat familiar
ATTACH;FMTTYPE=image/jpeg:https://www.gavarres.cat/wp-content/uploads/2025/11/Post_Conviurefoc_STA-CRISTINA.jpg
END:VEVENT
BEGIN:VEVENT
DTSTART;TZID=Europe/Madrid:20251122T110000
DTEND;TZID=Europe/Madrid:20251122T133000
DTSTAMP:20260420T192222
CREATED:20251111T113625Z
LAST-MODIFIED:20251120T121209Z
UID:3327-1763809200-1763818200@www.gavarres.cat
SUMMARY:Tast de Gavarres: Les Rabioses
DESCRIPTION:Descobreix una finca viva\, on la terra es cuida amb passió i criteris d’agricultura regenerativa. Durant la visita guiada coneixeràs com es cultiven les ametlles amb respecte pel medi ambient i aprendràs com es gestiona l’ecosistema agrícola per afavorir la biodiversitat i la salut del sòl. L’experiència culmina amb un tast d’ametlles amb totes les seves variants\, que et farà redescobrir el seu sabor més autèntic. Una proposta ideal per a qui vol entendre el paisatge\, la feina pagesa i el valor dels productes de proximitat. \nPreu: 10€ \nHorari: 11h a 13:30h
URL:https://www.gavarres.cat/event/tast-de-gavarres-rabioses/
ATTACH;FMTTYPE=image/jpeg:https://www.gavarres.cat/wp-content/uploads/2025/11/Sessio╠u-productors-1-202517.jpg
END:VEVENT
END:VCALENDAR