BEGIN:VCALENDAR
VERSION:2.0
PRODID:-//Consorci de les Gavarres - ECPv6.15.20//NONSGML v1.0//EN
CALSCALE:GREGORIAN
METHOD:PUBLISH
X-ORIGINAL-URL:https://www.gavarres.cat
X-WR-CALDESC:Esdeveniments per Consorci de les Gavarres
REFRESH-INTERVAL;VALUE=DURATION:PT1H
X-Robots-Tag:noindex
X-PUBLISHED-TTL:PT1H
BEGIN:VTIMEZONE
TZID:Europe/Madrid
BEGIN:DAYLIGHT
TZOFFSETFROM:+0100
TZOFFSETTO:+0200
TZNAME:CEST
DTSTART:20240331T010000
END:DAYLIGHT
BEGIN:STANDARD
TZOFFSETFROM:+0200
TZOFFSETTO:+0100
TZNAME:CET
DTSTART:20241027T010000
END:STANDARD
BEGIN:DAYLIGHT
TZOFFSETFROM:+0100
TZOFFSETTO:+0200
TZNAME:CEST
DTSTART:20250330T010000
END:DAYLIGHT
BEGIN:STANDARD
TZOFFSETFROM:+0200
TZOFFSETTO:+0100
TZNAME:CET
DTSTART:20251026T010000
END:STANDARD
BEGIN:DAYLIGHT
TZOFFSETFROM:+0100
TZOFFSETTO:+0200
TZNAME:CEST
DTSTART:20260329T010000
END:DAYLIGHT
BEGIN:STANDARD
TZOFFSETFROM:+0200
TZOFFSETTO:+0100
TZNAME:CET
DTSTART:20261025T010000
END:STANDARD
END:VTIMEZONE
BEGIN:VEVENT
DTSTART;TZID=Europe/Madrid:20251115T160000
DTEND;TZID=Europe/Madrid:20251115T183000
DTSTAMP:20260420T162406
CREATED:20251001T090553Z
LAST-MODIFIED:20251112T110711Z
UID:3193-1763222400-1763231400@www.gavarres.cat
SUMMARY:Taller de fotografia amb les Gavarres als nostres peus 15/11
DESCRIPTION:El dissabte 15 de novembre us proposem un taller de petit format per aprendre a capturar la bellesa de l’entorn natural de les Gavarres amb la vostra càmera. \nAquest taller d’iniciació a la fotografia de paisatge i natura està pensat per a tots aquells que vulguin aprendre els fonaments de la fotografia mentre gaudeixen d’una excursió a un dels cims més emblemàtics del massís: el Puig d’Arques. Durant la sortida\, combinarem una breu introducció teòrica amb molta pràctica sobre el terrenys i l’assessorament constant per resoldre dubtes. \nNo cal tenir coneixements previs de fotografia ni una càmera professional; qualsevol càmera digital amb controls manuals (rèflex\, mirrorless\, bridge) o fins i tot un telèfon mòbil amb opcions avançades és suficient per aprofitar la sortida. L’objectiu és aprendre a mirar i fer servir la càmera\, independentment de l’equip. A més de les vistes panoràmiques\, el recorregut a través de les suredes i alzinars de les Gavarres ens proporcionarà infinites oportunitats per practicar la fotografia de bosc i de detall. \nMaterial recomanat: càmera o mòbil\, trípode\, filtres\, llanterna\, calçat còmode per caminar per muntanya i roba adient a la meteorologia. Aigua i alguna cosa per picar. L’activitat\, com sempre\, és gratuïta però per poder oferir una atenció de qualitat les places són limitades i la inscripció és obligatòria al formulari que trobareu a sota.\n\nPunt de trobada: Plans de Can Sabater.\nhttps://maps.app.goo.gl/oTh9wLSZZ7WDAp6A9
URL:https://www.gavarres.cat/event/taller-de-fotografia-amb-les-gavarres-als-nostres-peus-12-10/
CATEGORIES:Taller
ATTACH;FMTTYPE=image/jpeg:https://www.gavarres.cat/wp-content/uploads/2025/10/Post_FOTOGRAFIA_15NOV.jpg
END:VEVENT
END:VCALENDAR