BEGIN:VCALENDAR
VERSION:2.0
PRODID:-//Consorci de les Gavarres - ECPv6.15.20//NONSGML v1.0//EN
CALSCALE:GREGORIAN
METHOD:PUBLISH
X-ORIGINAL-URL:https://www.gavarres.cat
X-WR-CALDESC:Esdeveniments per Consorci de les Gavarres
REFRESH-INTERVAL;VALUE=DURATION:PT1H
X-Robots-Tag:noindex
X-PUBLISHED-TTL:PT1H
BEGIN:VTIMEZONE
TZID:Europe/Madrid
BEGIN:DAYLIGHT
TZOFFSETFROM:+0100
TZOFFSETTO:+0200
TZNAME:CEST
DTSTART:20240331T010000
END:DAYLIGHT
BEGIN:STANDARD
TZOFFSETFROM:+0200
TZOFFSETTO:+0100
TZNAME:CET
DTSTART:20241027T010000
END:STANDARD
BEGIN:DAYLIGHT
TZOFFSETFROM:+0100
TZOFFSETTO:+0200
TZNAME:CEST
DTSTART:20250330T010000
END:DAYLIGHT
BEGIN:STANDARD
TZOFFSETFROM:+0200
TZOFFSETTO:+0100
TZNAME:CET
DTSTART:20251026T010000
END:STANDARD
BEGIN:DAYLIGHT
TZOFFSETFROM:+0100
TZOFFSETTO:+0200
TZNAME:CEST
DTSTART:20260329T010000
END:DAYLIGHT
BEGIN:STANDARD
TZOFFSETFROM:+0200
TZOFFSETTO:+0100
TZNAME:CET
DTSTART:20261025T010000
END:STANDARD
END:VTIMEZONE
BEGIN:VEVENT
DTSTART;TZID=Europe/Madrid:20250907T080000
DTEND;TZID=Europe/Madrid:20251012T170000
DTSTAMP:20260420T012431
CREATED:20250903T073913Z
LAST-MODIFIED:20250923T104734Z
UID:3124-1757232000-1760288400@www.gavarres.cat
SUMMARY:El batec del bosc
DESCRIPTION:És el títol de la propera exposició de l’Associació “Junta d’Arbres”. L’exposició es podrà veure del 12 de setembre al 12 d’octubre al Castell de Calonge. De dijous a dissabte de 10h a 13h i de 18h a 21h i diumenge de 10h a 13h. \nActivitats associades a l’exposició: \n7 de setembre a les 9h “Conviure amb el foc”. Jornada informativa sobre les causes dels incendis forestals. Activitat per a tots els públics\, organitzada per Junta d’Arbres amb el suport del Consorci de les Gavarres. Lloc: Sureda d’en Manelic. Inscripcions al 610 62 20 05. Punt de trobada a l’aparcament del supermercat You88. \n19 de setembre a les 19h “Verd Gavarres. Per què aquest miracle?” Xerrada a càrrec de Joan Botey\, enginyer químic\, agrícola i silvicultor. Lloc: Castell de Calonge. \n26 de setembre a les 19h “Les Gavarres al 2050. Com les transformarà el canvi climàtic?” Xerrada a càrrec d’Oriol Bassa\, enginyer de forest i naturalista. Lloc: Local Social Germandat Arturo Mundet de Sant Antoni. \n4 d’octubre a les 19h “Els arbres i arbusts de Calonge i Sant Antoni”. Presentació del llibre d’Helena Bou i Miquel Romero\, membres de Junta d’Arbres. Lloc: Castell de Calonge.
URL:https://www.gavarres.cat/event/el-batec-del-bosc/
LOCATION:Girona
CATEGORIES:Activitat familiar,Exposició,Ruta
ATTACH;FMTTYPE=image/jpeg:https://www.gavarres.cat/wp-content/uploads/2025/09/WhatsApp-Image-2025-09-02-at-13.13.31.jpeg
END:VEVENT
BEGIN:VEVENT
DTSTART;TZID=Europe/Madrid:20251005T073000
DTEND;TZID=Europe/Madrid:20251005T130000
DTSTAMP:20260420T012431
CREATED:20250905T071903Z
LAST-MODIFIED:20251001T120939Z
UID:3121-1759649400-1759669200@www.gavarres.cat
SUMMARY:XXVI Caminada memorial Isabel Vila 05/10
DESCRIPTION:Un any més ens trobem per recordar la figura de la Isabel Vila amb una caminada fins al cor de les Gavarres. Es faran tres sortides des de Llagostera -d’on va sortir la Isabel i un grup de persones implicades- a les 7.30h des de la Plaça Catalunya; i de La Bisbal -on van arribar el grup de Llagostera per anar a socórrer els ferits dels Focs de La Bisbal- a les 8h des de la Palanca del Daró a Cruïlles. La tercera columna prevista des de Calonge per motius organitzatius no es podrà realitzar. \nA les 11h s’arribarà al coll de la Isabel 5 hores\, entre el Puig d’Aiguabona i el de la Gavarres. On hi haurà la concentració de les columnes de Llagostera\, Calonge i La Bisbal i es farà un breu acte d’homenatge a la Isabel Vila amb la cantada de la cançó composta per l’Antoni Mas. \nPer veure el cartell feu clic aquí.
URL:https://www.gavarres.cat/event/xxvi-caminada-memorial-isabel-vila-05-10/
LOCATION:Girona
CATEGORIES:Activitat familiar,Caminada Popular,Celebració
ATTACH;FMTTYPE=image/jpeg:https://www.gavarres.cat/wp-content/uploads/2025/09/Retall-cartell.jpg
END:VEVENT
END:VCALENDAR