BEGIN:VCALENDAR
VERSION:2.0
PRODID:-//Consorci de les Gavarres - ECPv6.15.20//NONSGML v1.0//EN
CALSCALE:GREGORIAN
METHOD:PUBLISH
X-ORIGINAL-URL:https://www.gavarres.cat
X-WR-CALDESC:Esdeveniments per Consorci de les Gavarres
REFRESH-INTERVAL;VALUE=DURATION:PT1H
X-Robots-Tag:noindex
X-PUBLISHED-TTL:PT1H
BEGIN:VTIMEZONE
TZID:Europe/Madrid
BEGIN:DAYLIGHT
TZOFFSETFROM:+0100
TZOFFSETTO:+0200
TZNAME:CEST
DTSTART:20240331T010000
END:DAYLIGHT
BEGIN:STANDARD
TZOFFSETFROM:+0200
TZOFFSETTO:+0100
TZNAME:CET
DTSTART:20241027T010000
END:STANDARD
BEGIN:DAYLIGHT
TZOFFSETFROM:+0100
TZOFFSETTO:+0200
TZNAME:CEST
DTSTART:20250330T010000
END:DAYLIGHT
BEGIN:STANDARD
TZOFFSETFROM:+0200
TZOFFSETTO:+0100
TZNAME:CET
DTSTART:20251026T010000
END:STANDARD
BEGIN:DAYLIGHT
TZOFFSETFROM:+0100
TZOFFSETTO:+0200
TZNAME:CEST
DTSTART:20260329T010000
END:DAYLIGHT
BEGIN:STANDARD
TZOFFSETFROM:+0200
TZOFFSETTO:+0100
TZNAME:CET
DTSTART:20261025T010000
END:STANDARD
END:VTIMEZONE
BEGIN:VEVENT
DTSTART;TZID=Europe/Madrid:20250812T210000
DTEND;TZID=Europe/Madrid:20250812T230000
DTSTAMP:20260419T234537
CREATED:20250729T101002Z
LAST-MODIFIED:20250812T112250Z
UID:3033-1755032400-1755039600@www.gavarres.cat
SUMMARY:Nit d'estels a Can Vilallonga 12/08
DESCRIPTION:Si ets dels que esperes les nits a Can Vilallonga per observar la pluja d’estrelles de Sant Llorenç… ja les tens aquí! Els propers dies 12 i 13 d’agost les tornem a organitzar amb en Kilian Vindel. \nAquí tens la informació per apuntar-te el dimarts 12 d’agost. \nEl punt de trobada és a Can Vilallonga a les 21h. Un any més en Kilian ens proposarà una part teòrica i una part d’observació. Neurones\, galàxies i pluja d’estels: un viatge interior. Una experiència que uneix ciència\, cosmos i introspecció. Un recorregut pels forats negres\, llunes habitables\, el paper dels asteroides i l’origen del temps: el Big Bang. Sota la pluja d’estels\, descobrirem com la xarxa neuronal humana s’assembla al teixit galàctic quan hi afegim la matèria fosca\, i com les supercordes podrien unir-ho tot en una sola simfonia còsmica. I si la meteorologia ho permet\, completarem el viatge amb l’observació directa\, a través d’un telescopi de gamma alta\, d’objectes com Saturn\, la Lluna\, la galàxia d’Andròmeda o el cúmul globular M13. \nL’activitat acabarà a les 23h. \nEls grups són limitats i la inscripció és obligatòria.
URL:https://www.gavarres.cat/event/nit-destels-a-can-vilallonga-12-08/
LOCATION:Girona
CATEGORIES:Activitat familiar,Sortida d'observació
ATTACH;FMTTYPE=image/jpeg:https://www.gavarres.cat/wp-content/uploads/2025/07/Imatge_Estrelles.jpg
END:VEVENT
END:VCALENDAR