BEGIN:VCALENDAR
VERSION:2.0
PRODID:-//Consorci de les Gavarres - ECPv6.15.20//NONSGML v1.0//EN
CALSCALE:GREGORIAN
METHOD:PUBLISH
X-ORIGINAL-URL:https://www.gavarres.cat
X-WR-CALDESC:Esdeveniments per Consorci de les Gavarres
REFRESH-INTERVAL;VALUE=DURATION:PT1H
X-Robots-Tag:noindex
X-PUBLISHED-TTL:PT1H
BEGIN:VTIMEZONE
TZID:Europe/Madrid
BEGIN:DAYLIGHT
TZOFFSETFROM:+0100
TZOFFSETTO:+0200
TZNAME:CEST
DTSTART:20240331T010000
END:DAYLIGHT
BEGIN:STANDARD
TZOFFSETFROM:+0200
TZOFFSETTO:+0100
TZNAME:CET
DTSTART:20241027T010000
END:STANDARD
BEGIN:DAYLIGHT
TZOFFSETFROM:+0100
TZOFFSETTO:+0200
TZNAME:CEST
DTSTART:20250330T010000
END:DAYLIGHT
BEGIN:STANDARD
TZOFFSETFROM:+0200
TZOFFSETTO:+0100
TZNAME:CET
DTSTART:20251026T010000
END:STANDARD
BEGIN:DAYLIGHT
TZOFFSETFROM:+0100
TZOFFSETTO:+0200
TZNAME:CEST
DTSTART:20260329T010000
END:DAYLIGHT
BEGIN:STANDARD
TZOFFSETFROM:+0200
TZOFFSETTO:+0100
TZNAME:CET
DTSTART:20261025T010000
END:STANDARD
END:VTIMEZONE
BEGIN:VEVENT
DTSTART;TZID=Europe/Madrid:20250727T180000
DTEND;TZID=Europe/Madrid:20250727T203000
DTSTAMP:20260419T221739
CREATED:20250715T073956Z
LAST-MODIFIED:20250715T073956Z
UID:3018-1753639200-1753648200@www.gavarres.cat
SUMMARY:Conviure amb el foc a Palamós
DESCRIPTION:Conviure amb el foc és una activitat educativa pensada per a famílies amb infants (a partir de 10 anys) i joves. Us convidem a descobrir\, de manera participativa i en plena natura\, com funciona l’ecologia del foc i com podem protegir els nostres boscos a través d’una sortida a l’Espai Natural de les Gavarres. El punt de trobada serà Can Pere Tià (Palamós) i des d’allà anirem cap a la Vall de Bell-lloc. Us posareu a la pell de bombers\, agents rurals\, pagesos o científics per entendre millor els incendis forestals i com prevenir-los. Conviure amb el foc és una proposta enriquidora que connecta amb la realitat del territori i fomenta el respecte pel medi ambient d’una manera lúdica\, educativa i compromesa. \n  \nPunt de trobada: Can Pere Tià\, Palamós \nHorari: 18:00 a 20:30h
URL:https://www.gavarres.cat/event/conviure-amb-el-foc-a-palamos/
LOCATION:Girona
ATTACH;FMTTYPE=image/jpeg:https://www.gavarres.cat/wp-content/uploads/2025/07/Conviure-amb-el-foc.jpg
END:VEVENT
END:VCALENDAR