BEGIN:VCALENDAR
VERSION:2.0
PRODID:-//Consorci de les Gavarres - ECPv6.15.20//NONSGML v1.0//EN
CALSCALE:GREGORIAN
METHOD:PUBLISH
X-ORIGINAL-URL:https://www.gavarres.cat
X-WR-CALDESC:Esdeveniments per Consorci de les Gavarres
REFRESH-INTERVAL;VALUE=DURATION:PT1H
X-Robots-Tag:noindex
X-PUBLISHED-TTL:PT1H
BEGIN:VTIMEZONE
TZID:Europe/Madrid
BEGIN:DAYLIGHT
TZOFFSETFROM:+0100
TZOFFSETTO:+0200
TZNAME:CEST
DTSTART:20240331T010000
END:DAYLIGHT
BEGIN:STANDARD
TZOFFSETFROM:+0200
TZOFFSETTO:+0100
TZNAME:CET
DTSTART:20241027T010000
END:STANDARD
BEGIN:DAYLIGHT
TZOFFSETFROM:+0100
TZOFFSETTO:+0200
TZNAME:CEST
DTSTART:20250330T010000
END:DAYLIGHT
BEGIN:STANDARD
TZOFFSETFROM:+0200
TZOFFSETTO:+0100
TZNAME:CET
DTSTART:20251026T010000
END:STANDARD
BEGIN:DAYLIGHT
TZOFFSETFROM:+0100
TZOFFSETTO:+0200
TZNAME:CEST
DTSTART:20260329T010000
END:DAYLIGHT
BEGIN:STANDARD
TZOFFSETFROM:+0200
TZOFFSETTO:+0100
TZNAME:CET
DTSTART:20261025T010000
END:STANDARD
END:VTIMEZONE
BEGIN:VEVENT
DTSTART;TZID=Europe/Madrid:20250706T170000
DTEND;TZID=Europe/Madrid:20250706T190000
DTSTAMP:20260419T210209
CREATED:20250625T071054Z
LAST-MODIFIED:20250625T071054Z
UID:2935-1751821200-1751828400@www.gavarres.cat
SUMMARY:Els Tres Senglars i el gran incendi forestal a Girona 06/07
DESCRIPTION:Tot i que l’estiu és una estació complicada per visitar les Gavarres us proposem una activitat de tardes per gaudir de la natura i el bosc de la Vall de Sant Daniel (Girona). L’activitat parlarà dels incendis un tema molt actual i de la necessària gestió forestal per combatre’ls i minimitzar-los. El to serà infantil i didàctic mitjançant el conte dels “Tres Porquets i el gran incendi forestal” escrit per Maria Pipió i al voltant del qual la Diputació de Girona ha dissenyat unes activitats educatives. \nEl punt de trobada és la Plaça de les sardanes a Girona (Vall de Sant Daniel) a les 17h de la tarda. L’activitat durarà unes dues hores\, porteu el menjar i el beure que considereu. \nL’activitat és gratuïta\, només al que us apunteu al formulari de sota.
URL:https://www.gavarres.cat/event/els-tres-senglars-i-el-gran-incendi-forestal-a-girona-06-07/
LOCATION:Girona
CATEGORIES:Activitat familiar
ATTACH;FMTTYPE=image/jpeg:https://www.gavarres.cat/wp-content/uploads/2025/03/3Porquets.jpg
END:VEVENT
END:VCALENDAR