BEGIN:VCALENDAR
VERSION:2.0
PRODID:-//Consorci de les Gavarres - ECPv6.15.20//NONSGML v1.0//EN
CALSCALE:GREGORIAN
METHOD:PUBLISH
X-WR-CALNAME:Consorci de les Gavarres
X-ORIGINAL-URL:https://www.gavarres.cat
X-WR-CALDESC:Esdeveniments per Consorci de les Gavarres
REFRESH-INTERVAL;VALUE=DURATION:PT1H
X-Robots-Tag:noindex
X-PUBLISHED-TTL:PT1H
BEGIN:VTIMEZONE
TZID:Europe/Madrid
BEGIN:DAYLIGHT
TZOFFSETFROM:+0100
TZOFFSETTO:+0200
TZNAME:CEST
DTSTART:20240331T010000
END:DAYLIGHT
BEGIN:STANDARD
TZOFFSETFROM:+0200
TZOFFSETTO:+0100
TZNAME:CET
DTSTART:20241027T010000
END:STANDARD
BEGIN:DAYLIGHT
TZOFFSETFROM:+0100
TZOFFSETTO:+0200
TZNAME:CEST
DTSTART:20250330T010000
END:DAYLIGHT
BEGIN:STANDARD
TZOFFSETFROM:+0200
TZOFFSETTO:+0100
TZNAME:CET
DTSTART:20251026T010000
END:STANDARD
BEGIN:DAYLIGHT
TZOFFSETFROM:+0100
TZOFFSETTO:+0200
TZNAME:CEST
DTSTART:20260329T010000
END:DAYLIGHT
BEGIN:STANDARD
TZOFFSETFROM:+0200
TZOFFSETTO:+0100
TZNAME:CET
DTSTART:20261025T010000
END:STANDARD
END:VTIMEZONE
BEGIN:VEVENT
DTSTART;TZID=Europe/Madrid:20250607T210000
DTEND;TZID=Europe/Madrid:20250701T220000
DTSTAMP:20260419T205859
CREATED:20250514T133753Z
LAST-MODIFIED:20250514T133753Z
UID:2840-1749330000-1751407200@www.gavarres.cat
SUMMARY:Concert de jazz a càrrec d'Alba Pujals emmarcat dins del nou cicle de música de Quart Sons de les Gavarres.
DESCRIPTION:Sons de les Gavarres és un conjunt de concerts en espais patrimonials que pretén establir un diàleg únic entre la música i el territori. La iniciativa neix amb l’objectiu de posar en relleu el patrimoni arquitectònic i històric del municipi\, tot acostant diferents gèneres musicals a la ciutadania. \nAlba Pujals presentarà “Apologia”\, que es durà a terme a l’esplanada de l’Església de Santa Margarida de Quart. \nHi haurà servei de food-trucks i restauració. A més\, en acabar el concert\, hi haurà una sessió de DJ’s! \n\nPreu:\n\nEntrada al concert + una beguda (refresc\, aigua o cervesa): 10€ (5€ amb el carnet Q-ART\, Som Cultura!)\n\n\nCompra d’entrades:\n\nEntrada al concert amb una beguda: aquí\nEntrada amb descompte\, presencialment a l’Oficina d’Atenció a la Ciutadania (OAC) de l’Ajuntament de Quart a l’Estació Jove\, de dilluns a divendres\, de 8.00 a 14.00 hores\, i dimarts de 16.00 a 19.00 hores\, mostrant el carnet Q-ART\, Som Cultura!.
URL:https://www.gavarres.cat/event/concert-de-jazz-a-carrec-dalba-pujals-emmarcat-dins-del-nou-cicle-de-musica-de-quart-sons-de-les-gavarres/
LOCATION:Exterior de l’antiga rectoria de Quart
ATTACH;FMTTYPE=image/jpeg:https://www.gavarres.cat/wp-content/uploads/2025/05/Unknown-1.jpeg
END:VEVENT
BEGIN:VEVENT
DTSTART;TZID=Europe/Madrid:20250628T093000
DTEND;TZID=Europe/Madrid:20250628T120000
DTSTAMP:20260419T205859
CREATED:20250530T112123Z
LAST-MODIFIED:20250530T114907Z
UID:2920-1751103000-1751112000@www.gavarres.cat
SUMMARY:De l’arbre al tap: pela de suro i esmorzar de peladors (28 de juny)
DESCRIPTION:El proper dissabte 28 de juny tornen les demostracions de pela de suro amb l’activitat De l’arbre al tap! \nUs descobrirem el primer pas del procés de transformació del suro\, que comença amb la pela al bosc i acaba tapant milions d’ampolles de vi\, cava i xampany arreu del món. \nDissabte 28 de juny viureu la pela del suro en directe i gaudirem d’un esmorzar de peladors a Can Vilallonga.  \nHorari: de 9.30h a 12.00h \nPreu:\n3€/ adults i joves a partir de 12 anys\n2€/ infants fins a 11 anys \nPunt de trobada:\nCan Vilallonga\nVeïnat de la Verneda\, s/n – Cassà de la Selva
URL:https://www.gavarres.cat/event/de-larbre-al-tap-28-06/
LOCATION:Can Vilallonga\, Veïnat de la Verneda\, s/n\, Cassà de la Selva\, Girona\, Espanya
CATEGORIES:Activitat familiar
ORGANIZER;CN="Consorci de les Gavarres":MAILTO:mpiferrer@gavarres.cat
END:VEVENT
END:VCALENDAR