BEGIN:VCALENDAR
VERSION:2.0
PRODID:-//Consorci de les Gavarres - ECPv6.15.20//NONSGML v1.0//EN
CALSCALE:GREGORIAN
METHOD:PUBLISH
X-WR-CALNAME:Consorci de les Gavarres
X-ORIGINAL-URL:https://www.gavarres.cat
X-WR-CALDESC:Esdeveniments per Consorci de les Gavarres
REFRESH-INTERVAL;VALUE=DURATION:PT1H
X-Robots-Tag:noindex
X-PUBLISHED-TTL:PT1H
BEGIN:VTIMEZONE
TZID:Europe/Madrid
BEGIN:DAYLIGHT
TZOFFSETFROM:+0100
TZOFFSETTO:+0200
TZNAME:CEST
DTSTART:20240331T010000
END:DAYLIGHT
BEGIN:STANDARD
TZOFFSETFROM:+0200
TZOFFSETTO:+0100
TZNAME:CET
DTSTART:20241027T010000
END:STANDARD
BEGIN:DAYLIGHT
TZOFFSETFROM:+0100
TZOFFSETTO:+0200
TZNAME:CEST
DTSTART:20250330T010000
END:DAYLIGHT
BEGIN:STANDARD
TZOFFSETFROM:+0200
TZOFFSETTO:+0100
TZNAME:CET
DTSTART:20251026T010000
END:STANDARD
BEGIN:DAYLIGHT
TZOFFSETFROM:+0100
TZOFFSETTO:+0200
TZNAME:CEST
DTSTART:20260329T010000
END:DAYLIGHT
BEGIN:STANDARD
TZOFFSETFROM:+0200
TZOFFSETTO:+0100
TZNAME:CET
DTSTART:20261025T010000
END:STANDARD
END:VTIMEZONE
BEGIN:VEVENT
DTSTART;TZID=Europe/Madrid:20250531T093000
DTEND;TZID=Europe/Madrid:20250531T110000
DTSTAMP:20260419T194048
CREATED:20250331T055149Z
LAST-MODIFIED:20250529T114425Z
UID:2654-1748683800-1748689200@www.gavarres.cat
SUMMARY:Els tres senglars i el gran incendi forestal a les Gavarres 31/05
DESCRIPTION:El dissabte 31 de maig en el marc de la Fira del Tap a Cassà de la Selva us proposem una activitat familiar per conèixer el bosc mediterrani que ens envolta. Si voleu passar un matí divertit i aprenent veniu a la Can Vilallonga (Cassà) a les 9.30h del matí. Allà un membre de Gisfera ens explicarà una versió del conte tradicional dels Tres Porquets titulat “Els Tres Senglars i el gran incendi forestal”. A través de diferents dinàmiques de joc coneixerem com la vegetació s’adapta a les condicions climàtiques i als incendis forestals\, també parlarem de com la gestió forestal pot ajudar per tal de reduir el risc de grans incendis forestals i afectacions a les zones habitades. \nL’activitat és gratuïta\, només cal que us inscriviu al formulari de sota.
URL:https://www.gavarres.cat/event/els-tres-porquets-i-el-gran-incendi-forestal-a-les-gavarres-13-04/
LOCATION:Girona
CATEGORIES:Activitat familiar
ATTACH;FMTTYPE=image/jpeg:https://www.gavarres.cat/wp-content/uploads/2025/03/3Porquets.jpg
END:VEVENT
BEGIN:VEVENT
DTSTART;TZID=Europe/Madrid:20250531T210000
DTEND;TZID=Europe/Madrid:20250531T220000
DTSTAMP:20260419T194048
CREATED:20250514T133425Z
LAST-MODIFIED:20250514T133425Z
UID:2832-1748725200-1748728800@www.gavarres.cat
SUMMARY:Concert de jazz a càrrec de la formació Wax & Boogie emmarcat dins del nou cicle de música de Quart Sons de les Gavarres.
DESCRIPTION:Sons de les Gavarres és un conjunt de concerts en espais patrimonials que pretén establir un diàleg únic entre la música i el territori. La iniciativa neix amb l’objectiu de posar en relleu el patrimoni arquitectònic i històric del municipi\, tot acostant diferents gèneres musicals a la ciutadania. \nEl concert de Wax & Boogie es durà a terme a l’esplanada de l’Església de Santa Margarida de Quart. \nHi haurà servei de food-trucks i restauració. A més\, en acabar el concert\, hi haurà una sessió de DJ’s! \n\nPreu:\n\nEntrada al concert + una beguda (refresc\, aigua o cervesa): 10€ (5€ amb el carnet Q-ART\, Som Cultura!)\n\n\nCompra d’entrades:\n\nEntrada al concert amb una beguda: aquí\nEntrada amb descompte\, presencialment a l’Oficina d’Atenció a la Ciutadania (OAC) de l’Ajuntament de Quart a l’Estació Jove\, de dilluns a divendres\, de 8.00 a 14.00 hores\, i dimarts de 16.00 a 19.00 hores\, mostrant el carnet Q-ART\, Som Cultura!.
URL:https://www.gavarres.cat/event/concert-de-jazz-a-carrec-de-la-formacio-wax-boogie-emmarcat-dins-del-nou-cicle-de-musica-de-quart-sons-de-les-gavarres/
LOCATION:Exterior de l’antiga rectoria de Quart
ATTACH;FMTTYPE=image/jpeg:https://www.gavarres.cat/wp-content/uploads/2025/05/Unknown-1.jpeg
END:VEVENT
END:VCALENDAR