BEGIN:VCALENDAR
VERSION:2.0
PRODID:-//Consorci de les Gavarres - ECPv6.15.20//NONSGML v1.0//EN
CALSCALE:GREGORIAN
METHOD:PUBLISH
X-ORIGINAL-URL:https://www.gavarres.cat
X-WR-CALDESC:Esdeveniments per Consorci de les Gavarres
REFRESH-INTERVAL;VALUE=DURATION:PT1H
X-Robots-Tag:noindex
X-PUBLISHED-TTL:PT1H
BEGIN:VTIMEZONE
TZID:Europe/Madrid
BEGIN:DAYLIGHT
TZOFFSETFROM:+0100
TZOFFSETTO:+0200
TZNAME:CEST
DTSTART:20230326T010000
END:DAYLIGHT
BEGIN:STANDARD
TZOFFSETFROM:+0200
TZOFFSETTO:+0100
TZNAME:CET
DTSTART:20231029T010000
END:STANDARD
BEGIN:DAYLIGHT
TZOFFSETFROM:+0100
TZOFFSETTO:+0200
TZNAME:CEST
DTSTART:20240331T010000
END:DAYLIGHT
BEGIN:STANDARD
TZOFFSETFROM:+0200
TZOFFSETTO:+0100
TZNAME:CET
DTSTART:20241027T010000
END:STANDARD
BEGIN:DAYLIGHT
TZOFFSETFROM:+0100
TZOFFSETTO:+0200
TZNAME:CEST
DTSTART:20250330T010000
END:DAYLIGHT
BEGIN:STANDARD
TZOFFSETFROM:+0200
TZOFFSETTO:+0100
TZNAME:CET
DTSTART:20251026T010000
END:STANDARD
END:VTIMEZONE
BEGIN:VEVENT
DTSTART;TZID=Europe/Madrid:20241204T183000
DTEND;TZID=Europe/Madrid:20241204T193000
DTSTAMP:20260419T234453
CREATED:20241120T101848Z
LAST-MODIFIED:20241129T132624Z
UID:2506-1733337000-1733340600@www.gavarres.cat
SUMMARY:Presentació del llibre "Isabel Vila: la primera sindicalista catalana" 4/12
DESCRIPTION:El dimecres 4 de desembre presentarem el llibre que recull la figura i trajectòria d’Isabel Vila\, la primera dona sindicalista catalana. El llibre està il·lustrat per Pilarín Bayés i els textos són de Núria Bassa i Toni Strubell. L’acte tindrà lloc a la Casa de Cultura de Girona a les 19:30h\, l’accés és lliure. Participaran a la presentació Maria Costa-Pau\, editora; Maria Puig\, vicepresidenta 3ª de la Diputació de Girona; i\, els autors del llibre.
URL:https://www.gavarres.cat/event/presentacio-del-llibre-isabel-vila-la-primera-sindicalista-catalana-4-12/
LOCATION:Casa de Cultura de Girona\, Pl. de l'Hospital\, 6\, Girona\, Girona
ATTACH;FMTTYPE=image/jpeg:https://www.gavarres.cat/wp-content/uploads/2024/11/Presentacio_Isabel_Vila.jpeg
END:VEVENT
END:VCALENDAR