BEGIN:VCALENDAR
VERSION:2.0
PRODID:-//Consorci de les Gavarres - ECPv6.15.20//NONSGML v1.0//EN
CALSCALE:GREGORIAN
METHOD:PUBLISH
X-ORIGINAL-URL:https://www.gavarres.cat
X-WR-CALDESC:Esdeveniments per Consorci de les Gavarres
REFRESH-INTERVAL;VALUE=DURATION:PT1H
X-Robots-Tag:noindex
X-PUBLISHED-TTL:PT1H
BEGIN:VTIMEZONE
TZID:Europe/Madrid
BEGIN:DAYLIGHT
TZOFFSETFROM:+0100
TZOFFSETTO:+0200
TZNAME:CEST
DTSTART:20230326T010000
END:DAYLIGHT
BEGIN:STANDARD
TZOFFSETFROM:+0200
TZOFFSETTO:+0100
TZNAME:CET
DTSTART:20231029T010000
END:STANDARD
BEGIN:DAYLIGHT
TZOFFSETFROM:+0100
TZOFFSETTO:+0200
TZNAME:CEST
DTSTART:20240331T010000
END:DAYLIGHT
BEGIN:STANDARD
TZOFFSETFROM:+0200
TZOFFSETTO:+0100
TZNAME:CET
DTSTART:20241027T010000
END:STANDARD
BEGIN:DAYLIGHT
TZOFFSETFROM:+0100
TZOFFSETTO:+0200
TZNAME:CEST
DTSTART:20250330T010000
END:DAYLIGHT
BEGIN:STANDARD
TZOFFSETFROM:+0200
TZOFFSETTO:+0100
TZNAME:CET
DTSTART:20251026T010000
END:STANDARD
END:VTIMEZONE
BEGIN:VEVENT
DTSTART;TZID=Europe/Madrid:20241130T090000
DTEND;TZID=Europe/Madrid:20241130T120000
DTSTAMP:20260419T234538
CREATED:20241105T114459Z
LAST-MODIFIED:20241106T140946Z
UID:2460-1732957200-1732968000@www.gavarres.cat
SUMMARY:Tast de Gavarres: Eccocivi
DESCRIPTION:Durant el mes de novembre us convidem a conèixer el vi de les Gavarres! \nTres itineraris guiats combinats amb visites i tastos a cellers gavarrencs idonis per descobrir aquest patrimoni. \nUs proposem un itinerari guiat al voltant de les vinyes per descobrir el volcà del Mont-rodó i una visita amb tast a Eccocivi\, un celler soterrat en un paratge singular de gran bellesa\, ubicat a l’interior de l’Espai Natural Protegit de Les Gavarres. \n  \nInformació pràctica:  \nData: dissabte 30 de novembre de 10.00h a 13.00h \nPreus: \nAdults: 25€ \nJoves de 7 a 17 anys: 5€ (no inclou tast de vins) \nGratuït per a infants fins a 6 anys \nRecorregut: 2\,4 kms \nInformació i reserves: visites@eccociwine.com – 609 14 85 76
URL:https://www.gavarres.cat/event/tast-de-gavarres-eccocivi/
LOCATION:Girona
CATEGORIES:Ruta
ATTACH;FMTTYPE=image/jpeg:https://www.gavarres.cat/wp-content/uploads/2024/11/TASTdeGAVARRES_generic.jpg
END:VEVENT
BEGIN:VEVENT
DTSTART;TZID=Europe/Madrid:20241130T090000
DTEND;TZID=Europe/Madrid:20241130T120000
DTSTAMP:20260419T234538
CREATED:20241114T101806Z
LAST-MODIFIED:20241120T113212Z
UID:2493-1732957200-1732968000@www.gavarres.cat
SUMMARY:Bolets i altres fruits de tardor 30/11
DESCRIPTION:Per l’últim dissabte de novembre us proposem una sortida per conèixer i reconèixer els bolets i els fruits de tardor que ens ofereix el bosc. En aquesta ocasió anirem a passejar per la zona de Juià de la mà de l’Enric Fàbregas de Galanthus. El punt de trobada serà a l’aparcament de l’entrada del poble a les 10h del matí. Farem una volta circular enllaçant el castell de Juià amb Sant Joan Salerm i acabant allà mateix on tindrem els cotxes. L’activitat durarà unes tres hores així que porteu el menjar i el beure que considereu. \nL’activitat del dissabte 30 és gratuïta però cal que us apunteu al formula que trobareu tot seguit.
URL:https://www.gavarres.cat/event/bolets-i-altres-fruits-de-tardor-30-11/
LOCATION:Girona
CATEGORIES:Ruta,Sortida d'observació
ATTACH;FMTTYPE=image/jpeg:https://www.gavarres.cat/wp-content/uploads/2024/11/Bolets-Gavarres-2024-Xarxes.jpg
ORGANIZER;CN="Consorci de les Gavarres":MAILTO:mpiferrer@gavarres.cat
END:VEVENT
END:VCALENDAR