BEGIN:VCALENDAR
VERSION:2.0
PRODID:-//Consorci de les Gavarres - ECPv6.15.20//NONSGML v1.0//EN
CALSCALE:GREGORIAN
METHOD:PUBLISH
X-ORIGINAL-URL:https://www.gavarres.cat
X-WR-CALDESC:Esdeveniments per Consorci de les Gavarres
REFRESH-INTERVAL;VALUE=DURATION:PT1H
X-Robots-Tag:noindex
X-PUBLISHED-TTL:PT1H
BEGIN:VTIMEZONE
TZID:Europe/Madrid
BEGIN:DAYLIGHT
TZOFFSETFROM:+0100
TZOFFSETTO:+0200
TZNAME:CEST
DTSTART:20230326T010000
END:DAYLIGHT
BEGIN:STANDARD
TZOFFSETFROM:+0200
TZOFFSETTO:+0100
TZNAME:CET
DTSTART:20231029T010000
END:STANDARD
BEGIN:DAYLIGHT
TZOFFSETFROM:+0100
TZOFFSETTO:+0200
TZNAME:CEST
DTSTART:20240331T010000
END:DAYLIGHT
BEGIN:STANDARD
TZOFFSETFROM:+0200
TZOFFSETTO:+0100
TZNAME:CET
DTSTART:20241027T010000
END:STANDARD
BEGIN:DAYLIGHT
TZOFFSETFROM:+0100
TZOFFSETTO:+0200
TZNAME:CEST
DTSTART:20250330T010000
END:DAYLIGHT
BEGIN:STANDARD
TZOFFSETFROM:+0200
TZOFFSETTO:+0100
TZNAME:CET
DTSTART:20251026T010000
END:STANDARD
END:VTIMEZONE
BEGIN:VEVENT
DTSTART;TZID=Europe/Madrid:20241127T143000
DTEND;TZID=Europe/Madrid:20241127T163000
DTSTAMP:20260419T235300
CREATED:20241107T140809Z
LAST-MODIFIED:20241108T140524Z
UID:2479-1732717800-1732725000@www.gavarres.cat
SUMMARY:Fem Xarxa! Jornada de networking entre productors locals i allotjaments de les Gavarres
DESCRIPTION:El proper dimecres 27 de novembre tindrà lloc una jornada de networking entre productors locals i allotjaments turístics de Les Gavarres i els seus voltants. \nPrograma de la jornada: \n15.30h \n\nPresentació de les accions preses en materia de desenvolupament local i promoció de producte local durant el 2024 pel Consorci de les Gavarres i el Pla Estratègic de desenvolupament local ocupació dels municipis de La Bisbal d’Empordà\, Forallac\, Cruïlles\, Monells i Sant Sadurní de l’Heura\, Corçà i Ullastret.\nPresentació de productors i productes locals\n\n15:45h \n\nSessió de networking entre productors locals i allotjaments turístics de les Gavarres i voltants. Degustació de mostra de productes.\n\n17.30h \n\nComiat i finalització de la jornada.\n\nInformació pràctica: \nCal inscriure’s al següent enllaç: https://forms.office.com/e/rs4U1SkCy6  \nData: dimecres 27 de novembre \nHora: de 15.30h a 17.30h \nLloc: Edifici A de l’IRTA Monells
URL:https://www.gavarres.cat/event/fem-xarxa01/
LOCATION:Girona
ATTACH;FMTTYPE=image/jpeg:https://www.gavarres.cat/wp-content/uploads/2024/11/Fem-Xarxa-4.jpg
END:VEVENT
END:VCALENDAR