BEGIN:VCALENDAR
VERSION:2.0
PRODID:-//Consorci de les Gavarres - ECPv6.15.20//NONSGML v1.0//EN
CALSCALE:GREGORIAN
METHOD:PUBLISH
X-ORIGINAL-URL:https://www.gavarres.cat
X-WR-CALDESC:Esdeveniments per Consorci de les Gavarres
REFRESH-INTERVAL;VALUE=DURATION:PT1H
X-Robots-Tag:noindex
X-PUBLISHED-TTL:PT1H
BEGIN:VTIMEZONE
TZID:Europe/Madrid
BEGIN:DAYLIGHT
TZOFFSETFROM:+0100
TZOFFSETTO:+0200
TZNAME:CEST
DTSTART:20230326T010000
END:DAYLIGHT
BEGIN:STANDARD
TZOFFSETFROM:+0200
TZOFFSETTO:+0100
TZNAME:CET
DTSTART:20231029T010000
END:STANDARD
BEGIN:DAYLIGHT
TZOFFSETFROM:+0100
TZOFFSETTO:+0200
TZNAME:CEST
DTSTART:20240331T010000
END:DAYLIGHT
BEGIN:STANDARD
TZOFFSETFROM:+0200
TZOFFSETTO:+0100
TZNAME:CET
DTSTART:20241027T010000
END:STANDARD
BEGIN:DAYLIGHT
TZOFFSETFROM:+0100
TZOFFSETTO:+0200
TZNAME:CEST
DTSTART:20250330T010000
END:DAYLIGHT
BEGIN:STANDARD
TZOFFSETFROM:+0200
TZOFFSETTO:+0100
TZNAME:CET
DTSTART:20251026T010000
END:STANDARD
END:VTIMEZONE
BEGIN:VEVENT
DTSTART;TZID=Europe/Madrid:20241117T070000
DTEND;TZID=Europe/Madrid:20241117T123000
DTSTAMP:20260420T012333
CREATED:20240919T103937Z
LAST-MODIFIED:20240919T103937Z
UID:2317-1731826800-1731846600@www.gavarres.cat
SUMMARY:Cursa de Muntanya de Girona
DESCRIPTION:El diumenge 17 de novembre tindrà lloc la Cursa de Muntanya de Girona. Aquesta consta de tres modalitats: la Transgavarres (51\,5 km)\, la Trail (20\,5 km) i l’Express (13\,2 km). La sortida de la primera es farà a Palamós a les 8h al Passeig del Mar\, l’Express sortirà de la Plaça Sant Domènec de Girona a les 9:30h i la Trail d’allà mateix a les 10h. L’arribada de les tres modalitats es farà a la Plaça Sant Domènec de forma esglaonada\, trobareu tota la informació a la pàgina web de Klassmark -l’organitzador- clicant al següent enllaç.
URL:https://www.gavarres.cat/event/cursa-de-muntanya-de-girona/
LOCATION:Girona
CATEGORIES:Activitat esportiva,Cursa de muntanya
ATTACH;FMTTYPE=image/jpeg:https://www.gavarres.cat/wp-content/uploads/2024/09/cursa-de-muntanya-de-girona.jpg
END:VEVENT
BEGIN:VEVENT
DTSTART;TZID=Europe/Madrid:20241117T080000
DTEND;TZID=Europe/Madrid:20241117T103000
DTSTAMP:20260420T012333
CREATED:20240919T102518Z
LAST-MODIFIED:20240919T102518Z
UID:2314-1731830400-1731839400@www.gavarres.cat
SUMMARY:Marxa de Mont-ras
DESCRIPTION:El diumenge 17 de novembre l’Associació Cultural i Recreativa de Mont-ras organitza la Marxa BTT “Fem un Crit per l’ELA”. La sortida es farà a les 9h del matí al camp de futbol del Mont-ras (enllaç al google maps) i l’arribada es farà allà mateix fins a les 11:30h. Trobareu més informació a la web de l’organitzador\, clicant al següent enllaç.
URL:https://www.gavarres.cat/event/marxa-de-mont-ras/
LOCATION:Girona
CATEGORIES:Activitat esportiva
ATTACH;FMTTYPE=image/png:https://www.gavarres.cat/wp-content/uploads/2024/09/CARTELL.png
END:VEVENT
END:VCALENDAR