BEGIN:VCALENDAR
VERSION:2.0
PRODID:-//Consorci de les Gavarres - ECPv6.15.20//NONSGML v1.0//EN
CALSCALE:GREGORIAN
METHOD:PUBLISH
X-ORIGINAL-URL:https://www.gavarres.cat
X-WR-CALDESC:Esdeveniments per Consorci de les Gavarres
REFRESH-INTERVAL;VALUE=DURATION:PT1H
X-Robots-Tag:noindex
X-PUBLISHED-TTL:PT1H
BEGIN:VTIMEZONE
TZID:Europe/Madrid
BEGIN:DAYLIGHT
TZOFFSETFROM:+0100
TZOFFSETTO:+0200
TZNAME:CEST
DTSTART:20230326T010000
END:DAYLIGHT
BEGIN:STANDARD
TZOFFSETFROM:+0200
TZOFFSETTO:+0100
TZNAME:CET
DTSTART:20231029T010000
END:STANDARD
BEGIN:DAYLIGHT
TZOFFSETFROM:+0100
TZOFFSETTO:+0200
TZNAME:CEST
DTSTART:20240331T010000
END:DAYLIGHT
BEGIN:STANDARD
TZOFFSETFROM:+0200
TZOFFSETTO:+0100
TZNAME:CET
DTSTART:20241027T010000
END:STANDARD
BEGIN:DAYLIGHT
TZOFFSETFROM:+0100
TZOFFSETTO:+0200
TZNAME:CEST
DTSTART:20250330T010000
END:DAYLIGHT
BEGIN:STANDARD
TZOFFSETFROM:+0200
TZOFFSETTO:+0100
TZNAME:CET
DTSTART:20251026T010000
END:STANDARD
END:VTIMEZONE
BEGIN:VEVENT
DTSTART;TZID=Europe/Madrid:20241110T070000
DTEND;TZID=Europe/Madrid:20241110T120000
DTSTAMP:20260420T012430
CREATED:20240919T101238Z
LAST-MODIFIED:20240919T101238Z
UID:2311-1731222000-1731240000@www.gavarres.cat
SUMMARY:Gavarres Gravity Race
DESCRIPTION:El diumenge 10 de novembre Girona Gravity Club Ciclista organitza la tercera edició de Gavarres Gravity Race\, puntuable per la Copa Catalana Enduro. El recorregut seran 32 km amb sortida i arribada a Girona. Trobareu més informació a la web de l’organització\, clicant al següent enllaç i a la pàgina de la Federació Catalana de Ciclisme\, clicant a l’enllaç.
URL:https://www.gavarres.cat/event/gavarres-gravity-race/
LOCATION:Girona
CATEGORIES:Activitat esportiva
END:VEVENT
BEGIN:VEVENT
DTSTART;TZID=Europe/Madrid:20241110T090000
DTEND;TZID=Europe/Madrid:20241110T120000
DTSTAMP:20260420T012430
CREATED:20241028T125133Z
LAST-MODIFIED:20241029T093403Z
UID:2423-1731229200-1731240000@www.gavarres.cat
SUMMARY:Ruta de les fonts de Castell d'Aro 10/11
DESCRIPTION:Si us ve de gust una passejada matinal a l’entorn d’aquestes construccions originades al voltant de l’aigua i el seu ús per les persones\, ens trobem el proper diumenge 10 de novembre! Aquest dia organitzem la “Ruta de les fonts a Castell d’Aro” guiada per en Jaume Ramot del Grup Natura Sterna. El punt de trobar és a la Plaça del Poeta Sitjar a les 10h. L’activitat durarà unes tres hores\, porteu el menjar i el beure que considereu\, així com calçat i roba còmode. \nL’activitat és gratuïta però les places són limitades\, us heu d’inscriure al formulari adjunt.
URL:https://www.gavarres.cat/event/ruta-de-les-fonts-de-castell-daro/
LOCATION:Girona
ATTACH;FMTTYPE=image/jpeg:https://www.gavarres.cat/wp-content/uploads/2024/10/Fonts-Gavarres-2024-Xarxes.jpg
ORGANIZER;CN="Consorci de les Gavarres":MAILTO:mpiferrer@gavarres.cat
END:VEVENT
END:VCALENDAR