BEGIN:VCALENDAR
VERSION:2.0
PRODID:-//Consorci de les Gavarres - ECPv6.15.20//NONSGML v1.0//EN
CALSCALE:GREGORIAN
METHOD:PUBLISH
X-ORIGINAL-URL:https://www.gavarres.cat
X-WR-CALDESC:Esdeveniments per Consorci de les Gavarres
REFRESH-INTERVAL;VALUE=DURATION:PT1H
X-Robots-Tag:noindex
X-PUBLISHED-TTL:PT1H
BEGIN:VTIMEZONE
TZID:Europe/Madrid
BEGIN:DAYLIGHT
TZOFFSETFROM:+0100
TZOFFSETTO:+0200
TZNAME:CEST
DTSTART:20230326T010000
END:DAYLIGHT
BEGIN:STANDARD
TZOFFSETFROM:+0200
TZOFFSETTO:+0100
TZNAME:CET
DTSTART:20231029T010000
END:STANDARD
BEGIN:DAYLIGHT
TZOFFSETFROM:+0100
TZOFFSETTO:+0200
TZNAME:CEST
DTSTART:20240331T010000
END:DAYLIGHT
BEGIN:STANDARD
TZOFFSETFROM:+0200
TZOFFSETTO:+0100
TZNAME:CET
DTSTART:20241027T010000
END:STANDARD
BEGIN:DAYLIGHT
TZOFFSETFROM:+0100
TZOFFSETTO:+0200
TZNAME:CEST
DTSTART:20250330T010000
END:DAYLIGHT
BEGIN:STANDARD
TZOFFSETFROM:+0200
TZOFFSETTO:+0100
TZNAME:CET
DTSTART:20251026T010000
END:STANDARD
END:VTIMEZONE
BEGIN:VEVENT
DTSTART;TZID=Europe/Madrid:20241025T180000
DTEND;TZID=Europe/Madrid:20241027T160000
DTSTAMP:20260420T030422
CREATED:20241015T074207Z
LAST-MODIFIED:20241015T074207Z
UID:2377-1729879200-1730044800@www.gavarres.cat
SUMMARY:I Cuita de pega
DESCRIPTION:L’últim cap de setmana d’octubre tindrà lloc a l’entorn de la Rajoleria de Can Frigola la I Cuita de pega de la mà d’en Josep Matés i l’Ajuntament de Forallac. \nDivendres 25\, a les 19h. hi haurà la presentació de la primera cuita per la recuperació de l’ofici de pegaire. A l’ajuntament de Forallac. La resta d’activitats ja es faran a l’entorn de la Rajoleria de can Frigola (Sant Climent de Peralta) \nDissabte 26\, a partir de les 9h s’enfornarà el forn de pega i s’encendrà. A partir de les 16h hi haurà la crema de la teia al forn. \nDiumenge 27\, a partir de les 9h crema del quitrà. Migdia/tarda sortida de la pega. \nDissabte 2 de novembre\, a partir de les 9h trossejat i recollida de la pega negre. \nEl Consorci de les Gavarres i l’empresa Alameda Torrent hi han col·laborat.
URL:https://www.gavarres.cat/event/i-cuita-de-pega/
LOCATION:Girona
ATTACH;FMTTYPE=image/jpeg:https://www.gavarres.cat/wp-content/uploads/2024/10/WhatsApp-Image-2024-10-10-at-13.42.30.jpeg
END:VEVENT
BEGIN:VEVENT
DTSTART;TZID=Europe/Madrid:20241027T063000
DTEND;TZID=Europe/Madrid:20241027T120000
DTSTAMP:20260420T030422
CREATED:20241004T083904Z
LAST-MODIFIED:20241025T071409Z
UID:2335-1730010600-1730030400@www.gavarres.cat
SUMMARY:46a Travessada de les Gavarres
DESCRIPTION:La Colla Excursionista Cassanenca organitza pel proper diumenge 27 d’octubre la 46ena travessada de les Gavarres la qual transcórrer pels municipis de Forallac i La Bisbal. El punt de sortida és a la Carbonera de Forallac a les 07:30. El recorregut serà circular i d’uns 20 km. Més informació de recorregut al wikiloc. \nCliqueu aquí per consultar el cartell.
URL:https://www.gavarres.cat/event/46a-travessada-de-les-gavarres/
LOCATION:Girona
CATEGORIES:Caminada Popular
ORGANIZER;CN="Colla Excursionista Cassanenca":MAILTO:info@la-colla.cat
END:VEVENT
END:VCALENDAR