BEGIN:VCALENDAR
VERSION:2.0
PRODID:-//Consorci de les Gavarres - ECPv6.15.20//NONSGML v1.0//EN
CALSCALE:GREGORIAN
METHOD:PUBLISH
X-ORIGINAL-URL:https://www.gavarres.cat
X-WR-CALDESC:Esdeveniments per Consorci de les Gavarres
REFRESH-INTERVAL;VALUE=DURATION:PT1H
X-Robots-Tag:noindex
X-PUBLISHED-TTL:PT1H
BEGIN:VTIMEZONE
TZID:Europe/Madrid
BEGIN:DAYLIGHT
TZOFFSETFROM:+0100
TZOFFSETTO:+0200
TZNAME:CEST
DTSTART:20230326T010000
END:DAYLIGHT
BEGIN:STANDARD
TZOFFSETFROM:+0200
TZOFFSETTO:+0100
TZNAME:CET
DTSTART:20231029T010000
END:STANDARD
BEGIN:DAYLIGHT
TZOFFSETFROM:+0100
TZOFFSETTO:+0200
TZNAME:CEST
DTSTART:20240331T010000
END:DAYLIGHT
BEGIN:STANDARD
TZOFFSETFROM:+0200
TZOFFSETTO:+0100
TZNAME:CET
DTSTART:20241027T010000
END:STANDARD
BEGIN:DAYLIGHT
TZOFFSETFROM:+0100
TZOFFSETTO:+0200
TZNAME:CEST
DTSTART:20250330T010000
END:DAYLIGHT
BEGIN:STANDARD
TZOFFSETFROM:+0200
TZOFFSETTO:+0100
TZNAME:CET
DTSTART:20251026T010000
END:STANDARD
END:VTIMEZONE
BEGIN:VEVENT
DTSTART;TZID=Europe/Madrid:20241024T080000
DTEND;TZID=Europe/Madrid:20241024T130000
DTSTAMP:20260420T030331
CREATED:20241011T124043Z
LAST-MODIFIED:20241011T124106Z
UID:2371-1729756800-1729774800@www.gavarres.cat
SUMMARY:Jornada CORK Experience
DESCRIPTION:El proper dijous 24 d’octubre\, tindrà lloc la jornada de sensibilització i networking que donarà inici al projecte “Cork Experience: el suro\, un món per descobrir”\, al qual el Consorci de les Gavarres hi participa com a soci. L’esdeveniment se celebrarà a l’Hospital Centrovivo\, a Badajoz. \nL’objectiu d’aquesta jornada és sensibilitzar tots els actors implicats en la cadena de valor dels espais naturals surers\, sobre la seva fragilitat i compatibilitat per a un ús turístic i recreatiu responsable. A més\, es presentarà el projecte Cork Experience\, l’objectiu del qual és desenvolupar nous productes turístics sostenibles basats en el suro\, fomentant la innovació i el treball en xarxa. \nDetalls de l’esdeveniment:\n• Data: 24 d’octubre del 2024\n• Lloc: Hospital Centrovivo\, Badajoz https://elhospital.dip-badajoz.es/\n• Horari: 9:00 – 14:00\nLa jornada comptarà amb la participació d’experts en l’ecosistema de les suredes i en l’ús sostenible d’espais naturals.\nPrograma:\n• 9:00 – 9:30: Acreditació i benvinguda\n• 9:30 – 10:00: Presentació del projecte i objectius\n• 10:00 – 11:00: Conferència: “La fragilitat dels espais naturals surers i el seu ús públic” a càrrec de Ramón Santiago Beltrán – CICYTEX\n• 11:00 – 12:00: Taula rodona\n• 12:00 – 12:30: Pausa cafè\n• 12:30 – 14:00: Espai de networking entre els assistents \nInscripció gratuïta: FORMULARI D’INSCRIPCIÓ \nAquest projecte\, en el marc de la convocatòria Experiències Turisme Espanya\, és finançat per la Unió Europea – Next Generation EU\, a través del Ministeri d’Indústria i Turisme.
URL:https://www.gavarres.cat/event/2371/
LOCATION:Girona
ATTACH;FMTTYPE=image/jpeg:https://www.gavarres.cat/wp-content/uploads/2024/10/Cork-experience-cartell_page-0001.jpg
END:VEVENT
BEGIN:VEVENT
DTSTART;TZID=Europe/Madrid:20241024T140000
DTEND;TZID=Europe/Madrid:20241024T160000
DTSTAMP:20260420T030331
CREATED:20241009T092443Z
LAST-MODIFIED:20241021T075207Z
UID:2361-1729778400-1729785600@www.gavarres.cat
SUMMARY:Com comunicar per vendre més i millor
DESCRIPTION:Si ets un productor/a o elaborador/a\, aquesta jornada t’interessa: \n\n\nEl proper dijous 24 d’octubre de 15h a 17h tindrà lloc la jornada “Com comunicar per vendre més i millor”. \nAquestes seran les presentacions: \n▶️ Els segells agroalimentaris com a eina de promoció per a productes locals: a càrrec de Carles Benítez\, tècnic del segell Girona Excel.lent. \n▶️ Cas pràctic: com potenciar la imatge de marca d’un producte agroalimentari: a càrrec d’Alba Sala\, export manager de Can Bech. \n▶️ Com comunicar per vendre més i millor el teu producte agroalimentari: a càrrec d’Alba Bruguera\, co-fundadora de Food and Media\, agència de comunicació especialitzada en gastronomia. \nA l’acabar\, també tindrem temps de fer networking entre els participants tot fent un mos i un glop. \n🗓 24 d’octubre\n⏰ de 15:00h a 17:00h\n📍Nexes\, el viver d’empreses de Forallac (Carrer dels Oms\, 10 – 17111 Vulpellac). \n✍ Per incriure’t\, clica aquí: M’APUNTO!
URL:https://www.gavarres.cat/event/com-comunicar-per-vendre-mes-i-millor/
LOCATION:Girona
ATTACH;FMTTYPE=image/jpeg:https://www.gavarres.cat/wp-content/uploads/2024/10/Cartell.jpg
END:VEVENT
END:VCALENDAR