BEGIN:VCALENDAR
VERSION:2.0
PRODID:-//Consorci de les Gavarres - ECPv6.15.20//NONSGML v1.0//EN
CALSCALE:GREGORIAN
METHOD:PUBLISH
X-ORIGINAL-URL:https://www.gavarres.cat
X-WR-CALDESC:Esdeveniments per Consorci de les Gavarres
REFRESH-INTERVAL;VALUE=DURATION:PT1H
X-Robots-Tag:noindex
X-PUBLISHED-TTL:PT1H
BEGIN:VTIMEZONE
TZID:Europe/Madrid
BEGIN:DAYLIGHT
TZOFFSETFROM:+0100
TZOFFSETTO:+0200
TZNAME:CEST
DTSTART:20230326T010000
END:DAYLIGHT
BEGIN:STANDARD
TZOFFSETFROM:+0200
TZOFFSETTO:+0100
TZNAME:CET
DTSTART:20231029T010000
END:STANDARD
BEGIN:DAYLIGHT
TZOFFSETFROM:+0100
TZOFFSETTO:+0200
TZNAME:CEST
DTSTART:20240331T010000
END:DAYLIGHT
BEGIN:STANDARD
TZOFFSETFROM:+0200
TZOFFSETTO:+0100
TZNAME:CET
DTSTART:20241027T010000
END:STANDARD
BEGIN:DAYLIGHT
TZOFFSETFROM:+0100
TZOFFSETTO:+0200
TZNAME:CEST
DTSTART:20250330T010000
END:DAYLIGHT
BEGIN:STANDARD
TZOFFSETFROM:+0200
TZOFFSETTO:+0100
TZNAME:CET
DTSTART:20251026T010000
END:STANDARD
END:VTIMEZONE
BEGIN:VEVENT
DTSTART;TZID=Europe/Madrid:20241020T060000
DTEND;TZID=Europe/Madrid:20241020T120000
DTSTAMP:20260420T025624
CREATED:20240919T100222Z
LAST-MODIFIED:20240919T100222Z
UID:2307-1729404000-1729425600@www.gavarres.cat
SUMMARY:Marxa de l'Arboç
DESCRIPTION:El proper diumenge 20 d’octubre tindrà lloc la XLV edició de la Marxa de l’Arboç. La sortida es farà de forma esglaonada de les 7 a les 8h a la Piscina Municipal de La Bisbal. Hi haurà dos recorreguts un de curt de 12\,75 km i un de llarg de 19\,6 km. Per les inscripcions i més informació consulteu el següent enllaç.
URL:https://www.gavarres.cat/event/marxa-de-larboc/
LOCATION:Girona
CATEGORIES:Activitat esportiva
ATTACH;FMTTYPE=image/jpeg:https://www.gavarres.cat/wp-content/uploads/2024/09/Marxa-de-lArboc.jpg
END:VEVENT
BEGIN:VEVENT
DTSTART;TZID=Europe/Madrid:20241020T080000
DTEND;TZID=Europe/Madrid:20241020T160000
DTSTAMP:20260420T025624
CREATED:20240919T095343Z
LAST-MODIFIED:20240919T095343Z
UID:2303-1729411200-1729440000@www.gavarres.cat
SUMMARY:SGRAIL 100
DESCRIPTION:La prova SGRAIL 100 es tracta d’una triatló de llarga distància que tindrà lloc el dia 20 d’octubre i consta de tres etapes: \n\nEtapa 1: natació a Cadaqués.\nEtapa 2: cursa de 88 km en bicicleta gravel de Cadaquès a Celrà.\nEtapa 3: cursa a peu de Celrà a Girona.\n\nEl promotor és el Club Ciclista No Nature No Future\, els quals tenen tota la informació al següent enllaç.
URL:https://www.gavarres.cat/event/sgrail-100/
LOCATION:Girona
CATEGORIES:Activitat esportiva
ATTACH;FMTTYPE=image/jpeg:https://www.gavarres.cat/wp-content/uploads/2024/09/SGRAIL-100.jpg
END:VEVENT
BEGIN:VEVENT
DTSTART;TZID=Europe/Madrid:20241020T110000
DTEND;TZID=Europe/Madrid:20241020T163000
DTSTAMP:20260420T025624
CREATED:20241009T065143Z
LAST-MODIFIED:20241009T065249Z
UID:2354-1729422000-1729441800@www.gavarres.cat
SUMMARY:Aplec de Fitor 20/10
DESCRIPTION:El diumenge 20 d’octubre es recupera el tradicional aplec de Santa Coloma de Fitor organitzat per l’Associació d’Amics de Fitor. La diada començarà a les 12h amb la tradicional ballada de sardanes a càrrec de la Cobla Bisbal Jove. Seguidament a les 14h es farà una arrossada popular a 12 € el tiquet i cal portar taules\, cadires\, coberts\, gots i el beure. Qui vulgui pot portar la seva carn per fer-la a la brasa. Com a cloenda a les 16h hi haurà música en viu a càrrec de Canela N’Drama. \nL’acte compte amb la col·laboració de l’Ajuntament de Forallac\, el Consorci de les Gavarres i l’ADF. \nCartell complet festa major de Fitor
URL:https://www.gavarres.cat/event/aplec-de-fitor-20-10/
LOCATION:Girona
CATEGORIES:Activitat familiar,Celebració
ATTACH;FMTTYPE=image/jpeg:https://www.gavarres.cat/wp-content/uploads/2024/10/cartell-aplecfitor.jpg
END:VEVENT
END:VCALENDAR