BEGIN:VCALENDAR
VERSION:2.0
PRODID:-//Consorci de les Gavarres - ECPv6.15.20//NONSGML v1.0//EN
CALSCALE:GREGORIAN
METHOD:PUBLISH
X-WR-CALNAME:Consorci de les Gavarres
X-ORIGINAL-URL:https://www.gavarres.cat
X-WR-CALDESC:Esdeveniments per Consorci de les Gavarres
REFRESH-INTERVAL;VALUE=DURATION:PT1H
X-Robots-Tag:noindex
X-PUBLISHED-TTL:PT1H
BEGIN:VTIMEZONE
TZID:Europe/Madrid
BEGIN:DAYLIGHT
TZOFFSETFROM:+0100
TZOFFSETTO:+0200
TZNAME:CEST
DTSTART:20230326T010000
END:DAYLIGHT
BEGIN:STANDARD
TZOFFSETFROM:+0200
TZOFFSETTO:+0100
TZNAME:CET
DTSTART:20231029T010000
END:STANDARD
BEGIN:DAYLIGHT
TZOFFSETFROM:+0100
TZOFFSETTO:+0200
TZNAME:CEST
DTSTART:20240331T010000
END:DAYLIGHT
BEGIN:STANDARD
TZOFFSETFROM:+0200
TZOFFSETTO:+0100
TZNAME:CET
DTSTART:20241027T010000
END:STANDARD
BEGIN:DAYLIGHT
TZOFFSETFROM:+0100
TZOFFSETTO:+0200
TZNAME:CEST
DTSTART:20250330T010000
END:DAYLIGHT
BEGIN:STANDARD
TZOFFSETFROM:+0200
TZOFFSETTO:+0100
TZNAME:CET
DTSTART:20251026T010000
END:STANDARD
END:VTIMEZONE
BEGIN:VEVENT
DTSTART;TZID=Europe/Madrid:20241005T080000
DTEND;TZID=Europe/Madrid:20241006T140000
DTSTAMP:20260420T025317
CREATED:20240919T073914Z
LAST-MODIFIED:20240919T084711Z
UID:2299-1728115200-1728223200@www.gavarres.cat
SUMMARY:Oncotrail 2024
DESCRIPTION:El dissabte 5 d’octubre tindrà lloc l’11ena edició de l’Oncotrail\, una cursa solidària per recaptar fons per la investigació contra el càncer. El promotor és la Fundació Oncolliga de Girona. El punt de sortida serà la Plaça de Can Mario de Palafrugell a les 9h del matí. El recorregut circular serà de 100 km i recorrerà els pobles de Palamós\, Begur\, Regencós\, Pals\, Forallac\, la Bisbal\, Calonge\, Vall-llobrega i Mont-ras. L’arribada es farà de forma escalonada al Passatge Rosa Lavilla de Palafrugell. Trobareu tota la informació al següent enllaç.
URL:https://www.gavarres.cat/event/oncotrail-2024/
LOCATION:Girona
CATEGORIES:Cursa de muntanya
ATTACH;FMTTYPE=image/jpeg:https://www.gavarres.cat/wp-content/uploads/2024/09/Oncotrail.jpg
END:VEVENT
BEGIN:VEVENT
DTSTART;TZID=Europe/Madrid:20241006T063000
DTEND;TZID=Europe/Madrid:20241006T130000
DTSTAMP:20260420T025317
CREATED:20240827T090038Z
LAST-MODIFIED:20240827T100507Z
UID:2190-1728196200-1728219600@www.gavarres.cat
SUMMARY:Caminada Memorial Isabel Vila
DESCRIPTION:El proper diumenge 6 d’octubre tindrà lloc la XXVena Caminada Memorial Isabel Vila. Com en les anteriors edicions es faran tres sortides simultànies des de les poblacions de Llagostera\, La Bisbal i Calonge. La primera perquè és on la Isabel Cinc Hores va viure i des d’on va sortir caminant per anar a socórrer els ferits de la revolta coneguda com els focs de La Bisbal i l’última població perquè és on va néixer. \nLa sortida de Llagostera serà a les 7:30h del matí des de la Plaça Catalunya. \nLa sortida de La Bisbal serà a les 8:00h des de la Palanca del Daró (Cruïlles). \nLa sortida de Calonge serà a les 8:00h a l’aparcament del Parc de l’Àvia Jovita per compartir vehicles fins a les cavalleries del Campament. \nLes tres columnes es concentraran a les 11h entre el Puig d’Aiguabona i el de la Gavarra per homenatjar a Isabel Vila amb la cantada de la cançó composta per Antoni Mas. \nEs recomana portar calçat i roba adequada\, protecció pel sol i menjar i beure segons es consideri.
URL:https://www.gavarres.cat/event/caminada-isabel-vila-24/
LOCATION:Girona
CATEGORIES:Caminada Popular,Celebració
ATTACH;FMTTYPE=image/jpeg:https://www.gavarres.cat/wp-content/uploads/2024/08/ISABELVILA_2024_1080.jpg
END:VEVENT
END:VCALENDAR