BEGIN:VCALENDAR
VERSION:2.0
PRODID:-//Consorci de les Gavarres - ECPv6.15.20//NONSGML v1.0//EN
CALSCALE:GREGORIAN
METHOD:PUBLISH
X-WR-CALNAME:Consorci de les Gavarres
X-ORIGINAL-URL:https://www.gavarres.cat
X-WR-CALDESC:Esdeveniments per Consorci de les Gavarres
REFRESH-INTERVAL;VALUE=DURATION:PT1H
X-Robots-Tag:noindex
X-PUBLISHED-TTL:PT1H
BEGIN:VTIMEZONE
TZID:Europe/Madrid
BEGIN:DAYLIGHT
TZOFFSETFROM:+0100
TZOFFSETTO:+0200
TZNAME:CEST
DTSTART:20230326T010000
END:DAYLIGHT
BEGIN:STANDARD
TZOFFSETFROM:+0200
TZOFFSETTO:+0100
TZNAME:CET
DTSTART:20231029T010000
END:STANDARD
BEGIN:DAYLIGHT
TZOFFSETFROM:+0100
TZOFFSETTO:+0200
TZNAME:CEST
DTSTART:20240331T010000
END:DAYLIGHT
BEGIN:STANDARD
TZOFFSETFROM:+0200
TZOFFSETTO:+0100
TZNAME:CET
DTSTART:20241027T010000
END:STANDARD
BEGIN:DAYLIGHT
TZOFFSETFROM:+0100
TZOFFSETTO:+0200
TZNAME:CEST
DTSTART:20250330T010000
END:DAYLIGHT
BEGIN:STANDARD
TZOFFSETFROM:+0200
TZOFFSETTO:+0100
TZNAME:CET
DTSTART:20251026T010000
END:STANDARD
END:VTIMEZONE
BEGIN:VEVENT
DTSTART;TZID=Europe/Madrid:20240922T070000
DTEND;TZID=Europe/Madrid:20240922T160000
DTSTAMP:20260420T042556
CREATED:20240625T101617Z
LAST-MODIFIED:20240625T101617Z
UID:2163-1726988400-1727020800@www.gavarres.cat
SUMMARY:Marxa de Monells 22/09
DESCRIPTION:L’Associació Marxa de Monells organitza pel 22 de setembre la XXI ena edició de dita marxa.
URL:https://www.gavarres.cat/event/marxa-de-monells-22-09/
LOCATION:Girona
CATEGORIES:Caminada Popular
END:VEVENT
END:VCALENDAR