BEGIN:VCALENDAR
VERSION:2.0
PRODID:-//Consorci de les Gavarres - ECPv6.15.20//NONSGML v1.0//EN
CALSCALE:GREGORIAN
METHOD:PUBLISH
X-WR-CALNAME:Consorci de les Gavarres
X-ORIGINAL-URL:https://www.gavarres.cat
X-WR-CALDESC:Esdeveniments per Consorci de les Gavarres
REFRESH-INTERVAL;VALUE=DURATION:PT1H
X-Robots-Tag:noindex
X-PUBLISHED-TTL:PT1H
BEGIN:VTIMEZONE
TZID:Europe/Madrid
BEGIN:DAYLIGHT
TZOFFSETFROM:+0100
TZOFFSETTO:+0200
TZNAME:CEST
DTSTART:20230326T010000
END:DAYLIGHT
BEGIN:STANDARD
TZOFFSETFROM:+0200
TZOFFSETTO:+0100
TZNAME:CET
DTSTART:20231029T010000
END:STANDARD
BEGIN:DAYLIGHT
TZOFFSETFROM:+0100
TZOFFSETTO:+0200
TZNAME:CEST
DTSTART:20240331T010000
END:DAYLIGHT
BEGIN:STANDARD
TZOFFSETFROM:+0200
TZOFFSETTO:+0100
TZNAME:CET
DTSTART:20241027T010000
END:STANDARD
BEGIN:DAYLIGHT
TZOFFSETFROM:+0100
TZOFFSETTO:+0200
TZNAME:CEST
DTSTART:20250330T010000
END:DAYLIGHT
BEGIN:STANDARD
TZOFFSETFROM:+0200
TZOFFSETTO:+0100
TZNAME:CET
DTSTART:20251026T010000
END:STANDARD
END:VTIMEZONE
BEGIN:VEVENT
DTSTART;VALUE=DATE:20240510
DTEND;VALUE=DATE:20240729
DTSTAMP:20260420T105651
CREATED:20240508T085708Z
LAST-MODIFIED:20240508T090515Z
UID:2046-1715382000-1722207599@www.gavarres.cat
SUMMARY:Exposició. Sentir la sureda
DESCRIPTION:El Museu del Suro de Catalunya a Palafrugell acull l’exposició fotogràfica de la Michele Curel. Des de l’11 de maig fins el 28 de juliol podreu veure 71 fotografies de la fotògrafa nord-americana establerta a Catalunya la qual\, ha dedicat els últims anys a fotografiar els peladors del suro a través d’una mirada personal\, emocional i poètica.
URL:https://www.gavarres.cat/event/exposicio-sentir-la-sureda/
LOCATION:Museu del Suro de Catalunya\, Placeta del Museu\, s/n\, Palafrugell\, Girona\, 17200
CATEGORIES:Exposició
ATTACH;FMTTYPE=image/jpeg:https://www.gavarres.cat/wp-content/uploads/2024/05/Expo_MuseuSuro.jpeg
END:VEVENT
BEGIN:VEVENT
DTSTART;TZID=Europe/Madrid:20240518T170000
DTEND;TZID=Europe/Madrid:20240518T193000
DTSTAMP:20260420T105651
CREATED:20240502T101218Z
LAST-MODIFIED:20240517T100044Z
UID:1981-1716051600-1716060600@www.gavarres.cat
SUMMARY:Artesania de la terra: la Nit dels museus al Museu de la Terrissa de Quart
DESCRIPTION:Aquest mes us proposem endinsar-vos al món dels terrissers! \nDissabte 18 de maig\, per celebrar la Nit dels museus\, durant tot el dia tindrà lloc una cuita al forn del museu oberta a tothom. A la tarda gaudirem d’un tast de vins naturals madurats amb cossis de ceràmica negra de Quart i al vespre visitarem el Museu de la Terrissa acompanyats per un terrisser.  \nHorari: de 18.00h a 20.30h \nPreu: 5€ \nPunt de trobada:\nMuseu de la Terrissa de Quart\nCarrer del Tren\, 58 – 17242 Quart \nInscripcions:\n– A través del formulari que trobareu al final de la pàgina\n– Enviant un correu a amarin@gavarres.cat
URL:https://www.gavarres.cat/event/artesania-de-la-terra-18/
LOCATION:Girona
ATTACH;FMTTYPE=image/jpeg:https://www.gavarres.cat/wp-content/uploads/2024/04/TERRISSA_DINA3_BR.jpg
END:VEVENT
END:VCALENDAR