BEGIN:VCALENDAR
VERSION:2.0
PRODID:-//Consorci de les Gavarres - ECPv6.15.20//NONSGML v1.0//EN
CALSCALE:GREGORIAN
METHOD:PUBLISH
X-ORIGINAL-URL:https://www.gavarres.cat
X-WR-CALDESC:Esdeveniments per Consorci de les Gavarres
REFRESH-INTERVAL;VALUE=DURATION:PT1H
X-Robots-Tag:noindex
X-PUBLISHED-TTL:PT1H
BEGIN:VTIMEZONE
TZID:Europe/Madrid
BEGIN:DAYLIGHT
TZOFFSETFROM:+0100
TZOFFSETTO:+0200
TZNAME:CEST
DTSTART:20230326T010000
END:DAYLIGHT
BEGIN:STANDARD
TZOFFSETFROM:+0200
TZOFFSETTO:+0100
TZNAME:CET
DTSTART:20231029T010000
END:STANDARD
BEGIN:DAYLIGHT
TZOFFSETFROM:+0100
TZOFFSETTO:+0200
TZNAME:CEST
DTSTART:20240331T010000
END:DAYLIGHT
BEGIN:STANDARD
TZOFFSETFROM:+0200
TZOFFSETTO:+0100
TZNAME:CET
DTSTART:20241027T010000
END:STANDARD
BEGIN:DAYLIGHT
TZOFFSETFROM:+0100
TZOFFSETTO:+0200
TZNAME:CEST
DTSTART:20250330T010000
END:DAYLIGHT
BEGIN:STANDARD
TZOFFSETFROM:+0200
TZOFFSETTO:+0100
TZNAME:CET
DTSTART:20251026T010000
END:STANDARD
END:VTIMEZONE
BEGIN:VEVENT
DTSTART;VALUE=DATE:20240510
DTEND;VALUE=DATE:20240729
DTSTAMP:20260420T105757
CREATED:20240508T085708Z
LAST-MODIFIED:20240508T090515Z
UID:2046-1715382000-1722207599@www.gavarres.cat
SUMMARY:Exposició. Sentir la sureda
DESCRIPTION:El Museu del Suro de Catalunya a Palafrugell acull l’exposició fotogràfica de la Michele Curel. Des de l’11 de maig fins el 28 de juliol podreu veure 71 fotografies de la fotògrafa nord-americana establerta a Catalunya la qual\, ha dedicat els últims anys a fotografiar els peladors del suro a través d’una mirada personal\, emocional i poètica.
URL:https://www.gavarres.cat/event/exposicio-sentir-la-sureda/
LOCATION:Museu del Suro de Catalunya\, Placeta del Museu\, s/n\, Palafrugell\, Girona\, 17200
CATEGORIES:Exposició
ATTACH;FMTTYPE=image/jpeg:https://www.gavarres.cat/wp-content/uploads/2024/05/Expo_MuseuSuro.jpeg
END:VEVENT
BEGIN:VEVENT
DTSTART;TZID=Europe/Madrid:20240511T090000
DTEND;TZID=Europe/Madrid:20240511T120000
DTSTAMP:20260420T105757
CREATED:20240430T071041Z
LAST-MODIFIED:20240430T094530Z
UID:1950-1715418000-1715428800@www.gavarres.cat
SUMMARY:Sortida d'observació d'abelles silvestres
DESCRIPTION:El proper dissabte 11 de maig us proposem una sortida tranquil·la per observar el desconegut món de les abelles silvestres. El biòleg i naturalista Narcís Vicens ens compartirà el que ell ha anat observant i aprenent de les abelles fent-nos fixar en la importantíssima i imprescindible tasca que fan per a la pol·linització de les plantes a la natura. El punt de trobada serà el Pavelló de Llambilles a les 10h. Guiats per en Narcís farem una passejada d’unes tres hores fins a la 13h. Porteu calçat i roba còmode\, així com el menjar i l’aigua que considereu. També dir-vos que si disposeu de caçapapallones o binocles d’aprop porteu-los que els utilitzareu.
URL:https://www.gavarres.cat/event/sortida-dobservacio-dabelles-silvestres/
LOCATION:Girona
CATEGORIES:Sortida d'observació
ATTACH;FMTTYPE=image/jpeg:https://www.gavarres.cat/wp-content/uploads/2024/04/Abella.jpg
ORGANIZER;CN="Consorci de les Gavarres":MAILTO:mpiferrer@gavarres.cat
END:VEVENT
BEGIN:VEVENT
DTSTART;TZID=Europe/Madrid:20240511T093000
DTEND;TZID=Europe/Madrid:20240511T130000
DTSTAMP:20260420T105757
CREATED:20240502T090417Z
LAST-MODIFIED:20240508T065257Z
UID:1974-1715419800-1715432400@www.gavarres.cat
SUMMARY:Artesania de la terra: taller de motlles
DESCRIPTION:Aquest mes us proposem endinsar-vos al món dels terrissers! \nDissabte 11 de maig us convidem a venir a un taller de motlles per a famílies. Aprendrem a reproduir peces de ceràmica tantes vegades com vulguem a partir de motlles de guix. \nHorari: de 10.30h a 14.00h \nPreu: gratuït \nPunt de trobada:\nMuseu de la Terrissa de Quart\nCarrer del Tren\, 58 – 17242 Quart \nInscripcions:\n– A través del formulari que trobareu al final de la pàgina\n– Enviant un correu a amarin@gavarres.cat
URL:https://www.gavarres.cat/event/artesania-de-la-terra-11/
LOCATION:Museu de la Terrissa de Quart\, Carrer Tren\, 58\, Quart\, Girona\, 17242\, Espanya
CATEGORIES:Activitat familiar
ATTACH;FMTTYPE=image/jpeg:https://www.gavarres.cat/wp-content/uploads/2024/04/TERRISSA_DINA3_BR.jpg
END:VEVENT
END:VCALENDAR