BEGIN:VCALENDAR
VERSION:2.0
PRODID:-//Consorci de les Gavarres - ECPv6.15.20//NONSGML v1.0//EN
CALSCALE:GREGORIAN
METHOD:PUBLISH
X-ORIGINAL-URL:https://www.gavarres.cat
X-WR-CALDESC:Esdeveniments per Consorci de les Gavarres
REFRESH-INTERVAL;VALUE=DURATION:PT1H
X-Robots-Tag:noindex
X-PUBLISHED-TTL:PT1H
BEGIN:VTIMEZONE
TZID:Europe/Madrid
BEGIN:DAYLIGHT
TZOFFSETFROM:+0100
TZOFFSETTO:+0200
TZNAME:CEST
DTSTART:20230326T010000
END:DAYLIGHT
BEGIN:STANDARD
TZOFFSETFROM:+0200
TZOFFSETTO:+0100
TZNAME:CET
DTSTART:20231029T010000
END:STANDARD
BEGIN:DAYLIGHT
TZOFFSETFROM:+0100
TZOFFSETTO:+0200
TZNAME:CEST
DTSTART:20240331T010000
END:DAYLIGHT
BEGIN:STANDARD
TZOFFSETFROM:+0200
TZOFFSETTO:+0100
TZNAME:CET
DTSTART:20241027T010000
END:STANDARD
BEGIN:DAYLIGHT
TZOFFSETFROM:+0100
TZOFFSETTO:+0200
TZNAME:CEST
DTSTART:20250330T010000
END:DAYLIGHT
BEGIN:STANDARD
TZOFFSETFROM:+0200
TZOFFSETTO:+0100
TZNAME:CET
DTSTART:20251026T010000
END:STANDARD
END:VTIMEZONE
BEGIN:VEVENT
DTSTART;TZID=Europe/Madrid:20240501T060000
DTEND;TZID=Europe/Madrid:20240505T113000
DTSTAMP:20260420T105702
CREATED:20240411T090814Z
LAST-MODIFIED:20240411T103514Z
UID:1662-1714543200-1714908600@www.gavarres.cat
SUMMARY:The Traka
DESCRIPTION:De l’1 al 5 de maig a Girona s’impulsa La Traka\, un conjunt de 5 curses per recórrer amb bicicleta la província de Girona. Els 5 recorreguts són de 50km\, 100km\, 200km\, 365km i 560km\, tots de modalitat gravel. Podeu consultar el programa al següent enllaç: https://www.thetraka.com/es/program-the-traka/. \nEl punt de sortida i arribada dels 5 recorreguts és al pavelló municipal de Girona-Fontajau. L’esdeveniment l’organitza “Klassmark bike” i “Gravel Earth Series”. \nMés informació a la web de The Traka\, https://www.thetraka.com/es/ \n 
URL:https://www.gavarres.cat/event/the-traka/
LOCATION:Girona
CATEGORIES:Cursa ciclista modalitat gravel
END:VEVENT
BEGIN:VEVENT
DTSTART;TZID=Europe/Madrid:20240501T070000
DTEND;TZID=Europe/Madrid:20240501T160000
DTSTAMP:20260420T105702
CREATED:20240409T105805Z
LAST-MODIFIED:20240429T091225Z
UID:1653-1714546800-1714579200@www.gavarres.cat
SUMMARY:Marxa del Pinxo i el Panxo
DESCRIPTION:Amb aquest nom tan popular la Colla Excursionista Cassanenca organitza pel proper 1 de maig una cursa o marxa -el format es pot triar- on els avituallaments seran en forma de pinxos de fruita. La recaptació serà per finançar el seu equip de la oncotrail. Punt de sortida: els Bombers de Cassà de la Selva. Per més informació us adjuntem l’enllaç a runedia.
URL:https://www.gavarres.cat/event/marxa-del-pinxo-i-el-panxo/
LOCATION:Girona
CATEGORIES:Caminada Popular
ATTACH;FMTTYPE=image/jpeg:https://www.gavarres.cat/wp-content/uploads/2024/04/Pinxo_Panxo.jpeg
END:VEVENT
END:VCALENDAR