BEGIN:VCALENDAR
VERSION:2.0
PRODID:-//Consorci de les Gavarres - ECPv6.15.20//NONSGML v1.0//EN
CALSCALE:GREGORIAN
METHOD:PUBLISH
X-WR-CALNAME:Consorci de les Gavarres
X-ORIGINAL-URL:https://www.gavarres.cat
X-WR-CALDESC:Esdeveniments per Consorci de les Gavarres
REFRESH-INTERVAL;VALUE=DURATION:PT1H
X-Robots-Tag:noindex
X-PUBLISHED-TTL:PT1H
BEGIN:VTIMEZONE
TZID:Europe/Madrid
BEGIN:DAYLIGHT
TZOFFSETFROM:+0100
TZOFFSETTO:+0200
TZNAME:CEST
DTSTART:20230326T010000
END:DAYLIGHT
BEGIN:STANDARD
TZOFFSETFROM:+0200
TZOFFSETTO:+0100
TZNAME:CET
DTSTART:20231029T010000
END:STANDARD
BEGIN:DAYLIGHT
TZOFFSETFROM:+0100
TZOFFSETTO:+0200
TZNAME:CEST
DTSTART:20240331T010000
END:DAYLIGHT
BEGIN:STANDARD
TZOFFSETFROM:+0200
TZOFFSETTO:+0100
TZNAME:CET
DTSTART:20241027T010000
END:STANDARD
BEGIN:DAYLIGHT
TZOFFSETFROM:+0100
TZOFFSETTO:+0200
TZNAME:CEST
DTSTART:20250330T010000
END:DAYLIGHT
BEGIN:STANDARD
TZOFFSETFROM:+0200
TZOFFSETTO:+0100
TZNAME:CET
DTSTART:20251026T010000
END:STANDARD
END:VTIMEZONE
BEGIN:VEVENT
DTSTART;TZID=Europe/Madrid:20240421T083000
DTEND;TZID=Europe/Madrid:20240421T130000
DTSTAMP:20260420T121432
CREATED:20240408T082133Z
LAST-MODIFIED:20240409T105436Z
UID:1655-1713688200-1713704400@www.gavarres.cat
SUMMARY:Taller: la caricatura del cant dels ocells
DESCRIPTION:El proper diumenge 21 d’abril us proposem una activitat dedicada en exclusiva al cant dels ocells. Si quan passegeu pel bosc sou dels que a més de mirar-lo l’escolteu aquesta activitat és per vosaltres. El punt de trobada és l’Escola Empordanet de La Bisbal a les 9:30h. \nL’activitat dirigida per en Pere Alzina constarà de tres parts: la primera “la caricatura del cant dels ocells” on es farà una descripció detallada del cant i posterior dibuix amb participació col·lectiva; la segona part constarà d’una mostra de materials científics\, pedagògics\, literaris i lúdics que tenim a l’abast per començar o millorar en el món dels cants; a l’última part es farà una passejada per posar en pràctica els coneixements adquirits i practicar la identificació auditiva dels cants més comuns dels ocells del nostre entorn tot dibuixant-los. \nL’activitat és gratuïta però cal apuntar-se al formulari adjunt. Porteu calçat i roba còmode així com prismàtics i el menjar i beure que considereu. \n(Imatge:@carlosfrias)
URL:https://www.gavarres.cat/event/taller-la-caricatura-del-cant-dels-ocells/
LOCATION:Girona
CATEGORIES:Activitat familiar,Taller
ATTACH;FMTTYPE=image/jpeg:https://www.gavarres.cat/wp-content/uploads/2024/04/ocellet.jpeg
ORGANIZER;CN="Consorci de les Gavarres":MAILTO:mpiferrer@gavarres.cat
END:VEVENT
BEGIN:VEVENT
DTSTART;TZID=Europe/Madrid:20240421T090000
DTEND;TZID=Europe/Madrid:20240421T140000
DTSTAMP:20260420T121432
CREATED:20240410T073141Z
LAST-MODIFIED:20240410T073538Z
UID:1646-1713690000-1713708000@www.gavarres.cat
SUMMARY:Caminada Popular a Cruïlles
DESCRIPTION:El diumenge 21 d’abril l’AFA de l’Escola Les Gavarres de Cruïlles organitza una caminada popular des de la mateixa escola cap al molí d’en Frigola. Serà una ruta circular de 4\,2 km. Les inscripcions es gestionen a través d’aquest formulari de google i estaran obertes fins el dia 10 d’abril. \nEl punt de sortida és davant de l’Escola les Gavarres. De les 10h a les 10.20h hi haurà recollida de dorsals i es sortirà a les 10.30h durant el recorregut hi haurà activitats i espais de descoberta de l’entorn.
URL:https://www.gavarres.cat/event/caminada-popular-a-cruilles/
LOCATION:Girona
CATEGORIES:Activitat familiar,Caminada Popular
ATTACH;FMTTYPE=image/jpeg:https://www.gavarres.cat/wp-content/uploads/2024/04/CARTELL-CAMINADA-POPULAR-VF-PDF-ENLLAC_page-0001.jpg
END:VEVENT
END:VCALENDAR