BEGIN:VCALENDAR
VERSION:2.0
PRODID:-//Consorci de les Gavarres - ECPv6.15.20//NONSGML v1.0//EN
CALSCALE:GREGORIAN
METHOD:PUBLISH
X-WR-CALNAME:Consorci de les Gavarres
X-ORIGINAL-URL:https://www.gavarres.cat
X-WR-CALDESC:Esdeveniments per Consorci de les Gavarres
REFRESH-INTERVAL;VALUE=DURATION:PT1H
X-Robots-Tag:noindex
X-PUBLISHED-TTL:PT1H
BEGIN:VTIMEZONE
TZID:Europe/Madrid
BEGIN:DAYLIGHT
TZOFFSETFROM:+0100
TZOFFSETTO:+0200
TZNAME:CEST
DTSTART:20230326T010000
END:DAYLIGHT
BEGIN:STANDARD
TZOFFSETFROM:+0200
TZOFFSETTO:+0100
TZNAME:CET
DTSTART:20231029T010000
END:STANDARD
BEGIN:DAYLIGHT
TZOFFSETFROM:+0100
TZOFFSETTO:+0200
TZNAME:CEST
DTSTART:20240331T010000
END:DAYLIGHT
BEGIN:STANDARD
TZOFFSETFROM:+0200
TZOFFSETTO:+0100
TZNAME:CET
DTSTART:20241027T010000
END:STANDARD
BEGIN:DAYLIGHT
TZOFFSETFROM:+0100
TZOFFSETTO:+0200
TZNAME:CEST
DTSTART:20250330T010000
END:DAYLIGHT
BEGIN:STANDARD
TZOFFSETFROM:+0200
TZOFFSETTO:+0100
TZNAME:CET
DTSTART:20251026T010000
END:STANDARD
END:VTIMEZONE
BEGIN:VEVENT
DTSTART;TZID=Europe/Madrid:20240414T070000
DTEND;TZID=Europe/Madrid:20240414T130000
DTSTAMP:20260420T121429
CREATED:20240405T082112Z
LAST-MODIFIED:20240405T095755Z
UID:1640-1713078000-1713099600@www.gavarres.cat
SUMMARY:Marxa Popular de Vall-llobrega
DESCRIPTION:El diumenge 14 d’abril tindrà lloc a Vall-llobrega la 32ena MaPVall. Organitzada per l’Ajuntament de Vall-llobrega. \nEl punt de trobada és a les 8h del matí a l’Espai Polivalent de Vall-llobrega. Es podrà escollir entre dos recorreguts de 8km o 16km. Inscripcions: 8 €/anticipades (https://www.running.cat/esdeveniments)\, 10 €/al mateix dia. \nMés informació a la web de l’Ajuntament\, feu click aquí.
URL:https://www.gavarres.cat/event/marxa-de-vall-llobrega/
LOCATION:Girona
CATEGORIES:Caminada Popular
ATTACH;FMTTYPE=image/webp:https://www.gavarres.cat/wp-content/uploads/2024/04/mapvall2024-74366772.webp
END:VEVENT
END:VCALENDAR