BEGIN:VCALENDAR
VERSION:2.0
PRODID:-//Consorci de les Gavarres - ECPv6.15.20//NONSGML v1.0//EN
CALSCALE:GREGORIAN
METHOD:PUBLISH
X-WR-CALNAME:Consorci de les Gavarres
X-ORIGINAL-URL:https://www.gavarres.cat
X-WR-CALDESC:Esdeveniments per Consorci de les Gavarres
REFRESH-INTERVAL;VALUE=DURATION:PT1H
X-Robots-Tag:noindex
X-PUBLISHED-TTL:PT1H
BEGIN:VTIMEZONE
TZID:Europe/Madrid
BEGIN:DAYLIGHT
TZOFFSETFROM:+0100
TZOFFSETTO:+0200
TZNAME:CEST
DTSTART:20230326T010000
END:DAYLIGHT
BEGIN:STANDARD
TZOFFSETFROM:+0200
TZOFFSETTO:+0100
TZNAME:CET
DTSTART:20231029T010000
END:STANDARD
BEGIN:DAYLIGHT
TZOFFSETFROM:+0100
TZOFFSETTO:+0200
TZNAME:CEST
DTSTART:20240331T010000
END:DAYLIGHT
BEGIN:STANDARD
TZOFFSETFROM:+0200
TZOFFSETTO:+0100
TZNAME:CET
DTSTART:20241027T010000
END:STANDARD
BEGIN:DAYLIGHT
TZOFFSETFROM:+0100
TZOFFSETTO:+0200
TZNAME:CEST
DTSTART:20250330T010000
END:DAYLIGHT
BEGIN:STANDARD
TZOFFSETFROM:+0200
TZOFFSETTO:+0100
TZNAME:CET
DTSTART:20251026T010000
END:STANDARD
END:VTIMEZONE
BEGIN:VEVENT
DTSTART;TZID=Europe/Madrid:20240411T160000
DTEND;TZID=Europe/Madrid:20240411T170000
DTSTAMP:20260420T121429
CREATED:20240318T112641Z
LAST-MODIFIED:20240328T095415Z
UID:1599-1712851200-1712854800@www.gavarres.cat
SUMMARY:Llegendes de les Gavarres 11/04
DESCRIPTION:Amb el mateix format que una “hora del conte” us proposem una llegenda de les Gavarres sobre un drac que va viure a les Gavarres fa molts i molts anys; si la voleu conèixer haureu de venir el dijous 11 d’abril a les 17h a la Biblioteca Miquel Pairolí de Quart on hi ha el Centre de Documentació del Consorci de les Gavarres.  \nL’activitat anirà a càrrec del contacontes David Planas i és gratuïta\, però cal inscriure’s al formulari. Hi col·labora l’Ajuntament de Quart.
URL:https://www.gavarres.cat/event/llegendes-de-les-gavarres-11-04/
LOCATION:Biblioteca Miquel Pairolí\, Carrer del Tren\, 49\, Quart\, Girona\, Espanya
CATEGORIES:Activitat familiar
ATTACH;FMTTYPE=image/jpeg:https://www.gavarres.cat/wp-content/uploads/2024/03/Llegendes-de-les-gavarres.jpg
ORGANIZER;CN="Consorci de les Gavarres":MAILTO:mpiferrer@gavarres.cat
END:VEVENT
END:VCALENDAR