BEGIN:VCALENDAR
VERSION:2.0
PRODID:-//Consorci de les Gavarres - ECPv6.15.20//NONSGML v1.0//EN
CALSCALE:GREGORIAN
METHOD:PUBLISH
X-WR-CALNAME:Consorci de les Gavarres
X-ORIGINAL-URL:https://www.gavarres.cat
X-WR-CALDESC:Esdeveniments per Consorci de les Gavarres
REFRESH-INTERVAL;VALUE=DURATION:PT1H
X-Robots-Tag:noindex
X-PUBLISHED-TTL:PT1H
BEGIN:VTIMEZONE
TZID:Europe/Madrid
BEGIN:DAYLIGHT
TZOFFSETFROM:+0100
TZOFFSETTO:+0200
TZNAME:CEST
DTSTART:20220327T010000
END:DAYLIGHT
BEGIN:STANDARD
TZOFFSETFROM:+0200
TZOFFSETTO:+0100
TZNAME:CET
DTSTART:20221030T010000
END:STANDARD
BEGIN:DAYLIGHT
TZOFFSETFROM:+0100
TZOFFSETTO:+0200
TZNAME:CEST
DTSTART:20230326T010000
END:DAYLIGHT
BEGIN:STANDARD
TZOFFSETFROM:+0200
TZOFFSETTO:+0100
TZNAME:CET
DTSTART:20231029T010000
END:STANDARD
BEGIN:DAYLIGHT
TZOFFSETFROM:+0100
TZOFFSETTO:+0200
TZNAME:CEST
DTSTART:20240331T010000
END:DAYLIGHT
BEGIN:STANDARD
TZOFFSETFROM:+0200
TZOFFSETTO:+0100
TZNAME:CET
DTSTART:20241027T010000
END:STANDARD
END:VTIMEZONE
BEGIN:VEVENT
DTSTART;TZID=Europe/Madrid:20230805T170000
DTEND;TZID=Europe/Madrid:20230805T190000
DTSTAMP:20260421T000330
CREATED:20230725T102621Z
LAST-MODIFIED:20231017T090610Z
UID:527-1691254800-1691262000@www.gavarres.cat
SUMMARY:Descoberta del patrimoni: un passeig entre dòlmens
DESCRIPTION:No us perdeu el passeig entre dòlmens organitzat per l’Ajuntament de Santa Cristina d’Aro. \nEs farà una visita guiada amb la que es descobriran els elements prehistòrics del paratge del Romanyà de la Selva: la cista de la carretera de Calonge\, Pedres Grosses\, el Menhir de la Murtra\, l’abric d’en Cama i el dolmen de la Cova d’en Daina. \nInformació adicional\nEl passeig durarà 2 hores\, serà circular per camins de fàcil accés. Entre 2 i 2’5 km. Cal anar ben calçat. \nEl lloc de trobada serà l’aparcament de la cova d’en Daina. \nA partir de 12 anys. \nEs poden aconseguir les entrades en aquest enllaç.
URL:https://www.gavarres.cat/event/descoberta-del-patrimoni-un-passeig-entre-dolmens/
LOCATION:Can Roig\, Carrer Lleó I\, 2\, Llagostera\, Girona\, 17240\, Espanya
ATTACH;FMTTYPE=image/jpeg:https://www.gavarres.cat/wp-content/uploads/2023/07/126-eventos-descoberta-del-patrimoni-un.jpeg
ORGANIZER;CN="Organitzacor TEST":MAILTO:test@test.com
END:VEVENT
END:VCALENDAR