BEGIN:VCALENDAR
VERSION:2.0
PRODID:-//Consorci de les Gavarres - ECPv6.15.20//NONSGML v1.0//EN
CALSCALE:GREGORIAN
METHOD:PUBLISH
X-WR-CALNAME:Consorci de les Gavarres
X-ORIGINAL-URL:https://www.gavarres.cat
X-WR-CALDESC:Esdeveniments per Consorci de les Gavarres
REFRESH-INTERVAL;VALUE=DURATION:PT1H
X-Robots-Tag:noindex
X-PUBLISHED-TTL:PT1H
BEGIN:VTIMEZONE
TZID:Europe/Madrid
BEGIN:DAYLIGHT
TZOFFSETFROM:+0100
TZOFFSETTO:+0200
TZNAME:CEST
DTSTART:20220327T010000
END:DAYLIGHT
BEGIN:STANDARD
TZOFFSETFROM:+0200
TZOFFSETTO:+0100
TZNAME:CET
DTSTART:20221030T010000
END:STANDARD
BEGIN:DAYLIGHT
TZOFFSETFROM:+0100
TZOFFSETTO:+0200
TZNAME:CEST
DTSTART:20230326T010000
END:DAYLIGHT
BEGIN:STANDARD
TZOFFSETFROM:+0200
TZOFFSETTO:+0100
TZNAME:CET
DTSTART:20231029T010000
END:STANDARD
BEGIN:DAYLIGHT
TZOFFSETFROM:+0100
TZOFFSETTO:+0200
TZNAME:CEST
DTSTART:20240331T010000
END:DAYLIGHT
BEGIN:STANDARD
TZOFFSETFROM:+0200
TZOFFSETTO:+0100
TZNAME:CET
DTSTART:20241027T010000
END:STANDARD
END:VTIMEZONE
BEGIN:VEVENT
DTSTART;TZID=Europe/Madrid:20230729T180000
DTEND;TZID=Europe/Madrid:20230729T180000
DTSTAMP:20260421T014152
CREATED:20230725T102421Z
LAST-MODIFIED:20230725T102421Z
UID:523-1690653600-1690653600@www.gavarres.cat
SUMMARY:Els ratpenats de les Gavarres 29/07
DESCRIPTION:El proper dissabte 29 de juliol us proposem la realització d’una Batnight que consistirà en tres activitats: \n– 19:00h Taller de màscares per els més petits amb sorteig de caixes niu per a ratpenats.\n– 20:00h Xerrada per conèixer el grup dels ratpenats i les seves particularitats. \n– 21:00h Descans per sopar una mica\n– 21:30h Passejada urbana nocturna per tal d’observar l’activitat dels ratpenats mitjançant l’ús de detectors d’ultrasons. \nUs hi esperem! \nInformació adicional\nCal que cada participant porti el seu sopar i un frontal o llanterna per la passejada nocturna. \nEl lloc de trobada és a can Roig a les 19.00h. \nLa inscripció és obligatòria. Trobareu al formulari al lateral.
URL:https://www.gavarres.cat/event/els-ratpenats-de-les-gavarres-29-07/
LOCATION:Can Roig\, Carrer Lleó I\, 2\, Llagostera\, Girona\, 17240\, Espanya
ATTACH;FMTTYPE=image/jpeg:https://www.gavarres.cat/wp-content/uploads/2023/07/124-eventos-els-ratpenats-de-les-gavarre.jpg
END:VEVENT
END:VCALENDAR